Index of /checkResults/3.18/bioc-LATEST/interactiveDisplayBase/raw-results/palomino4

[ICO]NameLast modifiedSizeDescription

[DIR]Parent Directory  -  
[TXT]buildbin-out.txt18-Apr-2024 00:36 1.2K 
[   ]buildbin-summary.dcf18-Apr-2024 00:36 604  
[TXT]buildsrc-out.txt18-Apr-2024 00:36 914  
[   ]buildsrc-summary.dcf18-Apr-2024 00:36 511  
[TXT]checksrc-out.txt18-Apr-2024 00:36 3.1K 
[   ]checksrc-summary.dcf18-Apr-2024 00:36 506  
[TXT]install-out.txt18-Apr-2024 00:36 1.0K 
[   ]install-summary.dcf18-Apr-2024 00:36 297