Index of /checkResults/3.18/bioc-LATEST/interactiveDisplayBase/raw-results/merida1

[ICO]NameLast modifiedSizeDescription

[DIR]Parent Directory  -  
[TXT]buildbin-out.txt18-Apr-2024 00:37 1.3K 
[   ]buildbin-summary.dcf18-Apr-2024 00:37 620  
[TXT]buildsrc-out.txt18-Apr-2024 00:37 876  
[   ]buildsrc-summary.dcf18-Apr-2024 00:37 472  
[TXT]checksrc-out.txt18-Apr-2024 00:37 3.2K 
[   ]checksrc-summary.dcf18-Apr-2024 00:37 503  
[TXT]install-out.txt18-Apr-2024 00:37 1.0K 
[   ]install-summary.dcf18-Apr-2024 00:37 298