Index of /checkResults/3.18/bioc-LATEST/fastLiquidAssociation/raw-results/lconway

[ICO]NameLast modifiedSizeDescription

[DIR]Parent Directory  -  
[TXT]buildbin-out.txt05-Mar-2024 01:37 1.3K 
[   ]buildbin-summary.dcf05-Mar-2024 01:37 614  
[TXT]buildsrc-out.txt05-Mar-2024 01:37 935  
[   ]buildsrc-summary.dcf05-Mar-2024 01:37 470  
[TXT]checksrc-out.txt05-Mar-2024 01:37 3.9K 
[   ]checksrc-summary.dcf05-Mar-2024 01:37 506  
[TXT]install-out.txt05-Mar-2024 01:37 1.0K 
[   ]install-summary.dcf05-Mar-2024 01:37 297