Index of /checkResults/3.18/bioc-LATEST/fastLiquidAssociation/raw-results/kunpeng2

[ICO]NameLast modifiedSizeDescription

[DIR]Parent Directory  -  
[TXT]buildsrc-out.txt03-Nov-2023 00:40 919  
[   ]buildsrc-summary.dcf03-Nov-2023 00:40 451  
[TXT]checksrc-out.txt03-Nov-2023 00:40 3.9K 
[   ]checksrc-summary.dcf03-Nov-2023 00:40 479  
[TXT]install-out.txt03-Nov-2023 00:40 1.0K 
[   ]install-summary.dcf03-Nov-2023 00:40 281