Index of /checkResults/3.18/bioc-LATEST/factR/raw-results/nebbiolo2

[ICO]NameLast modifiedSizeDescription

[DIR]Parent Directory  -  
[TXT]buildsrc-out.txt18-Apr-2024 00:35 860  
[   ]buildsrc-summary.dcf18-Apr-2024 00:35 410  
[TXT]checksrc-out.txt18-Apr-2024 00:35 3.5K 
[   ]checksrc-summary.dcf18-Apr-2024 00:35 404  
[TXT]install-out.txt18-Apr-2024 00:35 1.0K 
[   ]install-summary.dcf18-Apr-2024 00:35 253