Index of /checkResults/3.18/bioc-LATEST/factR/raw-results/merida1

[ICO]NameLast modifiedSizeDescription

[DIR]Parent Directory  -  
[TXT]buildbin-out.txt18-Apr-2024 00:37 1.2K 
[   ]buildbin-summary.dcf18-Apr-2024 00:37 515  
[TXT]buildsrc-out.txt18-Apr-2024 00:37 870  
[   ]buildsrc-summary.dcf18-Apr-2024 00:37 420  
[TXT]checksrc-out.txt18-Apr-2024 00:37 3.5K 
[   ]checksrc-summary.dcf18-Apr-2024 00:37 434  
[TXT]install-out.txt18-Apr-2024 00:37 1.0K 
[   ]install-summary.dcf18-Apr-2024 00:37 264