Index of /checkResults/3.18/bioc-LATEST/demuxSNP/raw-results/palomino4

[ICO]NameLast modifiedSizeDescription

[DIR]Parent Directory  -  
[TXT]buildbin-out.txt18-Apr-2024 00:36 1.1K 
[   ]buildbin-summary.dcf18-Apr-2024 00:36 517  
[TXT]buildsrc-out.txt18-Apr-2024 00:36 903  
[   ]buildsrc-summary.dcf18-Apr-2024 00:36 455  
[TXT]checksrc-out.txt18-Apr-2024 00:36 3.4K 
[   ]checksrc-summary.dcf18-Apr-2024 00:36 449  
[TXT]install-out.txt18-Apr-2024 00:36 1.0K 
[   ]install-summary.dcf18-Apr-2024 00:36 269