Index of /checkResults/3.18/bioc-LATEST/demuxSNP/raw-results/merida1

[ICO]NameLast modifiedSizeDescription

[DIR]Parent Directory  -  
[TXT]buildbin-out.txt18-Apr-2024 00:37 1.2K 
[   ]buildbin-summary.dcf18-Apr-2024 00:37 534  
[TXT]buildsrc-out.txt18-Apr-2024 00:37 882  
[   ]buildsrc-summary.dcf18-Apr-2024 00:37 429  
[TXT]checksrc-out.txt18-Apr-2024 00:37 3.5K 
[   ]checksrc-summary.dcf18-Apr-2024 00:37 446  
[TXT]install-out.txt18-Apr-2024 00:37 1.0K 
[   ]install-summary.dcf18-Apr-2024 00:37 270