Index of /checkResults/3.18/bioc-LATEST/cfdnakit/raw-results/nebbiolo2

[ICO]NameLast modifiedSizeDescription

[DIR]Parent Directory  -  
[TXT]buildsrc-out.txt18-Apr-2024 00:35 881  
[   ]buildsrc-summary.dcf18-Apr-2024 00:35 418  
[TXT]checksrc-out.txt18-Apr-2024 00:35 3.6K 
[   ]checksrc-summary.dcf18-Apr-2024 00:35 416  
[TXT]install-out.txt18-Apr-2024 00:35 955  
[   ]install-summary.dcf18-Apr-2024 00:35 260