Index of /checkResults/3.18/bioc-LATEST/cfdnakit/raw-results/kunpeng2

[ICO]NameLast modifiedSizeDescription

[DIR]Parent Directory  -  
[TXT]buildsrc-out.txt03-Nov-2023 00:40 875  
[   ]buildsrc-summary.dcf03-Nov-2023 00:40 412  
[TXT]checksrc-out.txt03-Nov-2023 00:40 3.6K 
[   ]checksrc-summary.dcf03-Nov-2023 00:40 419  
[TXT]install-out.txt03-Nov-2023 00:40 943  
[   ]install-summary.dcf03-Nov-2023 00:40 254