Index of /checkResults/3.18/bioc-LATEST/biscuiteer/raw-results/palomino4

[ICO]NameLast modifiedSizeDescription

[DIR]Parent Directory  -  
[TXT]buildbin-out.txt18-Apr-2024 00:36 1.4K 
[   ]buildbin-summary.dcf18-Apr-2024 00:36 531  
[TXT]buildsrc-out.txt18-Apr-2024 00:36 914  
[   ]buildsrc-summary.dcf18-Apr-2024 00:36 465  
[TXT]checksrc-out.txt18-Apr-2024 00:36 4.3K 
[   ]checksrc-summary.dcf18-Apr-2024 00:36 465  
[TXT]install-out.txt18-Apr-2024 00:36 1.3K 
[   ]install-summary.dcf18-Apr-2024 00:36 274