Index of /checkResults/3.18/bioc-LATEST/biscuiteer/raw-results/nebbiolo2

[ICO]NameLast modifiedSizeDescription

[DIR]Parent Directory  -  
[TXT]buildsrc-out.txt18-Apr-2024 00:35 881  
[   ]buildsrc-summary.dcf18-Apr-2024 00:35 427  
[TXT]checksrc-out.txt18-Apr-2024 00:35 4.4K 
[   ]checksrc-summary.dcf18-Apr-2024 00:35 432  
[TXT]install-out.txt18-Apr-2024 00:35 1.3K 
[   ]install-summary.dcf18-Apr-2024 00:35 265