Index of /checkResults/3.18/bioc-LATEST/SiPSiC/raw-results/nebbiolo2

[ICO]NameLast modifiedSizeDescription

[DIR]Parent Directory  -  
[TXT]buildsrc-out.txt18-Apr-2024 00:36 833  
[   ]buildsrc-summary.dcf18-Apr-2024 00:36 412  
[TXT]checksrc-out.txt18-Apr-2024 00:36 3.1K 
[   ]checksrc-summary.dcf18-Apr-2024 00:36 408  
[TXT]install-out.txt18-Apr-2024 00:36 941  
[   ]install-summary.dcf18-Apr-2024 00:36 256