Back to Multiple platform build/check report for BioC 3.18:   simplified   long
ABCDEFGHIJKLMNOPQR[S]TUVWXYZ

This page was generated on 2024-04-17 11:37:18 -0400 (Wed, 17 Apr 2024).

HostnameOSArch (*)R versionInstalled pkgs
nebbiolo2Linux (Ubuntu 22.04.3 LTS)x86_644.3.3 (2024-02-29) -- "Angel Food Cake" 4676
palomino4Windows Server 2022 Datacenterx644.3.3 (2024-02-29 ucrt) -- "Angel Food Cake" 4414
merida1macOS 12.7.1 Montereyx86_644.3.3 (2024-02-29) -- "Angel Food Cake" 4437
Click on any hostname to see more info about the system (e.g. compilers)      (*) as reported by 'uname -p', except on Windows and Mac OS X

Package 1926/2266HostnameOS / ArchINSTALLBUILDCHECKBUILD BIN
SeqGate 1.12.0  (landing page)
St├ęphanie Rialle
Snapshot Date: 2024-04-15 14:05:01 -0400 (Mon, 15 Apr 2024)
git_url: https://git.bioconductor.org/packages/SeqGate
git_branch: RELEASE_3_18
git_last_commit: 6332aeb
git_last_commit_date: 2023-10-24 11:25:57 -0400 (Tue, 24 Oct 2023)
nebbiolo2Linux (Ubuntu 22.04.3 LTS) / x86_64  OK    OK    OK  UNNEEDED, same version is already published
palomino4Windows Server 2022 Datacenter / x64  OK    OK    OK    OK  UNNEEDED, same version is already published
merida1macOS 12.7.1 Monterey / x86_64  OK    OK    OK    OK  UNNEEDED, same version is already published
kjohnson1macOS 13.6.1 Ventura / arm64see weekly results here

BUILD results for SeqGate on palomino4


To the developers/maintainers of the SeqGate package:
- Allow up to 24 hours (and sometimes 48 hours) for your latest push to git@git.bioconductor.org:packages/SeqGate.git to reflect on this report. See Troubleshooting Build Report for more information.
- Use the following Renviron settings to reproduce errors and warnings.
- If 'R CMD check' started to fail recently on the Linux builder(s) over a missing dependency, add the missing dependency to 'Suggests:' in your DESCRIPTION file. See Renviron.bioc for more information.

raw results


Summary

Package: SeqGate
Version: 1.12.0
Command: chmod a+r SeqGate -R && F:\biocbuild\bbs-3.18-bioc\R\bin\R.exe CMD build --keep-empty-dirs --no-resave-data SeqGate
StartedAt: 2024-04-15 21:07:17 -0400 (Mon, 15 Apr 2024)
EndedAt: 2024-04-15 21:08:21 -0400 (Mon, 15 Apr 2024)
EllapsedTime: 64.1 seconds
RetCode: 0
Status:   OK  
PackageFile: SeqGate_1.12.0.tar.gz
PackageFileSize: 248.7 KiB

Command output

##############################################################################
##############################################################################
###
### Running command:
###
###   chmod a+r SeqGate -R && F:\biocbuild\bbs-3.18-bioc\R\bin\R.exe CMD build --keep-empty-dirs --no-resave-data SeqGate
###
##############################################################################
##############################################################################


* checking for file 'SeqGate/DESCRIPTION' ... OK
* preparing 'SeqGate':
* checking DESCRIPTION meta-information ... OK
* installing the package to process help pages
* saving partial Rd database
* creating vignettes ... OK
* checking for LF line-endings in source and make files and shell scripts
* checking for empty or unneeded directories
* looking to see if a 'data/datalist' file should be added
* building 'SeqGate_1.12.0.tar.gz'