Index of /checkResults/3.18/bioc-LATEST/SCFA/raw-results/palomino4

[ICO]NameLast modifiedSizeDescription

[DIR]Parent Directory  -  
[TXT]buildbin-out.txt18-Apr-2024 00:37 1.1K 
[   ]buildbin-summary.dcf18-Apr-2024 00:37 497  
[TXT]buildsrc-out.txt18-Apr-2024 00:37 824  
[   ]buildsrc-summary.dcf18-Apr-2024 00:37 441  
[TXT]checksrc-out.txt18-Apr-2024 00:37 3.4K 
[   ]checksrc-summary.dcf18-Apr-2024 00:37 435  
[TXT]install-out.txt18-Apr-2024 00:37 1.0K 
[   ]install-summary.dcf18-Apr-2024 00:37 262