Index of /checkResults/3.18/bioc-LATEST/SCFA/raw-results/merida1

[ICO]NameLast modifiedSizeDescription

[DIR]Parent Directory  -  
[TXT]buildbin-out.txt18-Apr-2024 00:38 1.2K 
[   ]buildbin-summary.dcf18-Apr-2024 00:38 512  
[TXT]buildsrc-out.txt18-Apr-2024 00:38 804  
[   ]buildsrc-summary.dcf18-Apr-2024 00:38 418  
[TXT]checksrc-out.txt18-Apr-2024 00:38 3.4K 
[   ]checksrc-summary.dcf18-Apr-2024 00:38 432  
[TXT]install-out.txt18-Apr-2024 00:38 1.0K 
[   ]install-summary.dcf18-Apr-2024 00:38 263