Index of /checkResults/3.18/bioc-LATEST/SARC/raw-results/palomino4

[ICO]NameLast modifiedSizeDescription

[DIR]Parent Directory  -  
[TXT]buildbin-out.txt18-Apr-2024 00:37 1.0K 
[   ]buildbin-summary.dcf18-Apr-2024 00:37 494  
[TXT]buildsrc-out.txt18-Apr-2024 00:37 883  
[   ]buildsrc-summary.dcf18-Apr-2024 00:37 439  
[TXT]checksrc-out.txt18-Apr-2024 00:37 5.7K 
[   ]checksrc-summary.dcf18-Apr-2024 00:37 433  
[TXT]install-out.txt18-Apr-2024 00:37 962  
[   ]install-summary.dcf18-Apr-2024 00:37 261