Index of /checkResults/3.18/bioc-LATEST/SARC/raw-results/merida1

[ICO]NameLast modifiedSizeDescription

[DIR]Parent Directory  -  
[TXT]buildbin-out.txt18-Apr-2024 00:38 1.1K 
[   ]buildbin-summary.dcf18-Apr-2024 00:38 509  
[TXT]buildsrc-out.txt18-Apr-2024 00:38 866  
[   ]buildsrc-summary.dcf18-Apr-2024 00:38 416  
[TXT]checksrc-out.txt18-Apr-2024 00:38 5.8K 
[   ]checksrc-summary.dcf18-Apr-2024 00:38 430  
[TXT]install-out.txt18-Apr-2024 00:38 1.0K 
[   ]install-summary.dcf18-Apr-2024 00:38 262