Index of /checkResults/3.18/bioc-LATEST/SARC/raw-results/kunpeng2

[ICO]NameLast modifiedSizeDescription

[DIR]Parent Directory  -  
[TXT]buildsrc-out.txt03-Nov-2023 00:41 850  
[   ]buildsrc-summary.dcf03-Nov-2023 00:41 401  
[TXT]checksrc-out.txt03-Nov-2023 00:41 5.8K 
[   ]checksrc-summary.dcf03-Nov-2023 00:41 403  
[TXT]install-out.txt03-Nov-2023 00:41 939  
[   ]install-summary.dcf03-Nov-2023 00:41 246