Back to Multiple platform build/check report for BioC 3.18:   simplified   long
ABCDEFGHIJKL[M]NOPQRSTUVWXYZ

This page was generated on 2024-03-29 11:35:22 -0400 (Fri, 29 Mar 2024).

HostnameOSArch (*)R versionInstalled pkgs
nebbiolo2Linux (Ubuntu 22.04.3 LTS)x86_644.3.3 (2024-02-29) -- "Angel Food Cake" 4669
palomino4Windows Server 2022 Datacenterx644.3.3 (2024-02-29 ucrt) -- "Angel Food Cake" 4404
merida1macOS 12.7.1 Montereyx86_644.3.3 (2024-02-29) -- "Angel Food Cake" 4427
Click on any hostname to see more info about the system (e.g. compilers)      (*) as reported by 'uname -p', except on Windows and Mac OS X

All results for package MultiAssayExperiment


To the developers/maintainers of the MultiAssayExperiment package:
- Allow up to 24 hours (and sometimes 48 hours) for your latest push to git@git.bioconductor.org:packages/MultiAssayExperiment.git to reflect on this report. See Troubleshooting Build Report for more information.
- Use the following Renviron settings to reproduce errors and warnings.
- If 'R CMD check' started to fail recently on the Linux builder(s) over a missing dependency, add the missing dependency to 'Suggests:' in your DESCRIPTION file. See Renviron.bioc for more information.

raw results

Package 1355/2266HostnameOS / ArchINSTALLBUILDCHECKBUILD BIN
MultiAssayExperiment 1.28.0  (landing page)
Marcel Ramos
Snapshot Date: 2024-03-27 14:05:05 -0400 (Wed, 27 Mar 2024)
git_url: https://git.bioconductor.org/packages/MultiAssayExperiment
git_branch: RELEASE_3_18
git_last_commit: 819acdf
git_last_commit_date: 2023-10-24 10:49:00 -0400 (Tue, 24 Oct 2023)
nebbiolo2Linux (Ubuntu 22.04.3 LTS) / x86_64  OK    OK    OK  UNNEEDED, same version is already published
palomino4Windows Server 2022 Datacenter / x64  OK    OK    OK    OK  UNNEEDED, same version is already published
merida1macOS 12.7.1 Monterey / x86_64  OK    OK    OK    OK  UNNEEDED, same version is already published
kjohnson1macOS 13.6.1 Ventura / arm64see weekly results here

Results for Bioconductor software packages that depend directly on package MultiAssayExperiment

QUICK STATSOS / ArchINSTALLBUILDCHECKBUILD BIN
nebbiolo2Linux (Ubuntu 22.04.3 LTS) / x86_64
0050
0446
10639
palomino4Windows Server 2022 Datacenter / x64
0048
0246
00640
0046
merida1macOS 12.7.1 Monterey / x86_64
0050
0446
20638
0046
Package 1/50HostnameOS / ArchINSTALLBUILDCHECKBUILD BIN
AffiXcan 1.20.0  (landing page)
Alessandro Lussana
git_last_commit: 26a1df7
git_last_commit_date: 2023-10-24 11:08:20 -0400
nebbiolo2Linux (Ubuntu 22.04.3 LTS) / x86_64  OK    OK    OK  UNNEEDED, same version is already published
palomino4Windows Server 2022 Datacenter / x64  OK    OK    OK    OK  UNNEEDED, same version is already published
merida1macOS 12.7.1 Monterey / x86_64  OK    OK    OK    OK  UNNEEDED, same version is already published
kjohnson1macOS 13.6.1 Ventura / arm64see weekly results here
Package 2/50HostnameOS / ArchINSTALLBUILDCHECKBUILD BIN
alabaster.mae 1.2.0  (landing page)
Aaron Lun
git_last_commit: 4636dc2
git_last_commit_date: 2023-10-24 11:47:10 -0400
nebbiolo2Linux (Ubuntu 22.04.3 LTS) / x86_64  OK    OK    OK  UNNEEDED, same version is already published
palomino4Windows Server 2022 Datacenter / x64  OK    OK    OK    OK  UNNEEDED, same version is already published
merida1macOS 12.7.1 Monterey / x86_64  OK    OK    OK    OK  UNNEEDED, same version is already published
kjohnson1macOS 13.6.1 Ventura / arm64see weekly results here
Package 3/50HostnameOS / ArchINSTALLBUILDCHECKBUILD BIN
AMARETTO 1.18.0  (landing page)
Olivier Gevaert
git_last_commit: 3b428a9
git_last_commit_date: 2023-10-24 11:12:01 -0400
nebbiolo2Linux (Ubuntu 22.04.3 LTS) / x86_64  OK    OK    TIMEOUT  
palomino4Windows Server 2022 Datacenter / x64  OK    OK    WARNINGS    OK  UNNEEDED, same version is already published
merida1macOS 12.7.1 Monterey / x86_64  OK    OK    WARNINGS    OK  UNNEEDED, same version is already published
kjohnson1macOS 13.6.1 Ventura / arm64see weekly results here
Package 4/50HostnameOS / ArchINSTALLBUILDCHECKBUILD BIN
animalcules 1.18.3  (landing page)
Jessica McClintock
git_last_commit: 8e8e658
git_last_commit_date: 2024-02-02 16:30:32 -0400
nebbiolo2Linux (Ubuntu 22.04.3 LTS) / x86_64  OK    OK    OK  UNNEEDED, same version is already published
palomino4Windows Server 2022 Datacenter / x64  OK    OK    OK    OK  UNNEEDED, same version is already published
merida1macOS 12.7.1 Monterey / x86_64  OK    OK    OK    OK  UNNEEDED, same version is already published
kjohnson1macOS 13.6.1 Ventura / arm64see weekly results here
Package 5/50HostnameOS / ArchINSTALLBUILDCHECKBUILD BIN
autonomics 1.10.2  (landing page)
Aditya Bhagwat
git_last_commit: 230045c
git_last_commit_date: 2023-11-08 04:08:57 -0400
nebbiolo2Linux (Ubuntu 22.04.3 LTS) / x86_64  OK    ERROR  skipped
palomino4Windows Server 2022 Datacenter / x64  OK    OK    OK    OK  UNNEEDED, same version is already published
merida1macOS 12.7.1 Monterey / x86_64  OK    ERROR  skippedskipped
kjohnson1macOS 13.6.1 Ventura / arm64see weekly results here
Package 6/50HostnameOS / ArchINSTALLBUILDCHECKBUILD BIN
biosigner 1.30.0  (landing page)
Etienne A. Thevenot
git_last_commit: 8e7b0e2
git_last_commit_date: 2023-10-24 10:48:11 -0400
nebbiolo2Linux (Ubuntu 22.04.3 LTS) / x86_64  OK    OK    OK  UNNEEDED, same version is already published
palomino4Windows Server 2022 Datacenter / x64  OK    OK    OK    OK  UNNEEDED, same version is already published
merida1macOS 12.7.1 Monterey / x86_64  OK    OK    OK    OK  UNNEEDED, same version is already published
kjohnson1macOS 13.6.1 Ventura / arm64see weekly results here
Package 7/50HostnameOS / ArchINSTALLBUILDCHECKBUILD BIN
CAGEr 2.8.0  (landing page)
Charles Plessy
git_last_commit: 6ad953b
git_last_commit_date: 2023-10-24 09:52:59 -0400
nebbiolo2Linux (Ubuntu 22.04.3 LTS) / x86_64  OK    OK    OK  UNNEEDED, same version is already published
palomino4Windows Server 2022 Datacenter / x64  OK    OK    OK    OK  UNNEEDED, same version is already published
merida1macOS 12.7.1 Monterey / x86_64  OK    OK    OK    OK  UNNEEDED, same version is already published
kjohnson1macOS 13.6.1 Ventura / arm64see weekly results here
Package 8/50HostnameOS / ArchINSTALLBUILDCHECKBUILD BIN
cBioPortalData 2.14.2  (landing page)
Marcel Ramos
git_last_commit: 3d59ad6
git_last_commit_date: 2024-02-02 15:16:38 -0400
nebbiolo2Linux (Ubuntu 22.04.3 LTS) / x86_64  OK    OK    OK  UNNEEDED, same version is already published
palomino4Windows Server 2022 Datacenter / x64  OK    OK    OK    OK  UNNEEDED, same version is already published
merida1macOS 12.7.1 Monterey / x86_64  OK    OK    OK    OK  UNNEEDED, same version is already published
kjohnson1macOS 13.6.1 Ventura / arm64see weekly results here
Package 9/50HostnameOS / ArchINSTALLBUILDCHECKBUILD BIN
ClassifyR 3.6.5  (landing page)
Dario Strbenac
git_last_commit: 8533331
git_last_commit_date: 2024-02-29 19:13:19 -0400
nebbiolo2Linux (Ubuntu 22.04.3 LTS) / x86_64  OK    OK    WARNINGS  UNNEEDED, same version is already published
palomino4Windows Server 2022 Datacenter / x64  OK    OK    WARNINGS    OK  UNNEEDED, same version is already published
merida1macOS 12.7.1 Monterey / x86_64  OK    OK    TIMEOUT    OK  
kjohnson1macOS 13.6.1 Ventura / arm64see weekly results here
Package 10/50HostnameOS / ArchINSTALLBUILDCHECKBUILD BIN
CoreGx 2.6.1  (landing page)
Benjamin Haibe-Kains
git_last_commit: a9b3365
git_last_commit_date: 2024-03-11 16:26:11 -0400
nebbiolo2Linux (Ubuntu 22.04.3 LTS) / x86_64  OK    OK    WARNINGS  UNNEEDED, same version is already published
palomino4Windows Server 2022 Datacenter / x64  OK    OK    WARNINGS    OK  UNNEEDED, same version is already published
merida1macOS 12.7.1 Monterey / x86_64  OK    OK    WARNINGS    OK  UNNEEDED, same version is already published
kjohnson1macOS 13.6.1 Ventura / arm64see weekly results here
Package 11/50HostnameOS / ArchINSTALLBUILDCHECKBUILD BIN
corral 1.12.0  (landing page)
Lauren Hsu
git_last_commit: ff9dade
git_last_commit_date: 2023-10-24 11:23:12 -0400
nebbiolo2Linux (Ubuntu 22.04.3 LTS) / x86_64  OK    ERROR  skipped
palomino4Windows Server 2022 Datacenter / x64  OK    OK    OK    OK  UNNEEDED, same version is already published
merida1macOS 12.7.1 Monterey / x86_64  OK    OK    OK    OK  UNNEEDED, same version is already published
kjohnson1macOS 13.6.1 Ventura / arm64see weekly results here
Package 12/50HostnameOS / ArchINSTALLBUILDCHECKBUILD BIN
ELMER 2.26.0  (landing page)
Tiago Chedraoui Silva
git_last_commit: ceacb6a
git_last_commit_date: 2023-10-24 10:43:48 -0400
nebbiolo2Linux (Ubuntu 22.04.3 LTS) / x86_64  OK    OK    OK  UNNEEDED, same version is already published
palomino4Windows Server 2022 Datacenter / x64  OK    OK    OK    OK  UNNEEDED, same version is already published
merida1macOS 12.7.1 Monterey / x86_64  OK    OK    OK    OK  UNNEEDED, same version is already published
kjohnson1macOS 13.6.1 Ventura / arm64see weekly results here
Package 13/50HostnameOS / ArchINSTALLBUILDCHECKBUILD BIN
evaluomeR 1.18.0  (landing page)
José Antonio Bernabé-Díaz
git_last_commit: 183fda4
git_last_commit_date: 2023-10-24 11:12:14 -0400
nebbiolo2Linux (Ubuntu 22.04.3 LTS) / x86_64  OK    OK    OK  UNNEEDED, same version is already published
palomino4Windows Server 2022 Datacenter / x64  OK    OK    OK    OK  UNNEEDED, same version is already published
merida1macOS 12.7.1 Monterey / x86_64  OK    OK    OK    OK  UNNEEDED, same version is already published
kjohnson1macOS 13.6.1 Ventura / arm64see weekly results here
Package 14/50HostnameOS / ArchINSTALLBUILDCHECKBUILD BIN
FindIT2 1.8.0  (landing page)
Guandong Shang
git_last_commit: f4ef6c4
git_last_commit_date: 2023-10-24 11:34:37 -0400
nebbiolo2Linux (Ubuntu 22.04.3 LTS) / x86_64  OK    OK    OK  UNNEEDED, same version is already published
palomino4Windows Server 2022 Datacenter / x64  OK    OK    OK    OK  UNNEEDED, same version is already published
merida1macOS 12.7.1 Monterey / x86_64  OK    OK    OK    OK  UNNEEDED, same version is already published
kjohnson1macOS 13.6.1 Ventura / arm64see weekly results here
Package 15/50HostnameOS / ArchINSTALLBUILDCHECKBUILD BIN
FLAMES 1.8.0  (landing page)
Oliver Voogd
git_last_commit: 8b72098
git_last_commit_date: 2023-10-24 11:34:56 -0400
nebbiolo2Linux (Ubuntu 22.04.3 LTS) / x86_64  OK    OK    OK  UNNEEDED, same version is already published
palomino4Windows Server 2022 Datacenter / x64... NOT SUPPORTED ...
merida1macOS 12.7.1 Monterey / x86_64  OK    OK    OK    OK  UNNEEDED, same version is already published
kjohnson1macOS 13.6.1 Ventura / arm64see weekly results here
Package 16/50HostnameOS / ArchINSTALLBUILDCHECKBUILD BIN
gDRcore 1.0.1  (landing page)
Arkadiusz Gladki
git_last_commit: 0405d87
git_last_commit_date: 2024-02-15 11:18:15 -0400
nebbiolo2Linux (Ubuntu 22.04.3 LTS) / x86_64  OK    OK    OK  UNNEEDED, same version is already published
palomino4Windows Server 2022 Datacenter / x64  OK    OK    OK    OK  UNNEEDED, same version is already published
merida1macOS 12.7.1 Monterey / x86_64  OK    OK    OK    OK  UNNEEDED, same version is already published
kjohnson1macOS 13.6.1 Ventura / arm64see weekly results here
Package 17/50HostnameOS / ArchINSTALLBUILDCHECKBUILD BIN
gDRimport 1.0.0  (landing page)
Arkadiusz Gladki
git_last_commit: bc9e88f
git_last_commit_date: 2023-10-24 11:49:32 -0400
nebbiolo2Linux (Ubuntu 22.04.3 LTS) / x86_64  OK    OK    OK  UNNEEDED, same version is already published
palomino4Windows Server 2022 Datacenter / x64  OK    OK    OK    OK  UNNEEDED, same version is already published
merida1macOS 12.7.1 Monterey / x86_64  OK    OK    OK    OK  UNNEEDED, same version is already published
kjohnson1macOS 13.6.1 Ventura / arm64see weekly results here
Package 18/50HostnameOS / ArchINSTALLBUILDCHECKBUILD BIN
gDRutils 1.0.0  (landing page)
Arkadiusz Gladki
git_last_commit: b8a1d96
git_last_commit_date: 2023-10-24 11:49:34 -0400
nebbiolo2Linux (Ubuntu 22.04.3 LTS) / x86_64  OK    OK    OK  UNNEEDED, same version is already published
palomino4Windows Server 2022 Datacenter / x64  OK    OK    OK    OK  UNNEEDED, same version is already published
merida1macOS 12.7.1 Monterey / x86_64  OK    OK    OK    OK  UNNEEDED, same version is already published
kjohnson1macOS 13.6.1 Ventura / arm64see weekly results here
Package 19/50HostnameOS / ArchINSTALLBUILDCHECKBUILD BIN
glmSparseNet 1.20.1  (landing page)
André Veríssimo
git_last_commit: 19e4c66
git_last_commit_date: 2024-02-04 19:06:26 -0400
nebbiolo2Linux (Ubuntu 22.04.3 LTS) / x86_64  OK    OK    OK  UNNEEDED, same version is already published
palomino4Windows Server 2022 Datacenter / x64  OK    OK    OK    OK  UNNEEDED, same version is already published
merida1macOS 12.7.1 Monterey / x86_64  OK    OK    OK    OK  UNNEEDED, same version is already published
kjohnson1macOS 13.6.1 Ventura / arm64see weekly results here
Package 20/50HostnameOS / ArchINSTALLBUILDCHECKBUILD BIN
GOpro 1.28.0  (landing page)
Lidia Chrabaszcz
git_last_commit: a24dea5
git_last_commit_date: 2023-10-24 10:53:02 -0400
nebbiolo2Linux (Ubuntu 22.04.3 LTS) / x86_64  OK    OK    OK  UNNEEDED, same version is already published
palomino4Windows Server 2022 Datacenter / x64  OK    OK    OK    OK  UNNEEDED, same version is already published
merida1macOS 12.7.1 Monterey / x86_64  OK    OK    OK    OK  UNNEEDED, same version is already published
kjohnson1macOS 13.6.1 Ventura / arm64see weekly results here
Package 21/50HostnameOS / ArchINSTALLBUILDCHECKBUILD BIN
hermes 1.6.1  (landing page)
Daniel Sabanés Bové
git_last_commit: c301424
git_last_commit_date: 2024-03-15 04:30:37 -0400
nebbiolo2Linux (Ubuntu 22.04.3 LTS) / x86_64  OK    OK    OK  UNNEEDED, same version is already published
palomino4Windows Server 2022 Datacenter / x64  OK    OK    OK    OK  UNNEEDED, same version is already published
merida1macOS 12.7.1 Monterey / x86_64  OK    OK    OK    OK  UNNEEDED, same version is already published
kjohnson1macOS 13.6.1 Ventura / arm64see weekly results here
Package 22/50HostnameOS / ArchINSTALLBUILDCHECKBUILD BIN
hipathia 3.2.0  (landing page)
Marta R. Hidalgo
git_last_commit: 251de34
git_last_commit_date: 2023-10-24 11:04:44 -0400
nebbiolo2Linux (Ubuntu 22.04.3 LTS) / x86_64  OK    OK    OK  UNNEEDED, same version is already published
palomino4Windows Server 2022 Datacenter / x64  OK    OK    OK    OK  UNNEEDED, same version is already published
merida1macOS 12.7.1 Monterey / x86_64  OK    OK    OK    OK  UNNEEDED, same version is already published
kjohnson1macOS 13.6.1 Ventura / arm64see weekly results here
Package 23/50HostnameOS / ArchINSTALLBUILDCHECKBUILD BIN
InTAD 1.22.0  (landing page)
Konstantin Okonechnikov
git_last_commit: 1bb9d7a
git_last_commit_date: 2023-10-24 11:04:33 -0400
nebbiolo2Linux (Ubuntu 22.04.3 LTS) / x86_64  OK    OK    OK  UNNEEDED, same version is already published
palomino4Windows Server 2022 Datacenter / x64  OK    OK    OK    OK  UNNEEDED, same version is already published
merida1macOS 12.7.1 Monterey / x86_64  OK    OK    OK    OK  UNNEEDED, same version is already published
kjohnson1macOS 13.6.1 Ventura / arm64see weekly results here
Package 24/50HostnameOS / ArchINSTALLBUILDCHECKBUILD BIN
LinkHD 1.16.0  (landing page)
"Laura M Zingaretti"
git_last_commit: c153185
git_last_commit_date: 2023-10-24 11:17:23 -0400
nebbiolo2Linux (Ubuntu 22.04.3 LTS) / x86_64  OK    OK    OK  UNNEEDED, same version is already published
palomino4Windows Server 2022 Datacenter / x64  OK    OK    OK    OK  UNNEEDED, same version is already published
merida1macOS 12.7.1 Monterey / x86_64  OK    OK    OK    OK  UNNEEDED, same version is already published
kjohnson1macOS 13.6.1 Ventura / arm64see weekly results here
Package 25/50HostnameOS / ArchINSTALLBUILDCHECKBUILD BIN
metabolomicsWorkbenchR 1.12.0  (landing page)
Gavin Rhys Lloyd
git_last_commit: 262a317
git_last_commit_date: 2023-10-24 11:25:05 -0400
nebbiolo2Linux (Ubuntu 22.04.3 LTS) / x86_64  OK    OK    OK  UNNEEDED, same version is already published
palomino4Windows Server 2022 Datacenter / x64  OK    OK    OK    OK  UNNEEDED, same version is already published
merida1macOS 12.7.1 Monterey / x86_64  OK    OK    OK    OK  UNNEEDED, same version is already published
kjohnson1macOS 13.6.1 Ventura / arm64see weekly results here
Package 26/50HostnameOS / ArchINSTALLBUILDCHECKBUILD BIN
mia 1.10.0  (landing page)
Tuomas Borman
git_last_commit: 9214397
git_last_commit_date: 2023-10-24 11:31:09 -0400
nebbiolo2Linux (Ubuntu 22.04.3 LTS) / x86_64  OK    OK    OK  UNNEEDED, same version is already published
palomino4Windows Server 2022 Datacenter / x64  OK    OK    OK    OK  UNNEEDED, same version is already published
merida1macOS 12.7.1 Monterey / x86_64  OK    OK    TIMEOUT    OK  
kjohnson1macOS 13.6.1 Ventura / arm64see weekly results here
Package 27/50HostnameOS / ArchINSTALLBUILDCHECKBUILD BIN
midasHLA 1.10.0  (landing page)
Maciej Migdał
git_last_commit: a67beb5
git_last_commit_date: 2023-10-24 11:30:21 -0400
nebbiolo2Linux (Ubuntu 22.04.3 LTS) / x86_64  OK    ERROR  skipped
palomino4Windows Server 2022 Datacenter / x64  OK    ERROR  skippedskipped
merida1macOS 12.7.1 Monterey / x86_64  OK    ERROR  skippedskipped
kjohnson1macOS 13.6.1 Ventura / arm64see weekly results here
Package 28/50HostnameOS / ArchINSTALLBUILDCHECKBUILD BIN
missRows 1.22.0  (landing page)
Gonzalez Ignacio
git_last_commit: 003eecf
git_last_commit_date: 2023-10-24 11:04:21 -0400
nebbiolo2Linux (Ubuntu 22.04.3 LTS) / x86_64  OK    OK    OK  UNNEEDED, same version is already published
palomino4Windows Server 2022 Datacenter / x64  OK    OK    OK    OK  UNNEEDED, same version is already published
merida1macOS 12.7.1 Monterey / x86_64  OK    OK    OK    OK  UNNEEDED, same version is already published
kjohnson1macOS 13.6.1 Ventura / arm64see weekly results here
Package 29/50HostnameOS / ArchINSTALLBUILDCHECKBUILD BIN
MOMA 1.14.0  (landing page)
Sunny Jones
git_last_commit: 4454582
git_last_commit_date: 2023-10-24 11:21:52 -0400
nebbiolo2Linux (Ubuntu 22.04.3 LTS) / x86_64  OK    OK    OK  UNNEEDED, same version is already published
palomino4Windows Server 2022 Datacenter / x64  OK    OK    OK    OK  UNNEEDED, same version is already published
merida1macOS 12.7.1 Monterey / x86_64  OK    OK    OK    OK  UNNEEDED, same version is already published
kjohnson1macOS 13.6.1 Ventura / arm64see weekly results here
Package 30/50HostnameOS / ArchINSTALLBUILDCHECKBUILD BIN
msqrob2 1.10.0  (landing page)
Lieven Clement
git_last_commit: 6bf2b78
git_last_commit_date: 2023-10-24 11:33:44 -0400
nebbiolo2Linux (Ubuntu 22.04.3 LTS) / x86_64  OK    OK    OK  UNNEEDED, same version is already published
palomino4Windows Server 2022 Datacenter / x64  OK    OK    OK    OK  UNNEEDED, same version is already published
merida1macOS 12.7.1 Monterey / x86_64  OK    OK    OK    OK  UNNEEDED, same version is already published
kjohnson1macOS 13.6.1 Ventura / arm64see weekly results here
Package 31/50HostnameOS / ArchINSTALLBUILDCHECKBUILD BIN
MuData 1.6.0  (landing page)
Danila Bredikhin
git_last_commit: 42a68dd
git_last_commit_date: 2023-10-24 11:39:48 -0400
nebbiolo2Linux (Ubuntu 22.04.3 LTS) / x86_64  OK    OK    OK  UNNEEDED, same version is already published
palomino4Windows Server 2022 Datacenter / x64  OK    OK    OK    OK  UNNEEDED, same version is already published
merida1macOS 12.7.1 Monterey / x86_64  OK    OK    OK    OK  UNNEEDED, same version is already published
kjohnson1macOS 13.6.1 Ventura / arm64see weekly results here
Package 32/50HostnameOS / ArchINSTALLBUILDCHECKBUILD BIN
MultiBaC 1.12.0  (landing page)
The package maintainer
git_last_commit: 63372e3
git_last_commit_date: 2023-10-24 11:23:46 -0400
nebbiolo2Linux (Ubuntu 22.04.3 LTS) / x86_64  OK    OK    OK  UNNEEDED, same version is already published
palomino4Windows Server 2022 Datacenter / x64  OK    OK    OK    OK  UNNEEDED, same version is already published
merida1macOS 12.7.1 Monterey / x86_64  OK    OK    OK    OK  UNNEEDED, same version is already published
kjohnson1macOS 13.6.1 Ventura / arm64see weekly results here
Package 33/50HostnameOS / ArchINSTALLBUILDCHECKBUILD BIN
MultimodalExperiment 1.2.0  (landing page)
Lucas Schiffer
git_last_commit: 87ef406
git_last_commit_date: 2023-10-24 11:49:10 -0400
nebbiolo2Linux (Ubuntu 22.04.3 LTS) / x86_64  OK    OK    OK  UNNEEDED, same version is already published
palomino4Windows Server 2022 Datacenter / x64  OK    OK    OK    OK  UNNEEDED, same version is already published
merida1macOS 12.7.1 Monterey / x86_64  OK    OK    OK    OK  UNNEEDED, same version is already published
kjohnson1macOS 13.6.1 Ventura / arm64see weekly results here
Package 34/50HostnameOS / ArchINSTALLBUILDCHECKBUILD BIN
netDx 1.14.0  (landing page)
Shraddha Pai
git_last_commit: 6e24937
git_last_commit_date: 2023-10-24 11:19:12 -0400
nebbiolo2Linux (Ubuntu 22.04.3 LTS) / x86_64  OK    OK    OK  UNNEEDED, same version is already published
palomino4Windows Server 2022 Datacenter / x64... NOT SUPPORTED ...
merida1macOS 12.7.1 Monterey / x86_64  OK    ERROR  skippedskipped
kjohnson1macOS 13.6.1 Ventura / arm64see weekly results here
Package 35/50HostnameOS / ArchINSTALLBUILDCHECKBUILD BIN
nipalsMCIA 1.0.0  (landing page)
Maximilian Mattessich
git_last_commit: 70dd4bf
git_last_commit_date: 2023-10-24 11:51:20 -0400
nebbiolo2Linux (Ubuntu 22.04.3 LTS) / x86_64  OK    OK    OK  UNNEEDED, same version is already published
palomino4Windows Server 2022 Datacenter / x64  OK    OK    OK    OK  UNNEEDED, same version is already published
merida1macOS 12.7.1 Monterey / x86_64  OK    OK    OK    OK  UNNEEDED, same version is already published
kjohnson1macOS 13.6.1 Ventura / arm64see weekly results here
Package 36/50HostnameOS / ArchINSTALLBUILDCHECKBUILD BIN
OMICsPCA 1.20.0  (landing page)
Subhadeep Das
git_last_commit: fbf1917
git_last_commit_date: 2023-10-24 11:08:12 -0400
nebbiolo2Linux (Ubuntu 22.04.3 LTS) / x86_64  OK    OK    OK  UNNEEDED, same version is already published
palomino4Windows Server 2022 Datacenter / x64  OK    OK    OK    OK  UNNEEDED, same version is already published
merida1macOS 12.7.1 Monterey / x86_64  OK    OK    OK    OK  UNNEEDED, same version is already published
kjohnson1macOS 13.6.1 Ventura / arm64see weekly results here
Package 37/50HostnameOS / ArchINSTALLBUILDCHECKBUILD BIN
omicsPrint 1.22.0  (landing page)
Davy Cats
git_last_commit: 25859e6
git_last_commit_date: 2023-10-24 11:01:41 -0400
nebbiolo2Linux (Ubuntu 22.04.3 LTS) / x86_64  OK    OK    WARNINGS  UNNEEDED, same version is already published
palomino4Windows Server 2022 Datacenter / x64  OK    OK    WARNINGS    OK  UNNEEDED, same version is already published
merida1macOS 12.7.1 Monterey / x86_64  OK    OK    WARNINGS    OK  UNNEEDED, same version is already published
kjohnson1macOS 13.6.1 Ventura / arm64see weekly results here
Package 38/50HostnameOS / ArchINSTALLBUILDCHECKBUILD BIN
padma 1.12.0  (landing page)
Andrea Rau
git_last_commit: d925ab1
git_last_commit_date: 2023-10-24 11:23:36 -0400
nebbiolo2Linux (Ubuntu 22.04.3 LTS) / x86_64  OK    OK    OK  UNNEEDED, same version is already published
palomino4Windows Server 2022 Datacenter / x64  OK    OK    OK    OK  UNNEEDED, same version is already published
merida1macOS 12.7.1 Monterey / x86_64  OK    OK    OK    OK  UNNEEDED, same version is already published
kjohnson1macOS 13.6.1 Ventura / arm64see weekly results here
Package 39/50HostnameOS / ArchINSTALLBUILDCHECKBUILD BIN
PDATK 1.10.0  (landing page)
Benjamin Haibe-Kains
git_last_commit: 8b865a8
git_last_commit_date: 2023-10-24 11:30:18 -0400
nebbiolo2Linux (Ubuntu 22.04.3 LTS) / x86_64  OK    OK    WARNINGS  UNNEEDED, same version is already published
palomino4Windows Server 2022 Datacenter / x64  OK    OK    WARNINGS    OK  UNNEEDED, same version is already published
merida1macOS 12.7.1 Monterey / x86_64  OK    OK    WARNINGS    OK  UNNEEDED, same version is already published
kjohnson1macOS 13.6.1 Ventura / arm64see weekly results here
Package 40/50HostnameOS / ArchINSTALLBUILDCHECKBUILD BIN
PharmacoGx 3.6.0  (landing page)
Benjamin Haibe-Kains
git_last_commit: 449b0a6
git_last_commit_date: 2023-10-24 10:52:14 -0400
nebbiolo2Linux (Ubuntu 22.04.3 LTS) / x86_64  OK    OK    OK  UNNEEDED, same version is already published
palomino4Windows Server 2022 Datacenter / x64  OK    OK    OK    OK  UNNEEDED, same version is already published
merida1macOS 12.7.1 Monterey / x86_64  OK    OK    OK    OK  UNNEEDED, same version is already published
kjohnson1macOS 13.6.1 Ventura / arm64see weekly results here
Package 41/50HostnameOS / ArchINSTALLBUILDCHECKBUILD BIN
phenomis 1.4.0  (landing page)
Etienne A. Thevenot
git_last_commit: 94d5929
git_last_commit_date: 2023-10-24 11:43:52 -0400
nebbiolo2Linux (Ubuntu 22.04.3 LTS) / x86_64  OK    OK    OK  UNNEEDED, same version is already published
palomino4Windows Server 2022 Datacenter / x64  OK    OK    OK    OK  UNNEEDED, same version is already published
merida1macOS 12.7.1 Monterey / x86_64  OK    OK    OK    OK  UNNEEDED, same version is already published
kjohnson1macOS 13.6.1 Ventura / arm64see weekly results here
Package 42/50HostnameOS / ArchINSTALLBUILDCHECKBUILD BIN
QFeatures 1.12.0  (landing page)
Laurent Gatto
git_last_commit: fc44d63
git_last_commit_date: 2023-10-24 11:24:43 -0400
nebbiolo2Linux (Ubuntu 22.04.3 LTS) / x86_64  OK    OK    OK  UNNEEDED, same version is already published
palomino4Windows Server 2022 Datacenter / x64  OK    OK    OK    OK  UNNEEDED, same version is already published
merida1macOS 12.7.1 Monterey / x86_64  OK    OK    OK    OK  UNNEEDED, same version is already published
kjohnson1macOS 13.6.1 Ventura / arm64see weekly results here
Package 43/50HostnameOS / ArchINSTALLBUILDCHECKBUILD BIN
ropls 1.34.0  (landing page)
Etienne A. Thevenot
git_last_commit: 415d359
git_last_commit_date: 2023-10-24 10:44:19 -0400
nebbiolo2Linux (Ubuntu 22.04.3 LTS) / x86_64  OK    OK    OK  UNNEEDED, same version is already published
palomino4Windows Server 2022 Datacenter / x64  OK    OK    OK    OK  UNNEEDED, same version is already published
merida1macOS 12.7.1 Monterey / x86_64  OK    OK    OK    OK  UNNEEDED, same version is already published
kjohnson1macOS 13.6.1 Ventura / arm64see weekly results here
Package 44/50HostnameOS / ArchINSTALLBUILDCHECKBUILD BIN
scp 1.12.0  (landing page)
Christophe Vanderaa
git_last_commit: 9872d67
git_last_commit_date: 2023-10-24 11:26:32 -0400
nebbiolo2Linux (Ubuntu 22.04.3 LTS) / x86_64  OK    OK    OK  UNNEEDED, same version is already published
palomino4Windows Server 2022 Datacenter / x64  OK    OK    OK    OK  UNNEEDED, same version is already published
merida1macOS 12.7.1 Monterey / x86_64  OK    OK    OK    OK  UNNEEDED, same version is already published
kjohnson1macOS 13.6.1 Ventura / arm64see weekly results here
Package 45/50HostnameOS / ArchINSTALLBUILDCHECKBUILD BIN
scPipe 2.2.0  (landing page)
Shian Su
git_last_commit: 64848af
git_last_commit_date: 2023-10-24 11:00:35 -0400
nebbiolo2Linux (Ubuntu 22.04.3 LTS) / x86_64  OK    OK    WARNINGS  UNNEEDED, same version is already published
palomino4Windows Server 2022 Datacenter / x64  OK    OK    OK    OK  UNNEEDED, same version is already published
merida1macOS 12.7.1 Monterey / x86_64  OK    OK    WARNINGS    OK  UNNEEDED, same version is already published
kjohnson1macOS 13.6.1 Ventura / arm64see weekly results here
Package 46/50HostnameOS / ArchINSTALLBUILDCHECKBUILD BIN
TCGAutils 1.22.2  (landing page)
Marcel Ramos
git_last_commit: 653217e
git_last_commit_date: 2023-12-08 11:45:35 -0400
nebbiolo2Linux (Ubuntu 22.04.3 LTS) / x86_64  OK    OK    OK  UNNEEDED, same version is already published
palomino4Windows Server 2022 Datacenter / x64  OK    OK    OK    OK  UNNEEDED, same version is already published
merida1macOS 12.7.1 Monterey / x86_64  OK    OK    OK    OK  UNNEEDED, same version is already published
kjohnson1macOS 13.6.1 Ventura / arm64see weekly results here
Package 47/50HostnameOS / ArchINSTALLBUILDCHECKBUILD BIN
terraTCGAdata 1.6.0  (landing page)
Marcel Ramos
git_last_commit: 4cdd117
git_last_commit_date: 2023-10-24 11:41:27 -0400
nebbiolo2Linux (Ubuntu 22.04.3 LTS) / x86_64  OK    OK    OK  UNNEEDED, same version is already published
palomino4Windows Server 2022 Datacenter / x64  OK    OK    OK    OK  UNNEEDED, same version is already published
merida1macOS 12.7.1 Monterey / x86_64  OK    OK    OK    OK  UNNEEDED, same version is already published
kjohnson1macOS 13.6.1 Ventura / arm64see weekly results here
Package 48/50HostnameOS / ArchINSTALLBUILDCHECKBUILD BIN
TimiRGeN 1.12.0  (landing page)
Krutik Patel
git_last_commit: 783940c
git_last_commit_date: 2023-10-24 11:25:21 -0400
nebbiolo2Linux (Ubuntu 22.04.3 LTS) / x86_64  OK    ERROR  skipped
palomino4Windows Server 2022 Datacenter / x64  OK    ERROR  skippedskipped
merida1macOS 12.7.1 Monterey / x86_64  OK    ERROR  skippedskipped
kjohnson1macOS 13.6.1 Ventura / arm64see weekly results here
Package 49/50HostnameOS / ArchINSTALLBUILDCHECKBUILD BIN
vsclust 1.4.0  (landing page)
Veit Schwaemmle
git_last_commit: c49bf51
git_last_commit_date: 2023-10-24 11:44:41 -0400
nebbiolo2Linux (Ubuntu 22.04.3 LTS) / x86_64  OK    OK    WARNINGS  UNNEEDED, same version is already published
palomino4Windows Server 2022 Datacenter / x64  OK    OK    WARNINGS    OK  UNNEEDED, same version is already published
merida1macOS 12.7.1 Monterey / x86_64  OK    OK    WARNINGS    OK  UNNEEDED, same version is already published
kjohnson1macOS 13.6.1 Ventura / arm64see weekly results here
Package 50/50HostnameOS / ArchINSTALLBUILDCHECKBUILD BIN
xcore 1.6.0  (landing page)
Maciej Migdał
git_last_commit: a3c85da
git_last_commit_date: 2023-10-24 11:40:03 -0400
nebbiolo2Linux (Ubuntu 22.04.3 LTS) / x86_64  OK    OK    OK  UNNEEDED, same version is already published
palomino4Windows Server 2022 Datacenter / x64  OK    OK    OK    OK  UNNEEDED, same version is already published
merida1macOS 12.7.1 Monterey / x86_64  OK    OK    OK    OK  UNNEEDED, same version is already published
kjohnson1macOS 13.6.1 Ventura / arm64see weekly results here