Back to Multiple platform build/check report for BioC 3.18:   simplified   long
ABCDEFGH[I]JKLMNOPQRSTUVWXYZ

This page was generated on 2024-03-29 11:35:14 -0400 (Fri, 29 Mar 2024).

HostnameOSArch (*)R versionInstalled pkgs
nebbiolo2Linux (Ubuntu 22.04.3 LTS)x86_644.3.3 (2024-02-29) -- "Angel Food Cake" 4669
palomino4Windows Server 2022 Datacenterx644.3.3 (2024-02-29 ucrt) -- "Angel Food Cake" 4404
merida1macOS 12.7.1 Montereyx86_644.3.3 (2024-02-29) -- "Angel Food Cake" 4427
Click on any hostname to see more info about the system (e.g. compilers)      (*) as reported by 'uname -p', except on Windows and Mac OS X

All results for package IRanges


To the developers/maintainers of the IRanges package:
- Allow up to 24 hours (and sometimes 48 hours) for your latest push to git@git.bioconductor.org:packages/IRanges.git to reflect on this report. See Troubleshooting Build Report for more information.
- Use the following Renviron settings to reproduce errors and warnings.
- If 'R CMD check' started to fail recently on the Linux builder(s) over a missing dependency, add the missing dependency to 'Suggests:' in your DESCRIPTION file. See Renviron.bioc for more information.

raw results

Package 1045/2266HostnameOS / ArchINSTALLBUILDCHECKBUILD BIN
IRanges 2.36.0  (landing page)
Hervé Pagès
Snapshot Date: 2024-03-27 14:05:05 -0400 (Wed, 27 Mar 2024)
git_url: https://git.bioconductor.org/packages/IRanges
git_branch: RELEASE_3_18
git_last_commit: 1dabee3
git_last_commit_date: 2023-10-24 09:32:51 -0400 (Tue, 24 Oct 2023)
nebbiolo2Linux (Ubuntu 22.04.3 LTS) / x86_64  OK    OK    WARNINGS  UNNEEDED, same version is already published
palomino4Windows Server 2022 Datacenter / x64  OK    OK    WARNINGS    OK  UNNEEDED, same version is already published
merida1macOS 12.7.1 Monterey / x86_64  OK    OK    WARNINGS    OK  UNNEEDED, same version is already published
kjohnson1macOS 13.6.1 Ventura / arm64see weekly results here

Results for Bioconductor software packages that depend directly on package IRanges

QUICK STATSOS / ArchINSTALLBUILDCHECKBUILD BIN
nebbiolo2Linux (Ubuntu 22.04.3 LTS) / x86_64
05508
013500
18101390
palomino4Windows Server 2022 Datacenter / x64
05497
010492
1786398
00492
merida1macOS 12.7.1 Monterey / x86_64
06505
014497
61099382
00497
Package 1/513HostnameOS / ArchINSTALLBUILDCHECKBUILD BIN
alabaster.bumpy 1.2.0  (landing page)
Aaron Lun
git_last_commit: 6e7d873
git_last_commit_date: 2023-10-24 11:47:08 -0400
nebbiolo2Linux (Ubuntu 22.04.3 LTS) / x86_64  OK    OK    OK  UNNEEDED, same version is already published
palomino4Windows Server 2022 Datacenter / x64  OK    OK    OK    OK  UNNEEDED, same version is already published
merida1macOS 12.7.1 Monterey / x86_64  OK    OK    OK    OK  UNNEEDED, same version is already published
kjohnson1macOS 13.6.1 Ventura / arm64see weekly results here
Package 2/513HostnameOS / ArchINSTALLBUILDCHECKBUILD BIN
alabaster.ranges 1.2.0  (landing page)
Aaron Lun
git_last_commit: c7a063d
git_last_commit_date: 2023-10-24 11:46:54 -0400
nebbiolo2Linux (Ubuntu 22.04.3 LTS) / x86_64  OK    OK    OK  UNNEEDED, same version is already published
palomino4Windows Server 2022 Datacenter / x64  OK    OK    OK    OK  UNNEEDED, same version is already published
merida1macOS 12.7.1 Monterey / x86_64  OK    OK    OK    OK  UNNEEDED, same version is already published
kjohnson1macOS 13.6.1 Ventura / arm64see weekly results here
Package 3/513HostnameOS / ArchINSTALLBUILDCHECKBUILD BIN
alabaster.se 1.2.0  (landing page)
Aaron Lun
git_last_commit: d1222d4
git_last_commit_date: 2023-10-24 11:47:00 -0400
nebbiolo2Linux (Ubuntu 22.04.3 LTS) / x86_64  OK    OK    OK  UNNEEDED, same version is already published
palomino4Windows Server 2022 Datacenter / x64  OK    OK    OK    OK  UNNEEDED, same version is already published
merida1macOS 12.7.1 Monterey / x86_64  OK    OK    OK    OK  UNNEEDED, same version is already published
kjohnson1macOS 13.6.1 Ventura / arm64see weekly results here
Package 4/513HostnameOS / ArchINSTALLBUILDCHECKBUILD BIN
ALDEx2 1.34.0  (landing page)
Greg Gloor
git_last_commit: eda12f9
git_last_commit_date: 2023-10-24 10:38:50 -0400
nebbiolo2Linux (Ubuntu 22.04.3 LTS) / x86_64  OK    OK    OK  UNNEEDED, same version is already published
palomino4Windows Server 2022 Datacenter / x64  OK    OK    OK    OK  UNNEEDED, same version is already published
merida1macOS 12.7.1 Monterey / x86_64  OK    OK    OK    OK  UNNEEDED, same version is already published
kjohnson1macOS 13.6.1 Ventura / arm64see weekly results here
Package 5/513HostnameOS / ArchINSTALLBUILDCHECKBUILD BIN
AllelicImbalance 1.40.0  (landing page)
Jesper R Gadin
git_last_commit: e3fc911
git_last_commit_date: 2023-10-24 09:56:05 -0400
nebbiolo2Linux (Ubuntu 22.04.3 LTS) / x86_64  OK    OK    OK  UNNEEDED, same version is already published
palomino4Windows Server 2022 Datacenter / x64  OK    OK    OK    OK  UNNEEDED, same version is already published
merida1macOS 12.7.1 Monterey / x86_64  OK    OK    OK    OK  UNNEEDED, same version is already published
kjohnson1macOS 13.6.1 Ventura / arm64see weekly results here
Package 6/513HostnameOS / ArchINSTALLBUILDCHECKBUILD BIN
amplican 1.24.0  (landing page)
Eivind Valen
git_last_commit: 265b7ec
git_last_commit_date: 2023-10-24 10:59:34 -0400
nebbiolo2Linux (Ubuntu 22.04.3 LTS) / x86_64  OK    OK    OK  UNNEEDED, same version is already published
palomino4Windows Server 2022 Datacenter / x64  OK    OK    OK    OK  UNNEEDED, same version is already published
merida1macOS 12.7.1 Monterey / x86_64  OK    OK    OK    OK  UNNEEDED, same version is already published
kjohnson1macOS 13.6.1 Ventura / arm64see weekly results here
Package 7/513HostnameOS / ArchINSTALLBUILDCHECKBUILD BIN
AneuFinder 1.30.0  (landing page)
Aaron Taudt
git_last_commit: f0c9ccf
git_last_commit_date: 2023-10-24 10:48:50 -0400
nebbiolo2Linux (Ubuntu 22.04.3 LTS) / x86_64  OK    OK    OK  UNNEEDED, same version is already published
palomino4Windows Server 2022 Datacenter / x64  OK    OK    OK    OK  UNNEEDED, same version is already published
merida1macOS 12.7.1 Monterey / x86_64  OK    OK    OK    OK  UNNEEDED, same version is already published
kjohnson1macOS 13.6.1 Ventura / arm64see weekly results here
Package 8/513HostnameOS / ArchINSTALLBUILDCHECKBUILD BIN
annmap 1.44.0  (landing page)
Chris Wirth
git_last_commit: 039a9a2
git_last_commit_date: 2023-10-24 09:50:21 -0400
nebbiolo2Linux (Ubuntu 22.04.3 LTS) / x86_64  OK    OK    WARNINGS  UNNEEDED, same version is already published
palomino4Windows Server 2022 Datacenter / x64... NOT SUPPORTED ...
merida1macOS 12.7.1 Monterey / x86_64  OK    OK    WARNINGS    OK  UNNEEDED, same version is already published
kjohnson1macOS 13.6.1 Ventura / arm64see weekly results here
Package 9/513HostnameOS / ArchINSTALLBUILDCHECKBUILD BIN
AnnotationDbi 1.64.1  (landing page)
Bioconductor Package Maintainer
git_last_commit: e5b997e
git_last_commit_date: 2023-11-01 17:02:57 -0400
nebbiolo2Linux (Ubuntu 22.04.3 LTS) / x86_64  OK    OK    WARNINGS  UNNEEDED, same version is already published
palomino4Windows Server 2022 Datacenter / x64  OK    OK    WARNINGS    OK  UNNEEDED, same version is already published
merida1macOS 12.7.1 Monterey / x86_64  OK    OK    WARNINGS    OK  UNNEEDED, same version is already published
kjohnson1macOS 13.6.1 Ventura / arm64see weekly results here
Package 10/513HostnameOS / ArchINSTALLBUILDCHECKBUILD BIN
AnnotationHubData 1.32.1  (landing page)
Bioconductor Package Maintainer
git_last_commit: 938caa2
git_last_commit_date: 2024-02-12 13:07:50 -0400
nebbiolo2Linux (Ubuntu 22.04.3 LTS) / x86_64  OK    OK    WARNINGS  UNNEEDED, same version is already published
palomino4Windows Server 2022 Datacenter / x64  OK    OK    WARNINGS    OK  UNNEEDED, same version is already published
merida1macOS 12.7.1 Monterey / x86_64  OK    OK    WARNINGS    OK  UNNEEDED, same version is already published
kjohnson1macOS 13.6.1 Ventura / arm64see weekly results here
Package 11/513HostnameOS / ArchINSTALLBUILDCHECKBUILD BIN
annotatr 1.28.0  (landing page)
Raymond G. Cavalcante
git_last_commit: 8a19608
git_last_commit_date: 2023-10-24 10:53:43 -0400
nebbiolo2Linux (Ubuntu 22.04.3 LTS) / x86_64  OK    OK    OK  UNNEEDED, same version is already published
palomino4Windows Server 2022 Datacenter / x64  OK    OK    OK    OK  UNNEEDED, same version is already published
merida1macOS 12.7.1 Monterey / x86_64  OK    OK    OK    OK  UNNEEDED, same version is already published
kjohnson1macOS 13.6.1 Ventura / arm64see weekly results here
Package 12/513HostnameOS / ArchINSTALLBUILDCHECKBUILD BIN
appreci8R 1.20.2  (landing page)
Sarah Sandmann
git_last_commit: 491a34d
git_last_commit_date: 2024-02-14 07:29:50 -0400
nebbiolo2Linux (Ubuntu 22.04.3 LTS) / x86_64  OK    OK    OK  UNNEEDED, same version is already published
palomino4Windows Server 2022 Datacenter / x64  OK    OK    OK    OK  UNNEEDED, same version is already published
merida1macOS 12.7.1 Monterey / x86_64  OK    OK    OK    OK  UNNEEDED, same version is already published
kjohnson1macOS 13.6.1 Ventura / arm64see weekly results here
Package 13/513HostnameOS / ArchINSTALLBUILDCHECKBUILD BIN
ASpli 2.12.0  (landing page)
Ariel Chernomoretz
git_last_commit: bf94d05
git_last_commit_date: 2023-10-24 10:51:51 -0400
nebbiolo2Linux (Ubuntu 22.04.3 LTS) / x86_64  OK    OK    WARNINGS  UNNEEDED, same version is already published
palomino4Windows Server 2022 Datacenter / x64  OK    OK    WARNINGS    OK  UNNEEDED, same version is already published
merida1macOS 12.7.1 Monterey / x86_64  OK    OK    WARNINGS    OK  UNNEEDED, same version is already published
kjohnson1macOS 13.6.1 Ventura / arm64see weekly results here
Package 14/513HostnameOS / ArchINSTALLBUILDCHECKBUILD BIN
AssessORF 1.20.0  (landing page)
Deepank Korandla
git_last_commit: 70f6363
git_last_commit_date: 2023-10-24 11:09:10 -0400
nebbiolo2Linux (Ubuntu 22.04.3 LTS) / x86_64  OK    OK    OK  UNNEEDED, same version is already published
palomino4Windows Server 2022 Datacenter / x64  OK    OK    OK    OK  UNNEEDED, same version is already published
merida1macOS 12.7.1 Monterey / x86_64  OK    OK    OK    OK  UNNEEDED, same version is already published
kjohnson1macOS 13.6.1 Ventura / arm64see weekly results here
Package 15/513HostnameOS / ArchINSTALLBUILDCHECKBUILD BIN
ATACCoGAPS 1.4.0  (landing page)
Rossin Erbe
git_last_commit: 1e97480
git_last_commit_date: 2023-10-24 11:42:56 -0400
nebbiolo2Linux (Ubuntu 22.04.3 LTS) / x86_64  OK    OK    OK  UNNEEDED, same version is already published
palomino4Windows Server 2022 Datacenter / x64  OK    OK    OK    OK  UNNEEDED, same version is already published
merida1macOS 12.7.1 Monterey / x86_64  OK    OK    OK    OK  UNNEEDED, same version is already published
kjohnson1macOS 13.6.1 Ventura / arm64see weekly results here
Package 16/513HostnameOS / ArchINSTALLBUILDCHECKBUILD BIN
ATACseqQC 1.26.0  (landing page)
Jianhong Ou
git_last_commit: 415dbcb
git_last_commit_date: 2023-10-24 10:57:16 -0400
nebbiolo2Linux (Ubuntu 22.04.3 LTS) / x86_64  OK    OK    OK  UNNEEDED, same version is already published
palomino4Windows Server 2022 Datacenter / x64  OK    OK    OK    OK  UNNEEDED, same version is already published
merida1macOS 12.7.1 Monterey / x86_64  OK    OK    OK    OK  UNNEEDED, same version is already published
kjohnson1macOS 13.6.1 Ventura / arm64see weekly results here
Package 17/513HostnameOS / ArchINSTALLBUILDCHECKBUILD BIN
ATACseqTFEA 1.4.0  (landing page)
Jianhong Ou
git_last_commit: a8b0929
git_last_commit_date: 2023-10-24 11:43:31 -0400
nebbiolo2Linux (Ubuntu 22.04.3 LTS) / x86_64  OK    OK    OK  UNNEEDED, same version is already published
palomino4Windows Server 2022 Datacenter / x64  OK    OK    OK    OK  UNNEEDED, same version is already published
merida1macOS 12.7.1 Monterey / x86_64  OK    OK    OK    OK  UNNEEDED, same version is already published
kjohnson1macOS 13.6.1 Ventura / arm64see weekly results here
Package 18/513HostnameOS / ArchINSTALLBUILDCHECKBUILD BIN
atena 1.8.0  (landing page)
Beatriz Calvo-Serra
git_last_commit: 634a469
git_last_commit_date: 2023-10-24 11:36:26 -0400
nebbiolo2Linux (Ubuntu 22.04.3 LTS) / x86_64  OK    OK    OK  UNNEEDED, same version is already published
palomino4Windows Server 2022 Datacenter / x64  OK    OK    OK    OK  UNNEEDED, same version is already published
merida1macOS 12.7.1 Monterey / x86_64  OK    OK    OK    OK  UNNEEDED, same version is already published
kjohnson1macOS 13.6.1 Ventura / arm64see weekly results here
Package 19/513HostnameOS / ArchINSTALLBUILDCHECKBUILD BIN
BaalChIP 1.28.0  (landing page)
Ines de Santiago
git_last_commit: 7efb036
git_last_commit_date: 2023-10-24 10:52:41 -0400
nebbiolo2Linux (Ubuntu 22.04.3 LTS) / x86_64  OK    OK    WARNINGS  UNNEEDED, same version is already published
palomino4Windows Server 2022 Datacenter / x64  OK    OK    WARNINGS    OK  UNNEEDED, same version is already published
merida1macOS 12.7.1 Monterey / x86_64  OK    OK    WARNINGS    OK  UNNEEDED, same version is already published
kjohnson1macOS 13.6.1 Ventura / arm64see weekly results here
Package 20/513HostnameOS / ArchINSTALLBUILDCHECKBUILD BIN
ballgown 2.34.0  (landing page)
Jack Fu
git_last_commit: a7bfd55
git_last_commit_date: 2023-10-24 10:00:15 -0400
nebbiolo2Linux (Ubuntu 22.04.3 LTS) / x86_64  OK    OK    OK  UNNEEDED, same version is already published
palomino4Windows Server 2022 Datacenter / x64  OK    OK    OK    OK  UNNEEDED, same version is already published
merida1macOS 12.7.1 Monterey / x86_64  OK    OK    OK    OK  UNNEEDED, same version is already published
kjohnson1macOS 13.6.1 Ventura / arm64see weekly results here
Package 21/513HostnameOS / ArchINSTALLBUILDCHECKBUILD BIN
bambu 3.4.0  (landing page)
Ying Chen
git_last_commit: bf38f6d
git_last_commit_date: 2023-10-24 11:27:04 -0400
nebbiolo2Linux (Ubuntu 22.04.3 LTS) / x86_64  OK    OK    TIMEOUT  
palomino4Windows Server 2022 Datacenter / x64  OK    OK    OK    OK  UNNEEDED, same version is already published
merida1macOS 12.7.1 Monterey / x86_64  OK    OK    OK    OK  UNNEEDED, same version is already published
kjohnson1macOS 13.6.1 Ventura / arm64see weekly results here
Package 22/513HostnameOS / ArchINSTALLBUILDCHECKBUILD BIN
bamsignals 1.34.0  (landing page)
Johannes Helmuth
git_last_commit: 58fa17f
git_last_commit_date: 2023-10-24 10:42:09 -0400
nebbiolo2Linux (Ubuntu 22.04.3 LTS) / x86_64  OK    OK    WARNINGS  UNNEEDED, same version is already published
palomino4Windows Server 2022 Datacenter / x64  OK    OK    OK    OK  UNNEEDED, same version is already published
merida1macOS 12.7.1 Monterey / x86_64  OK    OK    WARNINGS    OK  UNNEEDED, same version is already published
kjohnson1macOS 13.6.1 Ventura / arm64see weekly results here
Package 23/513HostnameOS / ArchINSTALLBUILDCHECKBUILD BIN
BasicSTARRseq 1.30.0  (landing page)
Annika Buerger
git_last_commit: 57c0ee5
git_last_commit_date: 2023-10-24 10:47:24 -0400
nebbiolo2Linux (Ubuntu 22.04.3 LTS) / x86_64  OK    OK    OK  UNNEEDED, same version is already published
palomino4Windows Server 2022 Datacenter / x64  OK    OK    OK    OK  UNNEEDED, same version is already published
merida1macOS 12.7.1 Monterey / x86_64  OK    OK    OK    OK  UNNEEDED, same version is already published
kjohnson1macOS 13.6.1 Ventura / arm64see weekly results here
Package 24/513HostnameOS / ArchINSTALLBUILDCHECKBUILD BIN
BBCAnalyzer 1.32.0  (landing page)
Sarah Sandmann
git_last_commit: eb90d95
git_last_commit_date: 2023-10-24 10:44:49 -0400
nebbiolo2Linux (Ubuntu 22.04.3 LTS) / x86_64  OK    OK    OK  UNNEEDED, same version is already published
palomino4Windows Server 2022 Datacenter / x64  OK    OK    WARNINGS    OK  UNNEEDED, same version is already published
merida1macOS 12.7.1 Monterey / x86_64  OK    OK    OK    OK  UNNEEDED, same version is already published
kjohnson1macOS 13.6.1 Ventura / arm64see weekly results here
Package 25/513HostnameOS / ArchINSTALLBUILDCHECKBUILD BIN
beadarray 2.52.0  (landing page)
Mark Dunning
git_last_commit: 3a4da33
git_last_commit_date: 2023-10-24 09:36:14 -0400
nebbiolo2Linux (Ubuntu 22.04.3 LTS) / x86_64  OK    OK    OK  UNNEEDED, same version is already published
palomino4Windows Server 2022 Datacenter / x64  OK    OK    OK    OK  UNNEEDED, same version is already published
merida1macOS 12.7.1 Monterey / x86_64  OK    OK    OK    OK  UNNEEDED, same version is already published
kjohnson1macOS 13.6.1 Ventura / arm64see weekly results here
Package 26/513HostnameOS / ArchINSTALLBUILDCHECKBUILD BIN
BindingSiteFinder 2.0.0  (landing page)
Mirko Brüggemann
git_last_commit: 8a2c174
git_last_commit_date: 2023-10-24 11:35:05 -0400
nebbiolo2Linux (Ubuntu 22.04.3 LTS) / x86_64  OK    OK    OK  UNNEEDED, same version is already published
palomino4Windows Server 2022 Datacenter / x64  OK    OK    OK    OK  UNNEEDED, same version is already published
merida1macOS 12.7.1 Monterey / x86_64  OK    OK    OK    OK  UNNEEDED, same version is already published
kjohnson1macOS 13.6.1 Ventura / arm64see weekly results here
Package 27/513HostnameOS / ArchINSTALLBUILDCHECKBUILD BIN
BiocOncoTK 1.22.0  (landing page)
VJ Carey
git_last_commit: b9864a0
git_last_commit_date: 2023-10-24 11:05:15 -0400
nebbiolo2Linux (Ubuntu 22.04.3 LTS) / x86_64  ERROR    ERROR  skipped
palomino4Windows Server 2022 Datacenter / x64  ERROR    ERROR  skippedskipped
merida1macOS 12.7.1 Monterey / x86_64  ERROR    ERROR  skippedskipped
kjohnson1macOS 13.6.1 Ventura / arm64see weekly results here
Package 28/513HostnameOS / ArchINSTALLBUILDCHECKBUILD BIN
biomvRCNS 1.42.2  (landing page)
Yang Du
git_last_commit: b3a0be7
git_last_commit_date: 2023-12-19 22:48:10 -0400
nebbiolo2Linux (Ubuntu 22.04.3 LTS) / x86_64  OK    OK    OK  UNNEEDED, same version is already published
palomino4Windows Server 2022 Datacenter / x64  OK    OK    OK    OK  UNNEEDED, same version is already published
merida1macOS 12.7.1 Monterey / x86_64  OK    OK    OK    OK  UNNEEDED, same version is already published
kjohnson1macOS 13.6.1 Ventura / arm64see weekly results here
Package 29/513HostnameOS / ArchINSTALLBUILDCHECKBUILD BIN
Biostrings 2.70.3  (landing page)
Hervé Pagès
git_last_commit: c213e35
git_last_commit_date: 2024-03-12 13:21:34 -0400
nebbiolo2Linux (Ubuntu 22.04.3 LTS) / x86_64  OK    OK    WARNINGS  UNNEEDED, same version is already published
palomino4Windows Server 2022 Datacenter / x64  OK    OK    WARNINGS    OK  UNNEEDED, same version is already published
merida1macOS 12.7.1 Monterey / x86_64  OK    OK    WARNINGS    OK  UNNEEDED, same version is already published
kjohnson1macOS 13.6.1 Ventura / arm64see weekly results here
Package 30/513HostnameOS / ArchINSTALLBUILDCHECKBUILD BIN
biovizBase 1.50.0  (landing page)
Michael Lawrence
git_last_commit: c961633
git_last_commit_date: 2023-10-24 09:48:08 -0400
nebbiolo2Linux (Ubuntu 22.04.3 LTS) / x86_64  OK    OK    WARNINGS  UNNEEDED, same version is already published
palomino4Windows Server 2022 Datacenter / x64  OK    OK    WARNINGS    OK  UNNEEDED, same version is already published
merida1macOS 12.7.1 Monterey / x86_64  OK    OK    WARNINGS    OK  UNNEEDED, same version is already published
kjohnson1macOS 13.6.1 Ventura / arm64see weekly results here
Package 31/513HostnameOS / ArchINSTALLBUILDCHECKBUILD BIN
biscuiteer 1.16.0  (landing page)
Jacob Morrison
git_last_commit: ebfa0bf
git_last_commit_date: 2023-10-24 11:17:31 -0400
nebbiolo2Linux (Ubuntu 22.04.3 LTS) / x86_64  OK    OK    WARNINGS  UNNEEDED, same version is already published
palomino4Windows Server 2022 Datacenter / x64  OK    OK    WARNINGS    OK  UNNEEDED, same version is already published
merida1macOS 12.7.1 Monterey / x86_64  OK    OK    WARNINGS    OK  UNNEEDED, same version is already published
kjohnson1macOS 13.6.1 Ventura / arm64see weekly results here
Package 32/513HostnameOS / ArchINSTALLBUILDCHECKBUILD BIN
BiSeq 1.42.0  (landing page)
Katja Hebestreit
git_last_commit: 7dce55a
git_last_commit_date: 2023-10-24 09:53:54 -0400
nebbiolo2Linux (Ubuntu 22.04.3 LTS) / x86_64  OK    OK    OK  UNNEEDED, same version is already published
palomino4Windows Server 2022 Datacenter / x64  OK    OK    OK    OK  UNNEEDED, same version is already published
merida1macOS 12.7.1 Monterey / x86_64  OK    OK    OK    OK  UNNEEDED, same version is already published
kjohnson1macOS 13.6.1 Ventura / arm64see weekly results here
Package 33/513HostnameOS / ArchINSTALLBUILDCHECKBUILD BIN
bnbc 1.24.2  (landing page)
Kipper Fletez-Brant
git_last_commit: c80ab47
git_last_commit_date: 2024-01-26 13:19:18 -0400
nebbiolo2Linux (Ubuntu 22.04.3 LTS) / x86_64  OK    OK    OK  UNNEEDED, same version is already published
palomino4Windows Server 2022 Datacenter / x64  OK    OK    OK    OK  UNNEEDED, same version is already published
merida1macOS 12.7.1 Monterey / x86_64  OK    OK    OK    OK  UNNEEDED, same version is already published
kjohnson1macOS 13.6.1 Ventura / arm64see weekly results here
Package 34/513HostnameOS / ArchINSTALLBUILDCHECKBUILD BIN
BPRMeth 1.28.0  (landing page)
Chantriolnt-Andreas Kapourani
git_last_commit: d365b41
git_last_commit_date: 2023-10-24 10:54:10 -0400
nebbiolo2Linux (Ubuntu 22.04.3 LTS) / x86_64  OK    OK    OK  UNNEEDED, same version is already published
palomino4Windows Server 2022 Datacenter / x64  OK    OK    OK    OK  UNNEEDED, same version is already published
merida1macOS 12.7.1 Monterey / x86_64  OK    OK    OK    OK  UNNEEDED, same version is already published
kjohnson1macOS 13.6.1 Ventura / arm64see weekly results here
Package 35/513HostnameOS / ArchINSTALLBUILDCHECKBUILD BIN
branchpointer 1.28.0  (landing page)
Beth Signal
git_last_commit: 45b6789
git_last_commit_date: 2023-10-24 10:56:02 -0400
nebbiolo2Linux (Ubuntu 22.04.3 LTS) / x86_64  OK    OK    OK  UNNEEDED, same version is already published
palomino4Windows Server 2022 Datacenter / x64  OK    OK    OK    OK  UNNEEDED, same version is already published
merida1macOS 12.7.1 Monterey / x86_64  OK    OK    OK    OK  UNNEEDED, same version is already published
kjohnson1macOS 13.6.1 Ventura / arm64see weekly results here
Package 36/513HostnameOS / ArchINSTALLBUILDCHECKBUILD BIN
breakpointR 1.20.0  (landing page)
David Porubsky
git_last_commit: eef3f27
git_last_commit_date: 2023-10-24 11:08:00 -0400
nebbiolo2Linux (Ubuntu 22.04.3 LTS) / x86_64  OK    OK    OK  UNNEEDED, same version is already published
palomino4Windows Server 2022 Datacenter / x64  OK    OK    OK    OK  UNNEEDED, same version is already published
merida1macOS 12.7.1 Monterey / x86_64  OK    OK    OK    OK  UNNEEDED, same version is already published
kjohnson1macOS 13.6.1 Ventura / arm64see weekly results here
Package 37/513HostnameOS / ArchINSTALLBUILDCHECKBUILD BIN
BRGenomics 1.14.1  (landing page)
Mike DeBerardine
git_last_commit: bbd90bf
git_last_commit_date: 2024-02-29 16:27:31 -0400
nebbiolo2Linux (Ubuntu 22.04.3 LTS) / x86_64  OK    OK    OK  UNNEEDED, same version is already published
palomino4Windows Server 2022 Datacenter / x64  OK    OK    OK    OK  UNNEEDED, same version is already published
merida1macOS 12.7.1 Monterey / x86_64  OK    OK    OK    OK  UNNEEDED, same version is already published
kjohnson1macOS 13.6.1 Ventura / arm64see weekly results here
Package 38/513HostnameOS / ArchINSTALLBUILDCHECKBUILD BIN
BSgenome 1.70.2  (landing page)
Hervé Pagès
git_last_commit: 77b80d5
git_last_commit_date: 2024-02-07 18:38:59 -0400
nebbiolo2Linux (Ubuntu 22.04.3 LTS) / x86_64  OK    OK    WARNINGS  UNNEEDED, same version is already published
palomino4Windows Server 2022 Datacenter / x64  OK    OK    WARNINGS    OK  UNNEEDED, same version is already published
merida1macOS 12.7.1 Monterey / x86_64  OK    OK    WARNINGS    OK  UNNEEDED, same version is already published
kjohnson1macOS 13.6.1 Ventura / arm64see weekly results here
Package 39/513HostnameOS / ArchINSTALLBUILDCHECKBUILD BIN
BSgenomeForge 1.2.3  (landing page)
Hervé Pagès
git_last_commit: f3664ad
git_last_commit_date: 2024-03-25 13:24:00 -0400
nebbiolo2Linux (Ubuntu 22.04.3 LTS) / x86_64  OK    OK    OK  UNNEEDED, same version is already published
palomino4Windows Server 2022 Datacenter / x64  OK    OK    ERROR    OK  
merida1macOS 12.7.1 Monterey / x86_64  OK    OK    OK    OK  UNNEEDED, same version is already published
kjohnson1macOS 13.6.1 Ventura / arm64see weekly results here
Package 40/513HostnameOS / ArchINSTALLBUILDCHECKBUILD BIN
bsseq 1.38.0  (landing page)
Kasper Daniel Hansen
git_last_commit: 392e22c
git_last_commit_date: 2023-10-24 09:50:39 -0400
nebbiolo2Linux (Ubuntu 22.04.3 LTS) / x86_64  OK    OK    OK  UNNEEDED, same version is already published
palomino4Windows Server 2022 Datacenter / x64  OK    OK    OK    OK  UNNEEDED, same version is already published
merida1macOS 12.7.1 Monterey / x86_64  OK    OK    OK    OK  UNNEEDED, same version is already published
kjohnson1macOS 13.6.1 Ventura / arm64see weekly results here
Package 41/513HostnameOS / ArchINSTALLBUILDCHECKBUILD BIN
BubbleTree 2.32.0  (landing page)
Todd Creasy , Wei Zhu
git_last_commit: eea5b5e
git_last_commit_date: 2023-10-24 10:41:33 -0400
nebbiolo2Linux (Ubuntu 22.04.3 LTS) / x86_64  OK    OK    OK  UNNEEDED, same version is already published
palomino4Windows Server 2022 Datacenter / x64  OK    OK    OK    OK  UNNEEDED, same version is already published
merida1macOS 12.7.1 Monterey / x86_64  OK    OK    OK    OK  UNNEEDED, same version is already published
kjohnson1macOS 13.6.1 Ventura / arm64see weekly results here
Package 42/513HostnameOS / ArchINSTALLBUILDCHECKBUILD BIN
BUMHMM 1.26.0  (landing page)
Alina Selega
git_last_commit: 586babd
git_last_commit_date: 2023-10-24 10:54:31 -0400
nebbiolo2Linux (Ubuntu 22.04.3 LTS) / x86_64  OK    OK    OK  UNNEEDED, same version is already published
palomino4Windows Server 2022 Datacenter / x64  OK    OK    OK    OK  UNNEEDED, same version is already published
merida1macOS 12.7.1 Monterey / x86_64  OK    OK    OK    OK  UNNEEDED, same version is already published
kjohnson1macOS 13.6.1 Ventura / arm64see weekly results here
Package 43/513HostnameOS / ArchINSTALLBUILDCHECKBUILD BIN
bumphunter 1.44.0  (landing page)
Tamilselvi Guharaj
git_last_commit: 084be68
git_last_commit_date: 2023-10-24 09:52:09 -0400
nebbiolo2Linux (Ubuntu 22.04.3 LTS) / x86_64  OK    OK    OK  UNNEEDED, same version is already published
palomino4Windows Server 2022 Datacenter / x64  OK    OK    OK    OK  UNNEEDED, same version is already published
merida1macOS 12.7.1 Monterey / x86_64  OK    OK    OK    OK  UNNEEDED, same version is already published
kjohnson1macOS 13.6.1 Ventura / arm64see weekly results here
Package 44/513HostnameOS / ArchINSTALLBUILDCHECKBUILD BIN
BumpyMatrix 1.10.0  (landing page)
Aaron Lun
git_last_commit: 31d6518
git_last_commit_date: 2023-10-24 11:28:56 -0400
nebbiolo2Linux (Ubuntu 22.04.3 LTS) / x86_64  OK    OK    OK  UNNEEDED, same version is already published
palomino4Windows Server 2022 Datacenter / x64  OK    OK    OK    OK  UNNEEDED, same version is already published
merida1macOS 12.7.1 Monterey / x86_64  OK    OK    OK    OK  UNNEEDED, same version is already published
kjohnson1macOS 13.6.1 Ventura / arm64see weekly results here
Package 45/513HostnameOS / ArchINSTALLBUILDCHECKBUILD BIN
BUSpaRse 1.16.1  (landing page)
Lambda Moses
git_last_commit: c1a1ce5
git_last_commit_date: 2024-02-27 19:42:38 -0400
nebbiolo2Linux (Ubuntu 22.04.3 LTS) / x86_64  OK    OK    OK  UNNEEDED, same version is already published
palomino4Windows Server 2022 Datacenter / x64  OK    OK    OK    OK  UNNEEDED, same version is already published
merida1macOS 12.7.1 Monterey / x86_64  OK    OK    OK    OK  UNNEEDED, same version is already published
kjohnson1macOS 13.6.1 Ventura / arm64see weekly results here
Package 46/513HostnameOS / ArchINSTALLBUILDCHECKBUILD BIN
CAFE 1.38.0  (landing page)
Sander Bollen
git_last_commit: ecba1e7
git_last_commit_date: 2023-10-24 09:57:47 -0400
nebbiolo2Linux (Ubuntu 22.04.3 LTS) / x86_64  OK    OK    WARNINGS  UNNEEDED, same version is already published
palomino4Windows Server 2022 Datacenter / x64  OK    OK    WARNINGS    OK  UNNEEDED, same version is already published
merida1macOS 12.7.1 Monterey / x86_64  OK    OK    WARNINGS    OK  UNNEEDED, same version is already published
kjohnson1macOS 13.6.1 Ventura / arm64see weekly results here
Package 47/513HostnameOS / ArchINSTALLBUILDCHECKBUILD BIN
CAGEfightR 1.22.0  (landing page)
Malte Thodberg
git_last_commit: 8a75f42
git_last_commit_date: 2023-10-24 11:05:23 -0400
nebbiolo2Linux (Ubuntu 22.04.3 LTS) / x86_64  OK    OK    OK  UNNEEDED, same version is already published
palomino4Windows Server 2022 Datacenter / x64  OK    OK    OK    OK  UNNEEDED, same version is already published
merida1macOS 12.7.1 Monterey / x86_64  OK    OK    OK    OK  UNNEEDED, same version is already published
kjohnson1macOS 13.6.1 Ventura / arm64see weekly results here
Package 48/513HostnameOS / ArchINSTALLBUILDCHECKBUILD BIN
cageminer 1.8.0  (landing page)
Fabrício Almeida-Silva
git_last_commit: 31e3906
git_last_commit_date: 2023-10-24 11:35:02 -0400
nebbiolo2Linux (Ubuntu 22.04.3 LTS) / x86_64  OK    OK    OK  UNNEEDED, same version is already published
palomino4Windows Server 2022 Datacenter / x64  OK    OK    OK    OK  UNNEEDED, same version is already published
merida1macOS 12.7.1 Monterey / x86_64  OK    OK    OK    OK  UNNEEDED, same version is already published
kjohnson1macOS 13.6.1 Ventura / arm64see weekly results here
Package 49/513HostnameOS / ArchINSTALLBUILDCHECKBUILD BIN
CAGEr 2.8.0  (landing page)
Charles Plessy
git_last_commit: 6ad953b
git_last_commit_date: 2023-10-24 09:52:59 -0400
nebbiolo2Linux (Ubuntu 22.04.3 LTS) / x86_64  OK    OK    OK  UNNEEDED, same version is already published
palomino4Windows Server 2022 Datacenter / x64  OK    OK    OK    OK  UNNEEDED, same version is already published
merida1macOS 12.7.1 Monterey / x86_64  OK    OK    OK    OK  UNNEEDED, same version is already published
kjohnson1macOS 13.6.1 Ventura / arm64see weekly results here
Package 50/513HostnameOS / ArchINSTALLBUILDCHECKBUILD BIN
casper 2.36.0  (landing page)
David Rossell
git_last_commit: 10bb585
git_last_commit_date: 2023-10-24 09:52:32 -0400
nebbiolo2Linux (Ubuntu 22.04.3 LTS) / x86_64  OK    OK    OK  UNNEEDED, same version is already published
palomino4Windows Server 2022 Datacenter / x64  OK    OK    WARNINGS    OK  UNNEEDED, same version is already published
merida1macOS 12.7.1 Monterey / x86_64  OK    ERROR  skippedskipped
kjohnson1macOS 13.6.1 Ventura / arm64see weekly results here
Package 51/513HostnameOS / ArchINSTALLBUILDCHECKBUILD BIN
cBioPortalData 2.14.2  (landing page)
Marcel Ramos
git_last_commit: 3d59ad6
git_last_commit_date: 2024-02-02 15:16:38 -0400
nebbiolo2Linux (Ubuntu 22.04.3 LTS) / x86_64  OK    OK    OK  UNNEEDED, same version is already published
palomino4Windows Server 2022 Datacenter / x64  OK    OK    OK    OK  UNNEEDED, same version is already published
merida1macOS 12.7.1 Monterey / x86_64  OK    OK    OK    OK  UNNEEDED, same version is already published
kjohnson1macOS 13.6.1 Ventura / arm64see weekly results here
Package 52/513HostnameOS / ArchINSTALLBUILDCHECKBUILD BIN
CexoR 1.40.0  (landing page)
Pedro Madrigal
git_last_commit: 0eb2404
git_last_commit_date: 2023-10-24 11:36:53 -0400
nebbiolo2Linux (Ubuntu 22.04.3 LTS) / x86_64  OK    OK    OK  UNNEEDED, same version is already published
palomino4Windows Server 2022 Datacenter / x64  OK    OK    OK    OK  UNNEEDED, same version is already published
merida1macOS 12.7.1 Monterey / x86_64  OK    OK    OK    OK  UNNEEDED, same version is already published
kjohnson1macOS 13.6.1 Ventura / arm64see weekly results here
Package 53/513HostnameOS / ArchINSTALLBUILDCHECKBUILD BIN
cfdnakit 1.0.0  (landing page)
Pitithat Puranachot
git_last_commit: 68ca26c
git_last_commit_date: 2023-10-24 11:49:49 -0400
nebbiolo2Linux (Ubuntu 22.04.3 LTS) / x86_64  OK    OK    OK  UNNEEDED, same version is already published
palomino4Windows Server 2022 Datacenter / x64  OK    OK    OK    OK  UNNEEDED, same version is already published
merida1macOS 12.7.1 Monterey / x86_64  OK    OK    OK    OK  UNNEEDED, same version is already published
kjohnson1macOS 13.6.1 Ventura / arm64see weekly results here
Package 54/513HostnameOS / ArchINSTALLBUILDCHECKBUILD BIN
cfDNAPro 1.8.0  (landing page)
Haichao Wang
git_last_commit: 01178b8
git_last_commit_date: 2023-10-24 11:35:16 -0400
nebbiolo2Linux (Ubuntu 22.04.3 LTS) / x86_64  OK    OK    WARNINGS  UNNEEDED, same version is already published
palomino4Windows Server 2022 Datacenter / x64  OK    OK    WARNINGS    OK  UNNEEDED, same version is already published
merida1macOS 12.7.1 Monterey / x86_64  OK    OK    WARNINGS    OK  UNNEEDED, same version is already published
kjohnson1macOS 13.6.1 Ventura / arm64see weekly results here
Package 55/513HostnameOS / ArchINSTALLBUILDCHECKBUILD BIN
chimeraviz 1.28.0  (landing page)
Stian Lågstad
git_last_commit: 2a2ebf3
git_last_commit_date: 2023-10-24 10:54:26 -0400
nebbiolo2Linux (Ubuntu 22.04.3 LTS) / x86_64  OK    OK    OK  UNNEEDED, same version is already published
palomino4Windows Server 2022 Datacenter / x64  OK    OK    OK    OK  UNNEEDED, same version is already published
merida1macOS 12.7.1 Monterey / x86_64  OK    OK    OK    OK  UNNEEDED, same version is already published
kjohnson1macOS 13.6.1 Ventura / arm64see weekly results here
Package 56/513HostnameOS / ArchINSTALLBUILDCHECKBUILD BIN
ChIPanalyser 1.24.0  (landing page)
Patrick C.N. Martin
git_last_commit: c88afcb
git_last_commit_date: 2023-10-24 10:59:22 -0400
nebbiolo2Linux (Ubuntu 22.04.3 LTS) / x86_64  OK    OK    OK  UNNEEDED, same version is already published
palomino4Windows Server 2022 Datacenter / x64  OK    OK    OK    OK  UNNEEDED, same version is already published
merida1macOS 12.7.1 Monterey / x86_64  OK    OK    OK    OK  UNNEEDED, same version is already published
kjohnson1macOS 13.6.1 Ventura / arm64see weekly results here
Package 57/513HostnameOS / ArchINSTALLBUILDCHECKBUILD BIN
ChIPComp 1.32.0  (landing page)
Li Chen
git_last_commit: 46346bb
git_last_commit_date: 2023-10-24 10:44:51 -0400
nebbiolo2Linux (Ubuntu 22.04.3 LTS) / x86_64  OK    OK    OK  UNNEEDED, same version is already published
palomino4Windows Server 2022 Datacenter / x64  OK    OK    OK    OK  UNNEEDED, same version is already published
merida1macOS 12.7.1 Monterey / x86_64  OK    OK    OK    OK  UNNEEDED, same version is already published
kjohnson1macOS 13.6.1 Ventura / arm64see weekly results here
Package 58/513HostnameOS / ArchINSTALLBUILDCHECKBUILD BIN
chipenrich 2.26.0  (landing page)
Kai Wang
git_last_commit: 8330eab
git_last_commit_date: 2023-10-24 09:55:43 -0400
nebbiolo2Linux (Ubuntu 22.04.3 LTS) / x86_64  OK    OK    OK  UNNEEDED, same version is already published
palomino4Windows Server 2022 Datacenter / x64  OK    OK    OK    OK  UNNEEDED, same version is already published
merida1macOS 12.7.1 Monterey / x86_64  OK    OK    OK    OK  UNNEEDED, same version is already published
kjohnson1macOS 13.6.1 Ventura / arm64see weekly results here
Package 59/513HostnameOS / ArchINSTALLBUILDCHECKBUILD BIN
ChIPexoQual 1.26.0  (landing page)
Rene Welch
git_last_commit: fb1b084
git_last_commit_date: 2023-10-24 10:55:06 -0400
nebbiolo2Linux (Ubuntu 22.04.3 LTS) / x86_64  OK    OK    OK  UNNEEDED, same version is already published
palomino4Windows Server 2022 Datacenter / x64  OK    OK    OK    OK  UNNEEDED, same version is already published
merida1macOS 12.7.1 Monterey / x86_64  OK    OK    OK    OK  UNNEEDED, same version is already published
kjohnson1macOS 13.6.1 Ventura / arm64see weekly results here
Package 60/513HostnameOS / ArchINSTALLBUILDCHECKBUILD BIN
ChIPpeakAnno 3.36.1  (landing page)
Jianhong Ou
git_last_commit: 105ec60
git_last_commit_date: 2024-02-15 15:06:09 -0400
nebbiolo2Linux (Ubuntu 22.04.3 LTS) / x86_64  OK    OK    OK  UNNEEDED, same version is already published
palomino4Windows Server 2022 Datacenter / x64  OK    OK    OK    OK  UNNEEDED, same version is already published
merida1macOS 12.7.1 Monterey / x86_64  OK    OK    OK    OK  UNNEEDED, same version is already published
kjohnson1macOS 13.6.1 Ventura / arm64see weekly results here
Package 61/513HostnameOS / ArchINSTALLBUILDCHECKBUILD BIN
ChIPQC 1.38.0  (landing page)
Tom Carroll , Rory Stark
git_last_commit: 850e458
git_last_commit_date: 2023-10-24 09:58:19 -0400
nebbiolo2Linux (Ubuntu 22.04.3 LTS) / x86_64  OK    OK    WARNINGS  UNNEEDED, same version is already published
palomino4Windows Server 2022 Datacenter / x64  OK    OK    WARNINGS    OK  UNNEEDED, same version is already published
merida1macOS 12.7.1 Monterey / x86_64  OK    OK    WARNINGS    OK  UNNEEDED, same version is already published
kjohnson1macOS 13.6.1 Ventura / arm64see weekly results here
Package 62/513HostnameOS / ArchINSTALLBUILDCHECKBUILD BIN
ChIPseeker 1.38.0  (landing page)
Guangchuang Yu
git_last_commit: 7da66e2
git_last_commit_date: 2023-10-24 09:58:56 -0400
nebbiolo2Linux (Ubuntu 22.04.3 LTS) / x86_64  OK    OK    OK  UNNEEDED, same version is already published
palomino4Windows Server 2022 Datacenter / x64  OK    OK    OK    OK  UNNEEDED, same version is already published
merida1macOS 12.7.1 Monterey / x86_64  OK    OK    TIMEOUT    OK  
kjohnson1macOS 13.6.1 Ventura / arm64see weekly results here
Package 63/513HostnameOS / ArchINSTALLBUILDCHECKBUILD BIN
chipseq 1.52.0  (landing page)
Bioconductor Package Maintainer
git_last_commit: 1092f8c
git_last_commit_date: 2023-10-24 09:42:03 -0400
nebbiolo2Linux (Ubuntu 22.04.3 LTS) / x86_64  OK    OK    WARNINGS  UNNEEDED, same version is already published
palomino4Windows Server 2022 Datacenter / x64  OK    OK    WARNINGS    OK  UNNEEDED, same version is already published
merida1macOS 12.7.1 Monterey / x86_64  OK    OK    WARNINGS    OK  UNNEEDED, same version is already published
kjohnson1macOS 13.6.1 Ventura / arm64see weekly results here
Package 64/513HostnameOS / ArchINSTALLBUILDCHECKBUILD BIN
ChIPseqR 1.56.0  (landing page)
Peter Humburg
git_last_commit: b474bac
git_last_commit_date: 2023-10-24 09:42:51 -0400
nebbiolo2Linux (Ubuntu 22.04.3 LTS) / x86_64  OK    OK    OK  UNNEEDED, same version is already published
palomino4Windows Server 2022 Datacenter / x64  OK    OK    OK    OK  UNNEEDED, same version is already published
merida1macOS 12.7.1 Monterey / x86_64  OK    OK    OK    OK  UNNEEDED, same version is already published
kjohnson1macOS 13.6.1 Ventura / arm64see weekly results here
Package 65/513HostnameOS / ArchINSTALLBUILDCHECKBUILD BIN
ChIPsim 1.56.0  (landing page)
Peter Humburg
git_last_commit: c3ecaa6
git_last_commit_date: 2023-10-24 09:42:24 -0400
nebbiolo2Linux (Ubuntu 22.04.3 LTS) / x86_64  OK    OK    OK  UNNEEDED, same version is already published
palomino4Windows Server 2022 Datacenter / x64  OK    OK    OK    OK  UNNEEDED, same version is already published
merida1macOS 12.7.1 Monterey / x86_64  OK    OK    OK    OK  UNNEEDED, same version is already published
kjohnson1macOS 13.6.1 Ventura / arm64see weekly results here
Package 66/513HostnameOS / ArchINSTALLBUILDCHECKBUILD BIN
ChromHeatMap 1.56.0  (landing page)
Tim F. Rayner
git_last_commit: 453e688
git_last_commit_date: 2023-10-24 09:42:48 -0400
nebbiolo2Linux (Ubuntu 22.04.3 LTS) / x86_64  OK    OK    OK  UNNEEDED, same version is already published
palomino4Windows Server 2022 Datacenter / x64  OK    OK    OK    OK  UNNEEDED, same version is already published
merida1macOS 12.7.1 Monterey / x86_64  OK    OK    OK    OK  UNNEEDED, same version is already published
kjohnson1macOS 13.6.1 Ventura / arm64see weekly results here
Package 67/513HostnameOS / ArchINSTALLBUILDCHECKBUILD BIN
ChromSCape 1.12.0  (landing page)
Pacome Prompsy
git_last_commit: 8311c30
git_last_commit_date: 2023-10-24 11:26:16 -0400
nebbiolo2Linux (Ubuntu 22.04.3 LTS) / x86_64  OK    OK    WARNINGS  UNNEEDED, same version is already published
palomino4Windows Server 2022 Datacenter / x64  OK    OK    WARNINGS    OK  UNNEEDED, same version is already published
merida1macOS 12.7.1 Monterey / x86_64  OK    OK    WARNINGS    OK  UNNEEDED, same version is already published
kjohnson1macOS 13.6.1 Ventura / arm64see weekly results here
Package 68/513HostnameOS / ArchINSTALLBUILDCHECKBUILD BIN
chromstaR 1.28.0  (landing page)
Aaron Taudt
git_last_commit: b61ea88
git_last_commit_date: 2023-10-24 10:51:00 -0400
nebbiolo2Linux (Ubuntu 22.04.3 LTS) / x86_64  OK    ERROR  skipped
palomino4Windows Server 2022 Datacenter / x64  OK    ERROR  skippedskipped
merida1macOS 12.7.1 Monterey / x86_64  OK    ERROR  skippedskipped
kjohnson1macOS 13.6.1 Ventura / arm64see weekly results here
Package 69/513HostnameOS / ArchINSTALLBUILDCHECKBUILD BIN
chromVAR 1.24.0  (landing page)
Alicia Schep
git_last_commit: e2d61b0
git_last_commit_date: 2023-10-24 11:00:14 -0400
nebbiolo2Linux (Ubuntu 22.04.3 LTS) / x86_64  OK    OK    OK  UNNEEDED, same version is already published
palomino4Windows Server 2022 Datacenter / x64  OK    OK    OK    OK  UNNEEDED, same version is already published
merida1macOS 12.7.1 Monterey / x86_64  OK    OK    OK    OK  UNNEEDED, same version is already published
kjohnson1macOS 13.6.1 Ventura / arm64see weekly results here
Package 70/513HostnameOS / ArchINSTALLBUILDCHECKBUILD BIN
cicero 1.20.0  (landing page)
Hannah Pliner
git_last_commit: 5f59985
git_last_commit_date: 2023-10-24 11:08:17 -0400
nebbiolo2Linux (Ubuntu 22.04.3 LTS) / x86_64  ERROR    ERROR  skipped
palomino4Windows Server 2022 Datacenter / x64  ERROR    ERROR  skippedskipped
merida1macOS 12.7.1 Monterey / x86_64  ERROR    ERROR  skippedskipped
kjohnson1macOS 13.6.1 Ventura / arm64see weekly results here
Package 71/513HostnameOS / ArchINSTALLBUILDCHECKBUILD BIN
CINdex 1.30.0  (landing page)
Yuriy Gusev
git_last_commit: e0c6ac5
git_last_commit_date: 2023-10-24 10:49:08 -0400
nebbiolo2Linux (Ubuntu 22.04.3 LTS) / x86_64  OK    OK    WARNINGS  UNNEEDED, same version is already published
palomino4Windows Server 2022 Datacenter / x64  OK    OK    WARNINGS    OK  UNNEEDED, same version is already published
merida1macOS 12.7.1 Monterey / x86_64  OK    OK    WARNINGS    OK  UNNEEDED, same version is already published
kjohnson1macOS 13.6.1 Ventura / arm64see weekly results here
Package 72/513HostnameOS / ArchINSTALLBUILDCHECKBUILD BIN
circRNAprofiler 1.16.0  (landing page)
Simona Aufiero
git_last_commit: 39fe35b
git_last_commit_date: 2023-10-24 11:15:12 -0400
nebbiolo2Linux (Ubuntu 22.04.3 LTS) / x86_64  OK    OK    OK  UNNEEDED, same version is already published
palomino4Windows Server 2022 Datacenter / x64  OK    OK    OK    OK  UNNEEDED, same version is already published
merida1macOS 12.7.1 Monterey / x86_64  OK    OK    OK    OK  UNNEEDED, same version is already published
kjohnson1macOS 13.6.1 Ventura / arm64see weekly results here
Package 73/513HostnameOS / ArchINSTALLBUILDCHECKBUILD BIN
CircSeqAlignTk 1.4.0  (landing page)
Jianqiang Sun
git_last_commit: 958204b
git_last_commit_date: 2023-10-24 11:44:28 -0400
nebbiolo2Linux (Ubuntu 22.04.3 LTS) / x86_64  OK    OK    OK  UNNEEDED, same version is already published
palomino4Windows Server 2022 Datacenter / x64  OK    OK    ERROR    OK  
merida1macOS 12.7.1 Monterey / x86_64  OK    OK    OK    OK  UNNEEDED, same version is already published
kjohnson1macOS 13.6.1 Ventura / arm64see weekly results here
Package 74/513HostnameOS / ArchINSTALLBUILDCHECKBUILD BIN
cleanUpdTSeq 1.40.0  (landing page)
Jianhong Ou ; Lihua Julie Zhu
git_last_commit: a14f6c9
git_last_commit_date: 2023-10-24 09:54:49 -0400
nebbiolo2Linux (Ubuntu 22.04.3 LTS) / x86_64  OK    OK    OK  UNNEEDED, same version is already published
palomino4Windows Server 2022 Datacenter / x64  OK    OK    OK    OK  UNNEEDED, same version is already published
merida1macOS 12.7.1 Monterey / x86_64  OK    OK    OK    OK  UNNEEDED, same version is already published
kjohnson1macOS 13.6.1 Ventura / arm64see weekly results here
Package 75/513HostnameOS / ArchINSTALLBUILDCHECKBUILD BIN
cleaver 1.40.0  (landing page)
Sebastian Gibb
git_last_commit: 180eed4
git_last_commit_date: 2023-10-24 09:54:17 -0400
nebbiolo2Linux (Ubuntu 22.04.3 LTS) / x86_64  OK    OK    OK  UNNEEDED, same version is already published
palomino4Windows Server 2022 Datacenter / x64  OK    OK    OK    OK  UNNEEDED, same version is already published
merida1macOS 12.7.1 Monterey / x86_64  OK    OK    OK    OK  UNNEEDED, same version is already published
kjohnson1macOS 13.6.1 Ventura / arm64see weekly results here
Package 76/513HostnameOS / ArchINSTALLBUILDCHECKBUILD BIN
cn.mops 1.48.0  (landing page)
Gundula Povysil
git_last_commit: f3cf243
git_last_commit_date: 2023-10-24 09:48:47 -0400
nebbiolo2Linux (Ubuntu 22.04.3 LTS) / x86_64  OK    OK    OK  UNNEEDED, same version is already published
palomino4Windows Server 2022 Datacenter / x64  OK    OK    OK    OK  UNNEEDED, same version is already published
merida1macOS 12.7.1 Monterey / x86_64  OK    OK    OK    OK  UNNEEDED, same version is already published
kjohnson1macOS 13.6.1 Ventura / arm64see weekly results here
Package 77/513HostnameOS / ArchINSTALLBUILDCHECKBUILD BIN
CNEr 1.38.0  (landing page)
Ge Tan
git_last_commit: 50955a0
git_last_commit_date: 2023-10-24 09:57:27 -0400
nebbiolo2Linux (Ubuntu 22.04.3 LTS) / x86_64  OK    OK    WARNINGS  UNNEEDED, same version is already published
palomino4Windows Server 2022 Datacenter / x64  OK    OK    WARNINGS    OK  UNNEEDED, same version is already published
merida1macOS 12.7.1 Monterey / x86_64  OK    OK    WARNINGS    OK  UNNEEDED, same version is already published
kjohnson1macOS 13.6.1 Ventura / arm64see weekly results here
Package 78/513HostnameOS / ArchINSTALLBUILDCHECKBUILD BIN
CNVfilteR 1.16.0  (landing page)
Jose Marcos Moreno-Cabrera
git_last_commit: b3a6913
git_last_commit_date: 2023-10-24 11:17:02 -0400
nebbiolo2Linux (Ubuntu 22.04.3 LTS) / x86_64  OK    OK    OK  UNNEEDED, same version is already published
palomino4Windows Server 2022 Datacenter / x64  OK    OK    OK    OK  UNNEEDED, same version is already published
merida1macOS 12.7.1 Monterey / x86_64  OK    OK    OK    OK  UNNEEDED, same version is already published
kjohnson1macOS 13.6.1 Ventura / arm64see weekly results here
Package 79/513HostnameOS / ArchINSTALLBUILDCHECKBUILD BIN
CNVMetrics 1.6.0  (landing page)
Astrid Deschênes
git_last_commit: ce19a59
git_last_commit_date: 2023-10-24 11:38:44 -0400
nebbiolo2Linux (Ubuntu 22.04.3 LTS) / x86_64  OK    OK    OK  UNNEEDED, same version is already published
palomino4Windows Server 2022 Datacenter / x64  OK    OK    OK    OK  UNNEEDED, same version is already published
merida1macOS 12.7.1 Monterey / x86_64  OK    OK    OK    OK  UNNEEDED, same version is already published
kjohnson1macOS 13.6.1 Ventura / arm64see weekly results here
Package 80/513HostnameOS / ArchINSTALLBUILDCHECKBUILD BIN
CNVPanelizer 1.34.0  (landing page)
Thomas Wolf
git_last_commit: ca119f6
git_last_commit_date: 2023-10-24 10:44:06 -0400
nebbiolo2Linux (Ubuntu 22.04.3 LTS) / x86_64  OK    OK    OK  UNNEEDED, same version is already published
palomino4Windows Server 2022 Datacenter / x64  OK    OK    OK    OK  UNNEEDED, same version is already published
merida1macOS 12.7.1 Monterey / x86_64  OK    OK    OK    OK  UNNEEDED, same version is already published
kjohnson1macOS 13.6.1 Ventura / arm64see weekly results here
Package 81/513HostnameOS / ArchINSTALLBUILDCHECKBUILD BIN
CNVRanger 1.18.1  (landing page)
Ludwig Geistlinger
git_last_commit: bccc306
git_last_commit_date: 2024-02-24 16:54:29 -0400
nebbiolo2Linux (Ubuntu 22.04.3 LTS) / x86_64  OK    ERROR  skipped
palomino4Windows Server 2022 Datacenter / x64  OK    OK    OK    OK  UNNEEDED, same version is already published
merida1macOS 12.7.1 Monterey / x86_64  OK    OK    OK    OK  UNNEEDED, same version is already published
kjohnson1macOS 13.6.1 Ventura / arm64see weekly results here
Package 82/513HostnameOS / ArchINSTALLBUILDCHECKBUILD BIN
CNVrd2 1.40.0  (landing page)
Hoang Tan Nguyen
git_last_commit: 497de63
git_last_commit_date: 2023-10-24 09:56:44 -0400
nebbiolo2Linux (Ubuntu 22.04.3 LTS) / x86_64  OK    OK    OK  UNNEEDED, same version is already published
palomino4Windows Server 2022 Datacenter / x64  OK    OK    OK    OK  UNNEEDED, same version is already published
merida1macOS 12.7.1 Monterey / x86_64  OK    OK    OK    OK  UNNEEDED, same version is already published
kjohnson1macOS 13.6.1 Ventura / arm64see weekly results here
Package 83/513HostnameOS / ArchINSTALLBUILDCHECKBUILD BIN
COCOA 2.16.0  (landing page)
John Lawson
git_last_commit: d18f2bc
git_last_commit_date: 2023-10-24 11:09:00 -0400
nebbiolo2Linux (Ubuntu 22.04.3 LTS) / x86_64  OK    OK    OK  UNNEEDED, same version is already published
palomino4Windows Server 2022 Datacenter / x64  OK    OK    OK    OK  UNNEEDED, same version is already published
merida1macOS 12.7.1 Monterey / x86_64  OK    OK    OK    OK  UNNEEDED, same version is already published
kjohnson1macOS 13.6.1 Ventura / arm64see weekly results here
Package 84/513HostnameOS / ArchINSTALLBUILDCHECKBUILD BIN
CODEX 1.34.0  (landing page)
Yuchao Jiang
git_last_commit: f59d9cf
git_last_commit_date: 2023-10-24 10:40:53 -0400
nebbiolo2Linux (Ubuntu 22.04.3 LTS) / x86_64  OK    OK    OK  UNNEEDED, same version is already published
palomino4Windows Server 2022 Datacenter / x64  OK    OK    OK    OK  UNNEEDED, same version is already published
merida1macOS 12.7.1 Monterey / x86_64  OK    OK    OK    OK  UNNEEDED, same version is already published
kjohnson1macOS 13.6.1 Ventura / arm64see weekly results here
Package 85/513HostnameOS / ArchINSTALLBUILDCHECKBUILD BIN
comapr 1.6.1  (landing page)
Ruqian Lyu
git_last_commit: fe01419
git_last_commit_date: 2023-10-27 00:06:38 -0400
nebbiolo2Linux (Ubuntu 22.04.3 LTS) / x86_64  OK    OK    OK  UNNEEDED, same version is already published
palomino4Windows Server 2022 Datacenter / x64  OK    OK    OK    OK  UNNEEDED, same version is already published
merida1macOS 12.7.1 Monterey / x86_64  OK    OK    OK    OK  UNNEEDED, same version is already published
kjohnson1macOS 13.6.1 Ventura / arm64see weekly results here
Package 86/513HostnameOS / ArchINSTALLBUILDCHECKBUILD BIN
coMET 1.34.0  (landing page)
Tiphaine Martin
git_last_commit: 79c0b13
git_last_commit_date: 2023-10-24 11:45:22 -0400
nebbiolo2Linux (Ubuntu 22.04.3 LTS) / x86_64  OK    OK    WARNINGS  UNNEEDED, same version is already published
palomino4Windows Server 2022 Datacenter / x64  OK    OK    WARNINGS    OK  UNNEEDED, same version is already published
merida1macOS 12.7.1 Monterey / x86_64  OK    OK    WARNINGS    OK  UNNEEDED, same version is already published
kjohnson1macOS 13.6.1 Ventura / arm64see weekly results here
Package 87/513HostnameOS / ArchINSTALLBUILDCHECKBUILD BIN
coMethDMR 1.6.0  (landing page)
Fernanda Veitzman
git_last_commit: aa83334
git_last_commit_date: 2023-10-24 11:38:47 -0400
nebbiolo2Linux (Ubuntu 22.04.3 LTS) / x86_64  OK    ERROR  skipped
palomino4Windows Server 2022 Datacenter / x64  OK    OK    OK    OK  UNNEEDED, same version is already published
merida1macOS 12.7.1 Monterey / x86_64  ERROR    OK    ERROR    OK  
kjohnson1macOS 13.6.1 Ventura / arm64see weekly results here
Package 88/513HostnameOS / ArchINSTALLBUILDCHECKBUILD BIN
compEpiTools 1.36.0  (landing page)
Mattia Furlan
git_last_commit: a66a836
git_last_commit_date: 2023-10-24 10:00:44 -0400
nebbiolo2Linux (Ubuntu 22.04.3 LTS) / x86_64  OK    OK    WARNINGS  UNNEEDED, same version is already published
palomino4Windows Server 2022 Datacenter / x64  OK    OK    WARNINGS    OK  UNNEEDED, same version is already published
merida1macOS 12.7.1 Monterey / x86_64  OK    OK    WARNINGS    OK  UNNEEDED, same version is already published
kjohnson1macOS 13.6.1 Ventura / arm64see weekly results here
Package 89/513HostnameOS / ArchINSTALLBUILDCHECKBUILD BIN
ComplexHeatmap 2.18.0  (landing page)
Zuguang Gu
git_last_commit: d3c15b6
git_last_commit_date: 2023-10-24 10:42:36 -0400
nebbiolo2Linux (Ubuntu 22.04.3 LTS) / x86_64  OK    OK    OK  UNNEEDED, same version is already published
palomino4Windows Server 2022 Datacenter / x64  OK    OK    OK    OK  UNNEEDED, same version is already published
merida1macOS 12.7.1 Monterey / x86_64  OK    OK    OK    OK  UNNEEDED, same version is already published
kjohnson1macOS 13.6.1 Ventura / arm64see weekly results here
Package 90/513HostnameOS / ArchINSTALLBUILDCHECKBUILD BIN
CompoundDb 1.6.0  (landing page)
Johannes Rainer
git_last_commit: 288e0ba
git_last_commit_date: 2023-10-24 11:39:19 -0400
nebbiolo2Linux (Ubuntu 22.04.3 LTS) / x86_64  OK    OK    OK  UNNEEDED, same version is already published
palomino4Windows Server 2022 Datacenter / x64  OK    OK    OK    OK  UNNEEDED, same version is already published
merida1macOS 12.7.1 Monterey / x86_64  OK    OK    OK    OK  UNNEEDED, same version is already published
kjohnson1macOS 13.6.1 Ventura / arm64see weekly results here
Package 91/513HostnameOS / ArchINSTALLBUILDCHECKBUILD BIN
consensusSeekeR 1.30.0  (landing page)
Astrid Deschenes
git_last_commit: 6922cd9
git_last_commit_date: 2023-10-24 10:46:19 -0400
nebbiolo2Linux (Ubuntu 22.04.3 LTS) / x86_64  OK    OK    OK  UNNEEDED, same version is already published
palomino4Windows Server 2022 Datacenter / x64  OK    OK    OK    OK  UNNEEDED, same version is already published
merida1macOS 12.7.1 Monterey / x86_64  OK    OK    OK    OK  UNNEEDED, same version is already published
kjohnson1macOS 13.6.1 Ventura / arm64see weekly results here
Package 92/513HostnameOS / ArchINSTALLBUILDCHECKBUILD BIN
contiBAIT 1.30.0  (landing page)
Kieran O'Neill
git_last_commit: 4d4e432
git_last_commit_date: 2023-10-24 10:47:36 -0400
nebbiolo2Linux (Ubuntu 22.04.3 LTS) / x86_64  OK    OK    WARNINGS  UNNEEDED, same version is already published
palomino4Windows Server 2022 Datacenter / x64  OK    OK    WARNINGS    OK  UNNEEDED, same version is already published
merida1macOS 12.7.1 Monterey / x86_64  OK    OK    WARNINGS    OK  UNNEEDED, same version is already published
kjohnson1macOS 13.6.1 Ventura / arm64see weekly results here
Package 93/513HostnameOS / ArchINSTALLBUILDCHECKBUILD BIN
conumee 1.36.0  (landing page)
Volker Hovestadt
git_last_commit: 417410b
git_last_commit_date: 2023-10-24 10:43:01 -0400
nebbiolo2Linux (Ubuntu 22.04.3 LTS) / x86_64  OK    OK    OK  UNNEEDED, same version is already published
palomino4Windows Server 2022 Datacenter / x64... NOT SUPPORTED ...
merida1macOS 12.7.1 Monterey / x86_64  OK    OK    TIMEOUT    OK  
kjohnson1macOS 13.6.1 Ventura / arm64see weekly results here
Package 94/513HostnameOS / ArchINSTALLBUILDCHECKBUILD BIN
CopyNumberPlots 1.18.0  (landing page)
Bernat Gel
git_last_commit: 88ca611
git_last_commit_date: 2023-10-24 11:13:15 -0400
nebbiolo2Linux (Ubuntu 22.04.3 LTS) / x86_64  OK    OK    OK  UNNEEDED, same version is already published
palomino4Windows Server 2022 Datacenter / x64  OK    OK    OK    OK  UNNEEDED, same version is already published
merida1macOS 12.7.1 Monterey / x86_64  OK    OK    OK    OK  UNNEEDED, same version is already published
kjohnson1macOS 13.6.1 Ventura / arm64see weekly results here
Package 95/513HostnameOS / ArchINSTALLBUILDCHECKBUILD BIN
CoverageView 1.40.0  (landing page)
Ernesto Lowy
git_last_commit: 68638ab
git_last_commit_date: 2023-10-24 09:58:32 -0400
nebbiolo2Linux (Ubuntu 22.04.3 LTS) / x86_64  OK    OK    WARNINGS  UNNEEDED, same version is already published
palomino4Windows Server 2022 Datacenter / x64... NOT SUPPORTED ...
merida1macOS 12.7.1 Monterey / x86_64  OK    OK    WARNINGS    OK  UNNEEDED, same version is already published
kjohnson1macOS 13.6.1 Ventura / arm64see weekly results here
Package 96/513HostnameOS / ArchINSTALLBUILDCHECKBUILD BIN
crisprBase 1.6.0  (landing page)
Jean-Philippe Fortin
git_last_commit: bee5106
git_last_commit_date: 2023-10-24 11:38:53 -0400
nebbiolo2Linux (Ubuntu 22.04.3 LTS) / x86_64  OK    OK    OK  UNNEEDED, same version is already published
palomino4Windows Server 2022 Datacenter / x64  OK    OK    OK    OK  UNNEEDED, same version is already published
merida1macOS 12.7.1 Monterey / x86_64  OK    OK    OK    OK  UNNEEDED, same version is already published
kjohnson1macOS 13.6.1 Ventura / arm64see weekly results here
Package 97/513HostnameOS / ArchINSTALLBUILDCHECKBUILD BIN
crisprBowtie 1.6.0  (landing page)
Jean-Philippe Fortin
git_last_commit: 8e28fd8
git_last_commit_date: 2023-10-24 11:39:40 -0400
nebbiolo2Linux (Ubuntu 22.04.3 LTS) / x86_64  OK    OK    OK  UNNEEDED, same version is already published
palomino4Windows Server 2022 Datacenter / x64  OK    OK    OK    OK  UNNEEDED, same version is already published
merida1macOS 12.7.1 Monterey / x86_64  OK    OK    OK    OK  UNNEEDED, same version is already published
kjohnson1macOS 13.6.1 Ventura / arm64see weekly results here
Package 98/513HostnameOS / ArchINSTALLBUILDCHECKBUILD BIN
crisprDesign 1.4.0  (landing page)
Jean-Philippe Fortin
git_last_commit: 47405b3
git_last_commit_date: 2023-10-24 11:43:12 -0400
nebbiolo2Linux (Ubuntu 22.04.3 LTS) / x86_64  OK    OK    OK  UNNEEDED, same version is already published
palomino4Windows Server 2022 Datacenter / x64  OK    OK    OK    OK  UNNEEDED, same version is already published
merida1macOS 12.7.1 Monterey / x86_64  OK    OK    OK    OK  UNNEEDED, same version is already published
kjohnson1macOS 13.6.1 Ventura / arm64see weekly results here
Package 99/513HostnameOS / ArchINSTALLBUILDCHECKBUILD BIN
crisprScore 1.6.0  (landing page)
Jean-Philippe Fortin
git_last_commit: d5de542
git_last_commit_date: 2023-10-24 11:38:59 -0400
nebbiolo2Linux (Ubuntu 22.04.3 LTS) / x86_64  OK    OK    OK  UNNEEDED, same version is already published
palomino4Windows Server 2022 Datacenter / x64  OK    OK    OK    OK  UNNEEDED, same version is already published
merida1macOS 12.7.1 Monterey / x86_64  OK    OK    OK    OK  UNNEEDED, same version is already published
kjohnson1macOS 13.6.1 Ventura / arm64see weekly results here
Package 100/513HostnameOS / ArchINSTALLBUILDCHECKBUILD BIN
CRISPRseek 1.42.0  (landing page)
Lihua Julie Zhu
git_last_commit: bd578a5
git_last_commit_date: 2023-10-24 09:56:49 -0400
nebbiolo2Linux (Ubuntu 22.04.3 LTS) / x86_64  OK    OK    OK  UNNEEDED, same version is already published
palomino4Windows Server 2022 Datacenter / x64  OK    OK    TIMEOUT    OK  
merida1macOS 12.7.1 Monterey / x86_64  OK    OK    TIMEOUT    OK  
kjohnson1macOS 13.6.1 Ventura / arm64see weekly results here
Package 101/513HostnameOS / ArchINSTALLBUILDCHECKBUILD BIN
CrispRVariants 1.30.0  (landing page)
Helen Lindsay
git_last_commit: 871c979
git_last_commit_date: 2023-10-24 10:46:52 -0400
nebbiolo2Linux (Ubuntu 22.04.3 LTS) / x86_64  OK    OK    WARNINGS  UNNEEDED, same version is already published
palomino4Windows Server 2022 Datacenter / x64  OK    OK    WARNINGS    OK  UNNEEDED, same version is already published
merida1macOS 12.7.1 Monterey / x86_64  OK    OK    WARNINGS    OK  UNNEEDED, same version is already published
kjohnson1macOS 13.6.1 Ventura / arm64see weekly results here
Package 102/513HostnameOS / ArchINSTALLBUILDCHECKBUILD BIN
crisprViz 1.4.0  (landing page)
Jean-Philippe Fortin
git_last_commit: 1275317
git_last_commit_date: 2023-10-24 11:44:10 -0400
nebbiolo2Linux (Ubuntu 22.04.3 LTS) / x86_64  OK    OK    OK  UNNEEDED, same version is already published
palomino4Windows Server 2022 Datacenter / x64  OK    OK    OK    OK  UNNEEDED, same version is already published
merida1macOS 12.7.1 Monterey / x86_64  OK    OK    OK    OK  UNNEEDED, same version is already published
kjohnson1macOS 13.6.1 Ventura / arm64see weekly results here
Package 103/513HostnameOS / ArchINSTALLBUILDCHECKBUILD BIN
CSAR 1.54.0  (landing page)
Jose M Muino
git_last_commit: e739600
git_last_commit_date: 2023-10-24 09:43:04 -0400
nebbiolo2Linux (Ubuntu 22.04.3 LTS) / x86_64  OK    OK    OK  UNNEEDED, same version is already published
palomino4Windows Server 2022 Datacenter / x64  OK    OK    OK    OK  UNNEEDED, same version is already published
merida1macOS 12.7.1 Monterey / x86_64  OK    OK    OK    OK  UNNEEDED, same version is already published
kjohnson1macOS 13.6.1 Ventura / arm64see weekly results here
Package 104/513HostnameOS / ArchINSTALLBUILDCHECKBUILD BIN
csaw 1.36.1  (landing page)
Aaron Lun
git_last_commit: 25b51ba
git_last_commit_date: 2023-11-30 02:21:57 -0400
nebbiolo2Linux (Ubuntu 22.04.3 LTS) / x86_64  OK    OK    WARNINGS  UNNEEDED, same version is already published
palomino4Windows Server 2022 Datacenter / x64  OK    OK    WARNINGS    OK  UNNEEDED, same version is already published
merida1macOS 12.7.1 Monterey / x86_64  OK    OK    WARNINGS    OK  UNNEEDED, same version is already published
kjohnson1macOS 13.6.1 Ventura / arm64see weekly results here
Package 105/513HostnameOS / ArchINSTALLBUILDCHECKBUILD BIN
CSSQ 1.14.0  (landing page)
Fan Lab at Georgia Institute of Technology
git_last_commit: 169f2fd
git_last_commit_date: 2023-10-24 11:18:33 -0400
nebbiolo2Linux (Ubuntu 22.04.3 LTS) / x86_64  OK    OK    OK  UNNEEDED, same version is already published
palomino4Windows Server 2022 Datacenter / x64  OK    OK    OK    OK  UNNEEDED, same version is already published
merida1macOS 12.7.1 Monterey / x86_64  OK    OK    OK    OK  UNNEEDED, same version is already published
kjohnson1macOS 13.6.1 Ventura / arm64see weekly results here
Package 106/513HostnameOS / ArchINSTALLBUILDCHECKBUILD BIN
customProDB 1.42.1  (landing page)
Xiaojing Wang
git_last_commit: 74cddbb
git_last_commit_date: 2024-03-05 00:31:17 -0400
nebbiolo2Linux (Ubuntu 22.04.3 LTS) / x86_64  OK    OK    ERROR  
palomino4Windows Server 2022 Datacenter / x64  OK    OK    ERROR    OK  
merida1macOS 12.7.1 Monterey / x86_64  OK    OK    ERROR    OK  
kjohnson1macOS 13.6.1 Ventura / arm64see weekly results here
Package 107/513HostnameOS / ArchINSTALLBUILDCHECKBUILD BIN
dada2 1.30.0  (landing page)
Benjamin Callahan
git_last_commit: ec87892
git_last_commit_date: 2023-10-24 10:47:58 -0400
nebbiolo2Linux (Ubuntu 22.04.3 LTS) / x86_64  OK    OK    OK  UNNEEDED, same version is already published
palomino4Windows Server 2022 Datacenter / x64  OK    OK    OK    OK  UNNEEDED, same version is already published
merida1macOS 12.7.1 Monterey / x86_64  OK    OK    OK    OK  UNNEEDED, same version is already published
kjohnson1macOS 13.6.1 Ventura / arm64see weekly results here
Package 108/513HostnameOS / ArchINSTALLBUILDCHECKBUILD BIN
DAMEfinder 1.14.0  (landing page)
Stephany Orjuela
git_last_commit: 622c379
git_last_commit_date: 2023-10-24 11:19:04 -0400
nebbiolo2Linux (Ubuntu 22.04.3 LTS) / x86_64  OK    OK    OK  UNNEEDED, same version is already published
palomino4Windows Server 2022 Datacenter / x64  OK    OK    OK    OK  UNNEEDED, same version is already published
merida1macOS 12.7.1 Monterey / x86_64  OK    OK    OK    OK  UNNEEDED, same version is already published
kjohnson1macOS 13.6.1 Ventura / arm64see weekly results here
Package 109/513HostnameOS / ArchINSTALLBUILDCHECKBUILD BIN
debrowser 1.30.2  (landing page)
Alper Kucukural
git_last_commit: edf9f4c
git_last_commit_date: 2024-02-05 11:10:13 -0400
nebbiolo2Linux (Ubuntu 22.04.3 LTS) / x86_64  OK    OK    OK  UNNEEDED, same version is already published
palomino4Windows Server 2022 Datacenter / x64  OK    OK    OK    OK  UNNEEDED, same version is already published
merida1macOS 12.7.1 Monterey / x86_64  OK    OK    OK    OK  UNNEEDED, same version is already published
kjohnson1macOS 13.6.1 Ventura / arm64see weekly results here
Package 110/513HostnameOS / ArchINSTALLBUILDCHECKBUILD BIN
DECIPHER 2.30.0  (landing page)
Erik Wright
git_last_commit: e33ea83
git_last_commit_date: 2023-10-24 09:48:16 -0400
nebbiolo2Linux (Ubuntu 22.04.3 LTS) / x86_64  OK    OK    OK  UNNEEDED, same version is already published
palomino4Windows Server 2022 Datacenter / x64  OK    OK    OK    OK  UNNEEDED, same version is already published
merida1macOS 12.7.1 Monterey / x86_64  OK    OK    OK    OK  UNNEEDED, same version is already published
kjohnson1macOS 13.6.1 Ventura / arm64see weekly results here
Package 111/513HostnameOS / ArchINSTALLBUILDCHECKBUILD BIN
deconvR 1.8.0  (landing page)
Irem B. Gündüz
git_last_commit: ab010e5
git_last_commit_date: 2023-10-24 11:37:39 -0400
nebbiolo2Linux (Ubuntu 22.04.3 LTS) / x86_64  OK    OK    OK  UNNEEDED, same version is already published
palomino4Windows Server 2022 Datacenter / x64  OK    OK    OK    OK  UNNEEDED, same version is already published
merida1macOS 12.7.1 Monterey / x86_64  OK    OK    OK    OK  UNNEEDED, same version is already published
kjohnson1macOS 13.6.1 Ventura / arm64see weekly results here
Package 112/513HostnameOS / ArchINSTALLBUILDCHECKBUILD BIN
deepSNV 1.48.0  (landing page)
Moritz Gerstung
git_last_commit: 38615a9
git_last_commit_date: 2023-10-24 09:49:21 -0400
nebbiolo2Linux (Ubuntu 22.04.3 LTS) / x86_64  OK    OK    WARNINGS  UNNEEDED, same version is already published
palomino4Windows Server 2022 Datacenter / x64  OK    OK    OK    OK  UNNEEDED, same version is already published
merida1macOS 12.7.1 Monterey / x86_64  OK    OK    WARNINGS    OK  UNNEEDED, same version is already published
kjohnson1macOS 13.6.1 Ventura / arm64see weekly results here
Package 113/513HostnameOS / ArchINSTALLBUILDCHECKBUILD BIN
DegNorm 1.12.0  (landing page)
Ji-Ping Wang
git_last_commit: 405e5cb
git_last_commit_date: 2023-10-24 11:22:52 -0400
nebbiolo2Linux (Ubuntu 22.04.3 LTS) / x86_64  OK    OK    OK  UNNEEDED, same version is already published
palomino4Windows Server 2022 Datacenter / x64  OK    OK    OK    OK  UNNEEDED, same version is already published
merida1macOS 12.7.1 Monterey / x86_64  OK    OK    OK    OK  UNNEEDED, same version is already published
kjohnson1macOS 13.6.1 Ventura / arm64see weekly results here
Package 114/513HostnameOS / ArchINSTALLBUILDCHECKBUILD BIN
DelayedArray 0.28.0  (landing page)
Hervé Pagès
git_last_commit: 4f63877
git_last_commit_date: 2023-10-24 10:54:24 -0400
nebbiolo2Linux (Ubuntu 22.04.3 LTS) / x86_64  OK    OK    WARNINGS  UNNEEDED, same version is already published
palomino4Windows Server 2022 Datacenter / x64  OK    OK    WARNINGS    OK  UNNEEDED, same version is already published
merida1macOS 12.7.1 Monterey / x86_64  OK    OK    WARNINGS    OK  UNNEEDED, same version is already published
kjohnson1macOS 13.6.1 Ventura / arm64see weekly results here
Package 115/513HostnameOS / ArchINSTALLBUILDCHECKBUILD BIN
DelayedMatrixStats 1.24.0  (landing page)
Peter Hickey
git_last_commit: 8fb9c6e
git_last_commit_date: 2023-10-24 11:00:43 -0400
nebbiolo2Linux (Ubuntu 22.04.3 LTS) / x86_64  OK    OK    OK  UNNEEDED, same version is already published
palomino4Windows Server 2022 Datacenter / x64  OK    OK    OK    OK  UNNEEDED, same version is already published
merida1macOS 12.7.1 Monterey / x86_64  OK    OK    OK    OK  UNNEEDED, same version is already published
kjohnson1macOS 13.6.1 Ventura / arm64see weekly results here
Package 116/513HostnameOS / ArchINSTALLBUILDCHECKBUILD BIN
deltaCaptureC 1.16.1  (landing page)
Michael Shapiro
git_last_commit: f7fe245
git_last_commit_date: 2024-03-21 07:33:24 -0400
nebbiolo2Linux (Ubuntu 22.04.3 LTS) / x86_64  OK    OK    OK  UNNEEDED, same version is already published
palomino4Windows Server 2022 Datacenter / x64  OK    OK    OK    OK  UNNEEDED, same version is already published
merida1macOS 12.7.1 Monterey / x86_64  OK    OK    OK    OK  UNNEEDED, same version is already published
kjohnson1macOS 13.6.1 Ventura / arm64see weekly results here
Package 117/513HostnameOS / ArchINSTALLBUILDCHECKBUILD BIN
demuxSNP 1.0.0  (landing page)
Michael Lynch
git_last_commit: 1af04e3
git_last_commit_date: 2023-10-24 11:49:18 -0400
nebbiolo2Linux (Ubuntu 22.04.3 LTS) / x86_64  OK    OK    OK  UNNEEDED, same version is already published
palomino4Windows Server 2022 Datacenter / x64  OK    OK    OK    OK  UNNEEDED, same version is already published
merida1macOS 12.7.1 Monterey / x86_64  OK    OK    OK    OK  UNNEEDED, same version is already published
kjohnson1macOS 13.6.1 Ventura / arm64see weekly results here
Package 118/513HostnameOS / ArchINSTALLBUILDCHECKBUILD BIN
derfinder 1.36.0  (landing page)
Leonardo Collado-Torres
git_last_commit: 9bc4cd5
git_last_commit_date: 2023-10-24 10:38:56 -0400
nebbiolo2Linux (Ubuntu 22.04.3 LTS) / x86_64  OK    OK    OK  UNNEEDED, same version is already published
palomino4Windows Server 2022 Datacenter / x64  OK    OK    OK    OK  UNNEEDED, same version is already published
merida1macOS 12.7.1 Monterey / x86_64  OK    OK    OK    OK  UNNEEDED, same version is already published
kjohnson1macOS 13.6.1 Ventura / arm64see weekly results here
Package 119/513HostnameOS / ArchINSTALLBUILDCHECKBUILD BIN
derfinderHelper 1.36.0  (landing page)
Leonardo Collado-Torres
git_last_commit: dc60520
git_last_commit_date: 2023-10-24 10:39:01 -0400
nebbiolo2Linux (Ubuntu 22.04.3 LTS) / x86_64  OK    OK    OK  UNNEEDED, same version is already published
palomino4Windows Server 2022 Datacenter / x64  OK    OK    OK    OK  UNNEEDED, same version is already published
merida1macOS 12.7.1 Monterey / x86_64  OK    OK    OK    OK  UNNEEDED, same version is already published
kjohnson1macOS 13.6.1 Ventura / arm64see weekly results here
Package 120/513HostnameOS / ArchINSTALLBUILDCHECKBUILD BIN
derfinderPlot 1.36.0  (landing page)
Leonardo Collado-Torres
git_last_commit: 23673da
git_last_commit_date: 2023-10-24 10:38:59 -0400
nebbiolo2Linux (Ubuntu 22.04.3 LTS) / x86_64  OK    OK    OK  UNNEEDED, same version is already published
palomino4Windows Server 2022 Datacenter / x64  OK    OK    OK    OK  UNNEEDED, same version is already published
merida1macOS 12.7.1 Monterey / x86_64  OK    OK    OK    OK  UNNEEDED, same version is already published
kjohnson1macOS 13.6.1 Ventura / arm64see weekly results here
Package 121/513HostnameOS / ArchINSTALLBUILDCHECKBUILD BIN
DEScan2 1.22.0  (landing page)
Dario Righelli
git_last_commit: 9abfdf1
git_last_commit_date: 2023-10-24 11:03:24 -0400
nebbiolo2Linux (Ubuntu 22.04.3 LTS) / x86_64  OK    OK    WARNINGS  UNNEEDED, same version is already published
palomino4Windows Server 2022 Datacenter / x64  OK    OK    WARNINGS    OK  UNNEEDED, same version is already published
merida1macOS 12.7.1 Monterey / x86_64  OK    OK    WARNINGS    OK  UNNEEDED, same version is already published
kjohnson1macOS 13.6.1 Ventura / arm64see weekly results here
Package 122/513HostnameOS / ArchINSTALLBUILDCHECKBUILD BIN
DESeq2 1.42.1  (landing page)
Michael Love
git_last_commit: 1c1c928
git_last_commit_date: 2024-03-06 10:49:39 -0400
nebbiolo2Linux (Ubuntu 22.04.3 LTS) / x86_64  OK    OK    OK  UNNEEDED, same version is already published
palomino4Windows Server 2022 Datacenter / x64  OK    OK    OK    OK  UNNEEDED, same version is already published
merida1macOS 12.7.1 Monterey / x86_64  OK    OK    OK    OK  UNNEEDED, same version is already published
kjohnson1macOS 13.6.1 Ventura / arm64see weekly results here
Package 123/513HostnameOS / ArchINSTALLBUILDCHECKBUILD BIN
DEXSeq 1.48.0  (landing page)
Alejandro Reyes
git_last_commit: 40ec7ae
git_last_commit_date: 2023-10-24 09:47:02 -0400
nebbiolo2Linux (Ubuntu 22.04.3 LTS) / x86_64  OK    OK    OK  UNNEEDED, same version is already published
palomino4Windows Server 2022 Datacenter / x64  OK    OK    OK    OK  UNNEEDED, same version is already published
merida1macOS 12.7.1 Monterey / x86_64  OK    OK    OK    OK  UNNEEDED, same version is already published
kjohnson1macOS 13.6.1 Ventura / arm64see weekly results here
Package 124/513HostnameOS / ArchINSTALLBUILDCHECKBUILD BIN
DiffBind 3.12.0  (landing page)
Rory Stark
git_last_commit: 00284e8
git_last_commit_date: 2023-10-24 09:48:02 -0400
nebbiolo2Linux (Ubuntu 22.04.3 LTS) / x86_64  OK    OK    WARNINGS  UNNEEDED, same version is already published
palomino4Windows Server 2022 Datacenter / x64  OK    OK    OK    OK  UNNEEDED, same version is already published
merida1macOS 12.7.1 Monterey / x86_64  OK    OK    WARNINGS    OK  UNNEEDED, same version is already published
kjohnson1macOS 13.6.1 Ventura / arm64see weekly results here
Package 125/513HostnameOS / ArchINSTALLBUILDCHECKBUILD BIN
diffHic 1.34.0  (landing page)
Aaron Lun
git_last_commit: d7d9f66
git_last_commit_date: 2023-10-24 10:43:16 -0400
nebbiolo2Linux (Ubuntu 22.04.3 LTS) / x86_64  OK    OK    WARNINGS  UNNEEDED, same version is already published
palomino4Windows Server 2022 Datacenter / x64  OK    OK    WARNINGS    OK  UNNEEDED, same version is already published
merida1macOS 12.7.1 Monterey / x86_64  OK    OK    WARNINGS    OK  UNNEEDED, same version is already published
kjohnson1macOS 13.6.1 Ventura / arm64see weekly results here
Package 126/513HostnameOS / ArchINSTALLBUILDCHECKBUILD BIN
diffUTR 1.10.0  (landing page)
Pierre-Luc Germain
git_last_commit: 90e9a90
git_last_commit_date: 2023-10-24 11:33:18 -0400
nebbiolo2Linux (Ubuntu 22.04.3 LTS) / x86_64  OK    OK    OK  UNNEEDED, same version is already published
palomino4Windows Server 2022 Datacenter / x64  OK    OK    OK    OK  UNNEEDED, same version is already published
merida1macOS 12.7.1 Monterey / x86_64  OK    OK    OK    OK  UNNEEDED, same version is already published
kjohnson1macOS 13.6.1 Ventura / arm64see weekly results here
Package 127/513HostnameOS / ArchINSTALLBUILDCHECKBUILD BIN
DirichletMultinomial 1.44.0  (landing page)
Martin Morgan
git_last_commit: dbea7cf
git_last_commit_date: 2023-10-24 09:50:08 -0400
nebbiolo2Linux (Ubuntu 22.04.3 LTS) / x86_64  OK    OK    WARNINGS  UNNEEDED, same version is already published
palomino4Windows Server 2022 Datacenter / x64  OK    OK    WARNINGS    OK  UNNEEDED, same version is already published
merida1macOS 12.7.1 Monterey / x86_64  OK    OK    OK    OK  UNNEEDED, same version is already published
kjohnson1macOS 13.6.1 Ventura / arm64see weekly results here
Package 128/513HostnameOS / ArchINSTALLBUILDCHECKBUILD BIN
DMCFB 1.16.1  (landing page)
Farhad Shokoohi
git_last_commit: d224bf2
git_last_commit_date: 2024-02-02 12:58:49 -0400
nebbiolo2Linux (Ubuntu 22.04.3 LTS) / x86_64  OK    OK    OK  UNNEEDED, same version is already published
palomino4Windows Server 2022 Datacenter / x64  OK    OK    OK    OK  UNNEEDED, same version is already published
merida1macOS 12.7.1 Monterey / x86_64  OK    OK    OK    OK  UNNEEDED, same version is already published
kjohnson1macOS 13.6.1 Ventura / arm64see weekly results here
Package 129/513HostnameOS / ArchINSTALLBUILDCHECKBUILD BIN
DMCHMM 1.24.0  (landing page)
Farhad Shokoohi
git_last_commit: bae8dc8
git_last_commit_date: 2023-10-24 10:59:14 -0400
nebbiolo2Linux (Ubuntu 22.04.3 LTS) / x86_64  OK    OK    OK  UNNEEDED, same version is already published
palomino4Windows Server 2022 Datacenter / x64  OK    OK    WARNINGS    OK  UNNEEDED, same version is already published
merida1macOS 12.7.1 Monterey / x86_64  OK    OK    OK    OK  UNNEEDED, same version is already published
kjohnson1macOS 13.6.1 Ventura / arm64see weekly results here
Package 130/513HostnameOS / ArchINSTALLBUILDCHECKBUILD BIN
DMRcaller 1.34.0  (landing page)
Nicolae Radu Zabet
git_last_commit: 7b214e9
git_last_commit_date: 2023-10-24 10:42:43 -0400
nebbiolo2Linux (Ubuntu 22.04.3 LTS) / x86_64  OK    OK    OK  UNNEEDED, same version is already published
palomino4Windows Server 2022 Datacenter / x64  OK    OK    OK    OK  UNNEEDED, same version is already published
merida1macOS 12.7.1 Monterey / x86_64  OK    OK    OK    OK  UNNEEDED, same version is already published
kjohnson1macOS 13.6.1 Ventura / arm64see weekly results here
Package 131/513HostnameOS / ArchINSTALLBUILDCHECKBUILD BIN
DMRcate 2.16.1  (landing page)
Tim Peters
git_last_commit: 4cd2397
git_last_commit_date: 2023-12-04 22:28:28 -0400
nebbiolo2Linux (Ubuntu 22.04.3 LTS) / x86_64  OK    OK    OK  UNNEEDED, same version is already published
palomino4Windows Server 2022 Datacenter / x64  OK    OK    OK    OK  UNNEEDED, same version is already published
merida1macOS 12.7.1 Monterey / x86_64  OK    OK    TIMEOUT    OK  
kjohnson1macOS 13.6.1 Ventura / arm64see weekly results here
Package 132/513HostnameOS / ArchINSTALLBUILDCHECKBUILD BIN
DMRScan 1.24.0  (landing page)
Christian M Page
git_last_commit: fded058
git_last_commit_date: 2023-10-24 10:55:03 -0400
nebbiolo2Linux (Ubuntu 22.04.3 LTS) / x86_64  OK    OK    OK  UNNEEDED, same version is already published
palomino4Windows Server 2022 Datacenter / x64  OK    OK    OK    OK  UNNEEDED, same version is already published
merida1macOS 12.7.1 Monterey / x86_64  OK    OK    OK    OK  UNNEEDED, same version is already published
kjohnson1macOS 13.6.1 Ventura / arm64see weekly results here
Package 133/513HostnameOS / ArchINSTALLBUILDCHECKBUILD BIN
dmrseq 1.22.1  (landing page)
Keegan Korthauer
git_last_commit: daaf07a
git_last_commit_date: 2024-02-20 13:55:13 -0400
nebbiolo2Linux (Ubuntu 22.04.3 LTS) / x86_64  OK    OK    OK  UNNEEDED, same version is already published
palomino4Windows Server 2022 Datacenter / x64  OK    OK    OK    OK  UNNEEDED, same version is already published
merida1macOS 12.7.1 Monterey / x86_64  OK    OK    OK    OK  UNNEEDED, same version is already published
kjohnson1macOS 13.6.1 Ventura / arm64see weekly results here
Package 134/513HostnameOS / ArchINSTALLBUILDCHECKBUILD BIN
DNAfusion 1.4.0  (landing page)
Christoffer Trier Maansson
git_last_commit: 6684cb7
git_last_commit_date: 2023-10-24 11:45:11 -0400
nebbiolo2Linux (Ubuntu 22.04.3 LTS) / x86_64  OK    OK    OK  UNNEEDED, same version is already published
palomino4Windows Server 2022 Datacenter / x64  OK    OK    OK    OK  UNNEEDED, same version is already published
merida1macOS 12.7.1 Monterey / x86_64  OK    OK    OK    OK  UNNEEDED, same version is already published
kjohnson1macOS 13.6.1 Ventura / arm64see weekly results here
Package 135/513HostnameOS / ArchINSTALLBUILDCHECKBUILD BIN
DominoEffect 1.22.0  (landing page)
Marija Buljan
git_last_commit: 58dcf55
git_last_commit_date: 2023-10-24 11:02:58 -0400
nebbiolo2Linux (Ubuntu 22.04.3 LTS) / x86_64  OK    ERROR  skipped
palomino4Windows Server 2022 Datacenter / x64  OK    ERROR  skippedskipped
merida1macOS 12.7.1 Monterey / x86_64  OK    ERROR  skippedskipped
kjohnson1macOS 13.6.1 Ventura / arm64see weekly results here
Package 136/513HostnameOS / ArchINSTALLBUILDCHECKBUILD BIN
dpeak 1.14.0  (landing page)
Dongjun Chung
git_last_commit: 174adc9
git_last_commit_date: 2023-10-24 11:21:57 -0400
nebbiolo2Linux (Ubuntu 22.04.3 LTS) / x86_64  OK    OK    ERROR  
palomino4Windows Server 2022 Datacenter / x64  OK    OK    OK    OK  UNNEEDED, same version is already published
merida1macOS 12.7.1 Monterey / x86_64  OK    OK    OK    OK  UNNEEDED, same version is already published
kjohnson1macOS 13.6.1 Ventura / arm64see weekly results here
Package 137/513HostnameOS / ArchINSTALLBUILDCHECKBUILD BIN
dreamlet 1.0.3  (landing page)
Gabriel Hoffman
git_last_commit: 0e59587
git_last_commit_date: 2024-02-27 14:51:44 -0400
nebbiolo2Linux (Ubuntu 22.04.3 LTS) / x86_64  OK    OK    OK  UNNEEDED, same version is already published
palomino4Windows Server 2022 Datacenter / x64  OK    OK    OK    OK  UNNEEDED, same version is already published
merida1macOS 12.7.1 Monterey / x86_64  OK    OK    OK    OK  UNNEEDED, same version is already published
kjohnson1macOS 13.6.1 Ventura / arm64see weekly results here
Package 138/513HostnameOS / ArchINSTALLBUILDCHECKBUILD BIN
DRIMSeq 1.30.0  (landing page)
Malgorzata Nowicka
git_last_commit: dca4fea
git_last_commit_date: 2023-10-24 10:48:39 -0400
nebbiolo2Linux (Ubuntu 22.04.3 LTS) / x86_64  OK    OK    WARNINGS  UNNEEDED, same version is already published
palomino4Windows Server 2022 Datacenter / x64  OK    OK    WARNINGS    OK  UNNEEDED, same version is already published
merida1macOS 12.7.1 Monterey / x86_64  OK    OK    WARNINGS    OK  UNNEEDED, same version is already published
kjohnson1macOS 13.6.1 Ventura / arm64see weekly results here
Package 139/513HostnameOS / ArchINSTALLBUILDCHECKBUILD BIN
DropletUtils 1.22.0  (landing page)
Jonathan Griffiths
git_last_commit: 56d3ce8
git_last_commit_date: 2023-10-24 11:02:09 -0400
nebbiolo2Linux (Ubuntu 22.04.3 LTS) / x86_64  OK    OK    WARNINGS  UNNEEDED, same version is already published
palomino4Windows Server 2022 Datacenter / x64  OK    OK    OK    OK  UNNEEDED, same version is already published
merida1macOS 12.7.1 Monterey / x86_64  OK    OK    WARNINGS    OK  UNNEEDED, same version is already published
kjohnson1macOS 13.6.1 Ventura / arm64see weekly results here
Package 140/513HostnameOS / ArchINSTALLBUILDCHECKBUILD BIN
dStruct 1.8.0  (landing page)
Krishna Choudhary
git_last_commit: 10bfcdb
git_last_commit_date: 2023-10-24 11:34:31 -0400
nebbiolo2Linux (Ubuntu 22.04.3 LTS) / x86_64  OK    OK    OK  UNNEEDED, same version is already published
palomino4Windows Server 2022 Datacenter / x64  OK    OK    OK    OK  UNNEEDED, same version is already published
merida1macOS 12.7.1 Monterey / x86_64  OK    OK    OK    OK  UNNEEDED, same version is already published
kjohnson1macOS 13.6.1 Ventura / arm64see weekly results here
Package 141/513HostnameOS / ArchINSTALLBUILDCHECKBUILD BIN
easyRNASeq 2.38.0  (landing page)
Nicolas Delhomme
git_last_commit: e7d99c2
git_last_commit_date: 2023-10-24 09:49:08 -0400
nebbiolo2Linux (Ubuntu 22.04.3 LTS) / x86_64  OK    OK    OK  UNNEEDED, same version is already published
palomino4Windows Server 2022 Datacenter / x64  OK    OK    OK    OK  UNNEEDED, same version is already published
merida1macOS 12.7.1 Monterey / x86_64  OK    OK    OK    OK  UNNEEDED, same version is already published
kjohnson1macOS 13.6.1 Ventura / arm64see weekly results here
Package 142/513HostnameOS / ArchINSTALLBUILDCHECKBUILD BIN
EDASeq 2.36.0  (landing page)
Davide Risso
git_last_commit: af70dab
git_last_commit_date: 2023-10-24 09:47:57 -0400
nebbiolo2Linux (Ubuntu 22.04.3 LTS) / x86_64  OK    OK    OK  UNNEEDED, same version is already published
palomino4Windows Server 2022 Datacenter / x64  OK    OK    OK    OK  UNNEEDED, same version is already published
merida1macOS 12.7.1 Monterey / x86_64  OK    OK    OK    OK  UNNEEDED, same version is already published
kjohnson1macOS 13.6.1 Ventura / arm64see weekly results here
Package 143/513HostnameOS / ArchINSTALLBUILDCHECKBUILD BIN
eisaR 1.14.1  (landing page)
Michael Stadler
git_last_commit: e4a470a
git_last_commit_date: 2024-01-15 08:05:34 -0400
nebbiolo2Linux (Ubuntu 22.04.3 LTS) / x86_64  OK    OK    OK  UNNEEDED, same version is already published
palomino4Windows Server 2022 Datacenter / x64  OK    OK    OK    OK  UNNEEDED, same version is already published
merida1macOS 12.7.1 Monterey / x86_64  OK    OK    OK    OK  UNNEEDED, same version is already published
kjohnson1macOS 13.6.1 Ventura / arm64see weekly results here
Package 144/513HostnameOS / ArchINSTALLBUILDCHECKBUILD BIN
ELMER 2.26.0  (landing page)
Tiago Chedraoui Silva
git_last_commit: ceacb6a
git_last_commit_date: 2023-10-24 10:43:48 -0400
nebbiolo2Linux (Ubuntu 22.04.3 LTS) / x86_64  OK    OK    OK  UNNEEDED, same version is already published
palomino4Windows Server 2022 Datacenter / x64  OK    OK    OK    OK  UNNEEDED, same version is already published
merida1macOS 12.7.1 Monterey / x86_64  OK    OK    OK    OK  UNNEEDED, same version is already published
kjohnson1macOS 13.6.1 Ventura / arm64see weekly results here
Package 145/513HostnameOS / ArchINSTALLBUILDCHECKBUILD BIN
enhancerHomologSearch 1.8.3  (landing page)
Jianhong Ou
git_last_commit: f2f7a74
git_last_commit_date: 2024-02-06 11:45:52 -0400
nebbiolo2Linux (Ubuntu 22.04.3 LTS) / x86_64  OK    OK    OK  UNNEEDED, same version is already published
palomino4Windows Server 2022 Datacenter / x64  OK    OK    OK    OK  UNNEEDED, same version is already published
merida1macOS 12.7.1 Monterey / x86_64  OK    OK    OK    OK  UNNEEDED, same version is already published
kjohnson1macOS 13.6.1 Ventura / arm64see weekly results here
Package 146/513HostnameOS / ArchINSTALLBUILDCHECKBUILD BIN
ENmix 1.38.01  (landing page)
Zongli Xu
git_last_commit: 0a1ee50
git_last_commit_date: 2023-10-25 08:27:48 -0400
nebbiolo2Linux (Ubuntu 22.04.3 LTS) / x86_64  OK    OK    OK  UNNEEDED, same version is already published
palomino4Windows Server 2022 Datacenter / x64  OK    OK    OK    OK  UNNEEDED, same version is already published
merida1macOS 12.7.1 Monterey / x86_64  OK    OK    OK    OK  UNNEEDED, same version is already published
kjohnson1macOS 13.6.1 Ventura / arm64see weekly results here
Package 147/513HostnameOS / ArchINSTALLBUILDCHECKBUILD BIN
EnrichedHeatmap 1.32.0  (landing page)
Zuguang Gu
git_last_commit: 42e8bf6
git_last_commit_date: 2023-10-24 10:45:26 -0400
nebbiolo2Linux (Ubuntu 22.04.3 LTS) / x86_64  OK    OK    OK  UNNEEDED, same version is already published
palomino4Windows Server 2022 Datacenter / x64  OK    OK    OK    OK  UNNEEDED, same version is already published
merida1macOS 12.7.1 Monterey / x86_64  OK    OK    OK    OK  UNNEEDED, same version is already published
kjohnson1macOS 13.6.1 Ventura / arm64see weekly results here
Package 148/513HostnameOS / ArchINSTALLBUILDCHECKBUILD BIN
enrichTF 1.18.0  (landing page)
Zheng Wei
git_last_commit: fab8b47
git_last_commit_date: 2023-10-24 11:13:36 -0400
nebbiolo2Linux (Ubuntu 22.04.3 LTS) / x86_64  OK    OK    ERROR  
palomino4Windows Server 2022 Datacenter / x64  OK    OK    OK    OK  UNNEEDED, same version is already published
merida1macOS 12.7.1 Monterey / x86_64  OK    OK    OK    OK  UNNEEDED, same version is already published
kjohnson1macOS 13.6.1 Ventura / arm64see weekly results here
Package 149/513HostnameOS / ArchINSTALLBUILDCHECKBUILD BIN
ensembldb 2.26.0  (landing page)
Johannes Rainer
git_last_commit: 7046d99
git_last_commit_date: 2023-10-24 10:42:20 -0400
nebbiolo2Linux (Ubuntu 22.04.3 LTS) / x86_64  OK    OK    OK  UNNEEDED, same version is already published
palomino4Windows Server 2022 Datacenter / x64  OK    OK    OK    OK  UNNEEDED, same version is already published
merida1macOS 12.7.1 Monterey / x86_64  OK    OK    OK    OK  UNNEEDED, same version is already published
kjohnson1macOS 13.6.1 Ventura / arm64see weekly results here
Package 150/513HostnameOS / ArchINSTALLBUILDCHECKBUILD BIN
EpiCompare 1.6.7  (landing page)
Thomas Roberts
git_last_commit: 6ea246a
git_last_commit_date: 2024-03-19 06:14:23 -0400
nebbiolo2Linux (Ubuntu 22.04.3 LTS) / x86_64  OK    OK    OK  UNNEEDED, same version is already published
palomino4Windows Server 2022 Datacenter / x64  OK    OK    OK    OK  UNNEEDED, same version is already published
merida1macOS 12.7.1 Monterey / x86_64  OK    OK    ERROR    OK  
kjohnson1macOS 13.6.1 Ventura / arm64see weekly results here
Package 151/513HostnameOS / ArchINSTALLBUILDCHECKBUILD BIN
epidecodeR 1.10.0  (landing page)
Kandarp Joshi
git_last_commit: f65b68a
git_last_commit_date: 2023-10-24 11:31:43 -0400
nebbiolo2Linux (Ubuntu 22.04.3 LTS) / x86_64  OK    OK    OK  UNNEEDED, same version is already published
palomino4Windows Server 2022 Datacenter / x64  OK    OK    OK    OK  UNNEEDED, same version is already published
merida1macOS 12.7.1 Monterey / x86_64  OK    OK    OK    OK  UNNEEDED, same version is already published
kjohnson1macOS 13.6.1 Ventura / arm64see weekly results here
Package 152/513HostnameOS / ArchINSTALLBUILDCHECKBUILD BIN
epigenomix 1.42.0  (landing page)
Hans-Ulrich Klein
git_last_commit: 060951e
git_last_commit_date: 2023-10-24 09:53:11 -0400
nebbiolo2Linux (Ubuntu 22.04.3 LTS) / x86_64  OK    OK    OK  UNNEEDED, same version is already published
palomino4Windows Server 2022 Datacenter / x64  OK    OK    OK    OK  UNNEEDED, same version is already published
merida1macOS 12.7.1 Monterey / x86_64  OK    OK    OK    OK  UNNEEDED, same version is already published
kjohnson1macOS 13.6.1 Ventura / arm64see weekly results here
Package 153/513HostnameOS / ArchINSTALLBUILDCHECKBUILD BIN
epigraHMM 1.10.0  (landing page)
Pedro Baldoni
git_last_commit: 810c6f9
git_last_commit_date: 2023-10-24 11:33:52 -0400
nebbiolo2Linux (Ubuntu 22.04.3 LTS) / x86_64  OK    OK    WARNINGS  UNNEEDED, same version is already published
palomino4Windows Server 2022 Datacenter / x64  OK    OK    OK    OK  UNNEEDED, same version is already published
merida1macOS 12.7.1 Monterey / x86_64  OK    OK    WARNINGS    OK  UNNEEDED, same version is already published
kjohnson1macOS 13.6.1 Ventura / arm64see weekly results here
Package 154/513HostnameOS / ArchINSTALLBUILDCHECKBUILD BIN
EpiMix 1.4.0  (landing page)
Yuanning Zheng
git_last_commit: dd3578d
git_last_commit_date: 2023-10-24 11:43:01 -0400
nebbiolo2Linux (Ubuntu 22.04.3 LTS) / x86_64  OK    OK    OK  UNNEEDED, same version is already published
palomino4Windows Server 2022 Datacenter / x64  OK    OK    OK    OK  UNNEEDED, same version is already published
merida1macOS 12.7.1 Monterey / x86_64  OK    OK    OK    OK  UNNEEDED, same version is already published
kjohnson1macOS 13.6.1 Ventura / arm64see weekly results here
Package 155/513HostnameOS / ArchINSTALLBUILDCHECKBUILD BIN
epimutacions 1.6.1  (landing page)
Dolors Pelegri-Siso
git_last_commit: ba2e314
git_last_commit_date: 2023-11-03 07:47:17 -0400
nebbiolo2Linux (Ubuntu 22.04.3 LTS) / x86_64  OK    OK    OK  UNNEEDED, same version is already published
palomino4Windows Server 2022 Datacenter / x64  OK    OK    OK    OK  UNNEEDED, same version is already published
merida1macOS 12.7.1 Monterey / x86_64  OK    OK    OK    OK  UNNEEDED, same version is already published
kjohnson1macOS 13.6.1 Ventura / arm64see weekly results here
Package 156/513HostnameOS / ArchINSTALLBUILDCHECKBUILD BIN
epistack 1.8.0  (landing page)
DEVAILLY Guillaume
git_last_commit: cd802db
git_last_commit_date: 2023-10-24 11:37:24 -0400
nebbiolo2Linux (Ubuntu 22.04.3 LTS) / x86_64  OK    OK    OK  UNNEEDED, same version is already published
palomino4Windows Server 2022 Datacenter / x64  OK    OK    OK    OK  UNNEEDED, same version is already published
merida1macOS 12.7.1 Monterey / x86_64  OK    OK    OK    OK  UNNEEDED, same version is already published
kjohnson1macOS 13.6.1 Ventura / arm64see weekly results here
Package 157/513HostnameOS / ArchINSTALLBUILDCHECKBUILD BIN
EpiTxDb 1.14.1  (landing page)
Felix G.M. Ernst
git_last_commit: 2c66df2
git_last_commit_date: 2024-01-15 14:58:58 -0400
nebbiolo2Linux (Ubuntu 22.04.3 LTS) / x86_64  OK    OK    OK  UNNEEDED, same version is already published
palomino4Windows Server 2022 Datacenter / x64  OK    OK    OK    OK  UNNEEDED, same version is already published
merida1macOS 12.7.1 Monterey / x86_64  OK    OK    OK    OK  UNNEEDED, same version is already published
kjohnson1macOS 13.6.1 Ventura / arm64see weekly results here
Package 158/513HostnameOS / ArchINSTALLBUILDCHECKBUILD BIN
epivizr 2.32.0  (landing page)
Hector Corrada Bravo
git_last_commit: 1337101
git_last_commit_date: 2023-10-24 09:56:13 -0400
nebbiolo2Linux (Ubuntu 22.04.3 LTS) / x86_64  OK    OK    OK  UNNEEDED, same version is already published
palomino4Windows Server 2022 Datacenter / x64  OK    OK    OK    OK  UNNEEDED, same version is already published
merida1macOS 12.7.1 Monterey / x86_64  OK    OK    OK    OK  UNNEEDED, same version is already published
kjohnson1macOS 13.6.1 Ventura / arm64see weekly results here
Package 159/513HostnameOS / ArchINSTALLBUILDCHECKBUILD BIN
epivizrData 1.30.0  (landing page)
Hector Corrada Bravo
git_last_commit: 83031e5
git_last_commit_date: 2023-10-24 10:50:04 -0400
nebbiolo2Linux (Ubuntu 22.04.3 LTS) / x86_64  OK    OK    OK  UNNEEDED, same version is already published
palomino4Windows Server 2022 Datacenter / x64  OK    OK    OK    OK  UNNEEDED, same version is already published
merida1macOS 12.7.1 Monterey / x86_64  OK    OK    OK    OK  UNNEEDED, same version is already published
kjohnson1macOS 13.6.1 Ventura / arm64see weekly results here
Package 160/513HostnameOS / ArchINSTALLBUILDCHECKBUILD BIN
erma 1.18.0  (landing page)
VJ Carey
git_last_commit: bed2908
git_last_commit_date: 2023-10-24 10:43:59 -0400
nebbiolo2Linux (Ubuntu 22.04.3 LTS) / x86_64  OK    OK    OK  UNNEEDED, same version is already published
palomino4Windows Server 2022 Datacenter / x64  OK    OK    OK    OK  UNNEEDED, same version is already published
merida1macOS 12.7.1 Monterey / x86_64  OK    OK    OK    OK  UNNEEDED, same version is already published
kjohnson1macOS 13.6.1 Ventura / arm64see weekly results here
Package 161/513HostnameOS / ArchINSTALLBUILDCHECKBUILD BIN
esATAC 1.24.0  (landing page)
Zheng Wei
git_last_commit: fc5274b
git_last_commit_date: 2023-10-24 11:01:27 -0400
nebbiolo2Linux (Ubuntu 22.04.3 LTS) / x86_64  OK    OK    OK  UNNEEDED, same version is already published
palomino4Windows Server 2022 Datacenter / x64  OK    OK    OK    OK  UNNEEDED, same version is already published
merida1macOS 12.7.1 Monterey / x86_64  OK    OK    OK    OK  UNNEEDED, same version is already published
kjohnson1macOS 13.6.1 Ventura / arm64see weekly results here
Package 162/513HostnameOS / ArchINSTALLBUILDCHECKBUILD BIN
EventPointer 3.10.0  (landing page)
Juan A. Ferrer-Bonsoms
git_last_commit: 3989887
git_last_commit_date: 2023-10-24 10:55:44 -0400
nebbiolo2Linux (Ubuntu 22.04.3 LTS) / x86_64  OK    OK    OK  UNNEEDED, same version is already published
palomino4Windows Server 2022 Datacenter / x64  OK    OK    OK    OK  UNNEEDED, same version is already published
merida1macOS 12.7.1 Monterey / x86_64  OK    OK    OK    OK  UNNEEDED, same version is already published
kjohnson1macOS 13.6.1 Ventura / arm64see weekly results here
Package 163/513HostnameOS / ArchINSTALLBUILDCHECKBUILD BIN
ExCluster 1.20.0  (landing page)
R. Matthew Tanner
git_last_commit: ccabcb5
git_last_commit_date: 2023-10-24 11:08:09 -0400
nebbiolo2Linux (Ubuntu 22.04.3 LTS) / x86_64  OK    OK    OK  UNNEEDED, same version is already published
palomino4Windows Server 2022 Datacenter / x64... NOT SUPPORTED ...
merida1macOS 12.7.1 Monterey / x86_64  OK    OK    OK    OK  UNNEEDED, same version is already published
kjohnson1macOS 13.6.1 Ventura / arm64see weekly results here
Package 164/513HostnameOS / ArchINSTALLBUILDCHECKBUILD BIN
exomeCopy 1.48.0  (landing page)
Michael Love
git_last_commit: c418319
git_last_commit_date: 2023-10-24 09:48:35 -0400
nebbiolo2Linux (Ubuntu 22.04.3 LTS) / x86_64  OK    OK    WARNINGS  UNNEEDED, same version is already published
palomino4Windows Server 2022 Datacenter / x64  OK    OK    WARNINGS    OK  UNNEEDED, same version is already published
merida1macOS 12.7.1 Monterey / x86_64  OK    OK    WARNINGS    OK  UNNEEDED, same version is already published
kjohnson1macOS 13.6.1 Ventura / arm64see weekly results here
Package 165/513HostnameOS / ArchINSTALLBUILDCHECKBUILD BIN
exomePeak2 1.14.3  (landing page)
Zhen Wei
git_last_commit: 8d265ea
git_last_commit_date: 2023-11-26 20:47:38 -0400
nebbiolo2Linux (Ubuntu 22.04.3 LTS) / x86_64  OK    OK    OK  UNNEEDED, same version is already published
palomino4Windows Server 2022 Datacenter / x64  OK    OK    OK    OK  UNNEEDED, same version is already published
merida1macOS 12.7.1 Monterey / x86_64  OK    OK    OK    OK  UNNEEDED, same version is already published
kjohnson1macOS 13.6.1 Ventura / arm64see weekly results here
Package 166/513HostnameOS / ArchINSTALLBUILDCHECKBUILD BIN
extraChIPs 1.6.1  (landing page)
Stephen Pederson
git_last_commit: fb27d0b
git_last_commit_date: 2024-02-27 06:23:59 -0400
nebbiolo2Linux (Ubuntu 22.04.3 LTS) / x86_64  OK    OK    OK  UNNEEDED, same version is already published
palomino4Windows Server 2022 Datacenter / x64  OK    OK    OK    OK  UNNEEDED, same version is already published
merida1macOS 12.7.1 Monterey / x86_64  OK    OK    OK    OK  UNNEEDED, same version is already published
kjohnson1macOS 13.6.1 Ventura / arm64see weekly results here
Package 167/513HostnameOS / ArchINSTALLBUILDCHECKBUILD BIN
factR 1.4.0  (landing page)
Fursham Hamid
git_last_commit: 6338c66
git_last_commit_date: 2023-10-24 11:42:45 -0400
nebbiolo2Linux (Ubuntu 22.04.3 LTS) / x86_64  OK    OK    OK  UNNEEDED, same version is already published
palomino4Windows Server 2022 Datacenter / x64  OK    OK    OK    OK  UNNEEDED, same version is already published
merida1macOS 12.7.1 Monterey / x86_64  OK    OK    OK    OK  UNNEEDED, same version is already published
kjohnson1macOS 13.6.1 Ventura / arm64see weekly results here
Package 168/513HostnameOS / ArchINSTALLBUILDCHECKBUILD BIN
FastqCleaner 1.20.0  (landing page)
Leandro Roser
git_last_commit: 358c1ad
git_last_commit_date: 2023-10-24 11:05:49 -0400
nebbiolo2Linux (Ubuntu 22.04.3 LTS) / x86_64  OK    OK    OK  UNNEEDED, same version is already published
palomino4Windows Server 2022 Datacenter / x64  OK    OK    OK    OK  UNNEEDED, same version is already published
merida1macOS 12.7.1 Monterey / x86_64  OK    OK    OK    OK  UNNEEDED, same version is already published
kjohnson1macOS 13.6.1 Ventura / arm64see weekly results here
Package 169/513HostnameOS / ArchINSTALLBUILDCHECKBUILD BIN
fastseg 1.48.0  (landing page)
Alexander Blume
git_last_commit: fc54ac5
git_last_commit_date: 2023-10-24 09:48:50 -0400
nebbiolo2Linux (Ubuntu 22.04.3 LTS) / x86_64  OK    OK    OK  UNNEEDED, same version is already published
palomino4Windows Server 2022 Datacenter / x64  OK    OK    OK    OK  UNNEEDED, same version is already published
merida1macOS 12.7.1 Monterey / x86_64  OK    OK    OK    OK  UNNEEDED, same version is already published
kjohnson1macOS 13.6.1 Ventura / arm64see weekly results here
Package 170/513HostnameOS / ArchINSTALLBUILDCHECKBUILD BIN
fCCAC 1.28.0  (landing page)
Pedro Madrigal
git_last_commit: 36ffa71
git_last_commit_date: 2023-10-24 10:54:04 -0400
nebbiolo2Linux (Ubuntu 22.04.3 LTS) / x86_64  OK    OK    OK  UNNEEDED, same version is already published
palomino4Windows Server 2022 Datacenter / x64  OK    OK    OK    OK  UNNEEDED, same version is already published
merida1macOS 12.7.1 Monterey / x86_64  OK    OK    OK    OK  UNNEEDED, same version is already published
kjohnson1macOS 13.6.1 Ventura / arm64see weekly results here
Package 171/513HostnameOS / ArchINSTALLBUILDCHECKBUILD BIN
fcScan 1.16.0  (landing page)
Pierre Khoueiry Abdullah El-Kurdi
git_last_commit: 0195085
git_last_commit_date: 2023-10-24 11:15:44 -0400
nebbiolo2Linux (Ubuntu 22.04.3 LTS) / x86_64  OK    OK    OK  UNNEEDED, same version is already published
palomino4Windows Server 2022 Datacenter / x64  OK    OK    OK    OK  UNNEEDED, same version is already published
merida1macOS 12.7.1 Monterey / x86_64  OK    OK    OK    OK  UNNEEDED, same version is already published
kjohnson1macOS 13.6.1 Ventura / arm64see weekly results here
Package 172/513HostnameOS / ArchINSTALLBUILDCHECKBUILD BIN
FilterFFPE 1.12.0  (landing page)
Lanying Wei
git_last_commit: d78f518
git_last_commit_date: 2023-10-24 11:25:33 -0400
nebbiolo2Linux (Ubuntu 22.04.3 LTS) / x86_64  OK    OK    OK  UNNEEDED, same version is already published
palomino4Windows Server 2022 Datacenter / x64  OK    OK    OK    OK  UNNEEDED, same version is already published
merida1macOS 12.7.1 Monterey / x86_64  OK    OK    OK    OK  UNNEEDED, same version is already published
kjohnson1macOS 13.6.1 Ventura / arm64see weekly results here
Package 173/513HostnameOS / ArchINSTALLBUILDCHECKBUILD BIN
FindIT2 1.8.0  (landing page)
Guandong Shang
git_last_commit: f4ef6c4
git_last_commit_date: 2023-10-24 11:34:37 -0400
nebbiolo2Linux (Ubuntu 22.04.3 LTS) / x86_64  OK    OK    OK  UNNEEDED, same version is already published
palomino4Windows Server 2022 Datacenter / x64  OK    OK    OK    OK  UNNEEDED, same version is already published
merida1macOS 12.7.1 Monterey / x86_64  OK    OK    OK    OK  UNNEEDED, same version is already published
kjohnson1macOS 13.6.1 Ventura / arm64see weekly results here
Package 174/513HostnameOS / ArchINSTALLBUILDCHECKBUILD BIN
fishpond 2.8.0  (landing page)
Michael Love
git_last_commit: 518499a
git_last_commit_date: 2023-10-24 11:11:13 -0400
nebbiolo2Linux (Ubuntu 22.04.3 LTS) / x86_64  OK    OK    OK  UNNEEDED, same version is already published
palomino4Windows Server 2022 Datacenter / x64  OK    OK    OK    OK  UNNEEDED, same version is already published
merida1macOS 12.7.1 Monterey / x86_64  OK    OK    OK    OK  UNNEEDED, same version is already published
kjohnson1macOS 13.6.1 Ventura / arm64see weekly results here
Package 175/513HostnameOS / ArchINSTALLBUILDCHECKBUILD BIN
FRASER 1.14.1  (landing page)
Christian Mertes
git_last_commit: 0a7204b
git_last_commit_date: 2024-02-11 14:03:18 -0400
nebbiolo2Linux (Ubuntu 22.04.3 LTS) / x86_64  OK    OK    OK  UNNEEDED, same version is already published
palomino4Windows Server 2022 Datacenter / x64  OK    OK    OK    OK  UNNEEDED, same version is already published
merida1macOS 12.7.1 Monterey / x86_64  OK    OK    OK    OK  UNNEEDED, same version is already published
kjohnson1macOS 13.6.1 Ventura / arm64see weekly results here
Package 176/513HostnameOS / ArchINSTALLBUILDCHECKBUILD BIN
GA4GHclient 1.26.0  (landing page)
Welliton Souza
git_last_commit: 6356ce0
git_last_commit_date: 2023-10-24 10:56:18 -0400
nebbiolo2Linux (Ubuntu 22.04.3 LTS) / x86_64  OK    OK    OK  UNNEEDED, same version is already published
palomino4Windows Server 2022 Datacenter / x64  OK    OK    OK    OK  UNNEEDED, same version is already published
merida1macOS 12.7.1 Monterey / x86_64  OK    OK    OK    OK  UNNEEDED, same version is already published
kjohnson1macOS 13.6.1 Ventura / arm64see weekly results here
Package 177/513HostnameOS / ArchINSTALLBUILDCHECKBUILD BIN
gcapc 1.26.0  (landing page)
Mingxiang Teng
git_last_commit: ceff70c
git_last_commit_date: 2023-10-24 10:54:29 -0400
nebbiolo2Linux (Ubuntu 22.04.3 LTS) / x86_64  OK    OK    OK  UNNEEDED, same version is already published
palomino4Windows Server 2022 Datacenter / x64  OK    OK    OK    OK  UNNEEDED, same version is already published
merida1macOS 12.7.1 Monterey / x86_64  OK    OK    OK    OK  UNNEEDED, same version is already published
kjohnson1macOS 13.6.1 Ventura / arm64see weekly results here
Package 178/513HostnameOS / ArchINSTALLBUILDCHECKBUILD BIN
gDNAx 1.0.2  (landing page)
Beatriz Calvo-Serra
git_last_commit: 0fb2969
git_last_commit_date: 2024-03-15 15:38:59 -0400
nebbiolo2Linux (Ubuntu 22.04.3 LTS) / x86_64  OK    OK    OK  UNNEEDED, same version is already published
palomino4Windows Server 2022 Datacenter / x64  OK    OK    OK    OK  UNNEEDED, same version is already published
merida1macOS 12.7.1 Monterey / x86_64  OK    OK    OK    OK  UNNEEDED, same version is already published
kjohnson1macOS 13.6.1 Ventura / arm64see weekly results here
Package 179/513HostnameOS / ArchINSTALLBUILDCHECKBUILD BIN
genbankr 1.30.0  (landing page)
Gabriel Becker
git_last_commit: 900ea05
git_last_commit_date: 2023-10-24 10:49:41 -0400
nebbiolo2Linux (Ubuntu 22.04.3 LTS) / x86_64  OK    ERROR  skipped
palomino4Windows Server 2022 Datacenter / x64  OK    ERROR  skippedskipped
merida1macOS 12.7.1 Monterey / x86_64  OK    ERROR  skippedskipped
kjohnson1macOS 13.6.1 Ventura / arm64see weekly results here
Package 180/513HostnameOS / ArchINSTALLBUILDCHECKBUILD BIN
geneAttribution 1.28.0  (landing page)
Arthur Wuster
git_last_commit: 2d84296
git_last_commit_date: 2023-10-24 10:52:24 -0400
nebbiolo2Linux (Ubuntu 22.04.3 LTS) / x86_64  OK    OK    OK  UNNEEDED, same version is already published
palomino4Windows Server 2022 Datacenter / x64  OK    OK    OK    OK  UNNEEDED, same version is already published
merida1macOS 12.7.1 Monterey / x86_64  OK    OK    OK    OK  UNNEEDED, same version is already published
kjohnson1macOS 13.6.1 Ventura / arm64see weekly results here
Package 181/513HostnameOS / ArchINSTALLBUILDCHECKBUILD BIN
GeneGeneInteR 1.28.0  (landing page)
Mathieu Emily
git_last_commit: 5961a9f
git_last_commit_date: 2023-10-24 10:51:41 -0400
nebbiolo2Linux (Ubuntu 22.04.3 LTS) / x86_64  OK    OK    OK  UNNEEDED, same version is already published
palomino4Windows Server 2022 Datacenter / x64  OK    OK    OK    OK  UNNEEDED, same version is already published
merida1macOS 12.7.1 Monterey / x86_64  OK    OK    OK    OK  UNNEEDED, same version is already published
kjohnson1macOS 13.6.1 Ventura / arm64see weekly results here
Package 182/513HostnameOS / ArchINSTALLBUILDCHECKBUILD BIN
geneRxCluster 1.38.0  (landing page)
Charles Berry
git_last_commit: aad4ae6
git_last_commit_date: 2023-10-24 09:57:06 -0400
nebbiolo2Linux (Ubuntu 22.04.3 LTS) / x86_64  OK    OK    OK  UNNEEDED, same version is already published
palomino4Windows Server 2022 Datacenter / x64  OK    OK    OK    OK  UNNEEDED, same version is already published
merida1macOS 12.7.1 Monterey / x86_64  OK    OK    OK    OK  UNNEEDED, same version is already published
kjohnson1macOS 13.6.1 Ventura / arm64see weekly results here
Package 183/513HostnameOS / ArchINSTALLBUILDCHECKBUILD BIN
GENESIS 2.32.0  (landing page)
Stephanie M. Gogarten
git_last_commit: 81fe6b1
git_last_commit_date: 2023-10-24 10:42:12 -0400
nebbiolo2Linux (Ubuntu 22.04.3 LTS) / x86_64  OK    OK    OK  UNNEEDED, same version is already published
palomino4Windows Server 2022 Datacenter / x64  OK    OK    OK    OK  UNNEEDED, same version is already published
merida1macOS 12.7.1 Monterey / x86_64  OK    OK    OK    OK  UNNEEDED, same version is already published
kjohnson1macOS 13.6.1 Ventura / arm64see weekly results here
Package 184/513HostnameOS / ArchINSTALLBUILDCHECKBUILD BIN
GeneStructureTools 1.22.0  (landing page)
Beth Signal
git_last_commit: 81b9c5e
git_last_commit_date: 2023-10-24 11:03:19 -0400
nebbiolo2Linux (Ubuntu 22.04.3 LTS) / x86_64  OK    OK    OK  UNNEEDED, same version is already published
palomino4Windows Server 2022 Datacenter / x64  OK    OK    OK    OK  UNNEEDED, same version is already published
merida1macOS 12.7.1 Monterey / x86_64  OK    OK    OK    OK  UNNEEDED, same version is already published
kjohnson1macOS 13.6.1 Ventura / arm64see weekly results here
Package 185/513HostnameOS / ArchINSTALLBUILDCHECKBUILD BIN
genomation 1.34.0  (landing page)
Altuna Akalin , Vedran Franke
git_last_commit: accaf9c
git_last_commit_date: 2023-10-24 10:40:33 -0400
nebbiolo2Linux (Ubuntu 22.04.3 LTS) / x86_64  OK    OK    WARNINGS  UNNEEDED, same version is already published
palomino4Windows Server 2022 Datacenter / x64  OK    OK    WARNINGS    OK  UNNEEDED, same version is already published
merida1macOS 12.7.1 Monterey / x86_64  OK    OK    WARNINGS    OK  UNNEEDED, same version is already published
kjohnson1macOS 13.6.1 Ventura / arm64see weekly results here
Package 186/513HostnameOS / ArchINSTALLBUILDCHECKBUILD BIN
GenomAutomorphism 1.4.0  (landing page)
Robersy Sanchez
git_last_commit: 2c0069e
git_last_commit_date: 2023-10-24 11:43:17 -0400
nebbiolo2Linux (Ubuntu 22.04.3 LTS) / x86_64  OK    OK    OK  UNNEEDED, same version is already published
palomino4Windows Server 2022 Datacenter / x64  OK    OK    OK    OK  UNNEEDED, same version is already published
merida1macOS 12.7.1 Monterey / x86_64  OK    OK    OK    OK  UNNEEDED, same version is already published
kjohnson1macOS 13.6.1 Ventura / arm64see weekly results here
Package 187/513HostnameOS / ArchINSTALLBUILDCHECKBUILD BIN
GenomeInfoDb 1.38.8  (landing page)
Hervé Pagès
git_last_commit: 21c97fc
git_last_commit_date: 2024-03-14 12:09:11 -0400
nebbiolo2Linux (Ubuntu 22.04.3 LTS) / x86_64  OK    OK    OK  UNNEEDED, same version is already published
palomino4Windows Server 2022 Datacenter / x64  OK    OK    OK    OK  UNNEEDED, same version is already published
merida1macOS 12.7.1 Monterey / x86_64  OK    OK    OK    OK  UNNEEDED, same version is already published
kjohnson1macOS 13.6.1 Ventura / arm64see weekly results here
Package 188/513HostnameOS / ArchINSTALLBUILDCHECKBUILD BIN
genomeIntervals 1.58.0  (landing page)
Julien Gagneur
git_last_commit: 3b05a4b
git_last_commit_date: 2023-10-24 09:41:34 -0400
nebbiolo2Linux (Ubuntu 22.04.3 LTS) / x86_64  OK    OK    WARNINGS  UNNEEDED, same version is already published
palomino4Windows Server 2022 Datacenter / x64  OK    OK    WARNINGS    OK  UNNEEDED, same version is already published
merida1macOS 12.7.1 Monterey / x86_64  OK    OK    WARNINGS    OK  UNNEEDED, same version is already published
kjohnson1macOS 13.6.1 Ventura / arm64see weekly results here
Package 189/513HostnameOS / ArchINSTALLBUILDCHECKBUILD BIN
GenomicAlignments 1.38.2  (landing page)
Hervé Pagès
git_last_commit: d740c47
git_last_commit_date: 2024-01-16 12:05:27 -0400
nebbiolo2Linux (Ubuntu 22.04.3 LTS) / x86_64  OK    OK    OK  UNNEEDED, same version is already published
palomino4Windows Server 2022 Datacenter / x64  OK    OK    OK    OK  UNNEEDED, same version is already published
merida1macOS 12.7.1 Monterey / x86_64  OK    OK    OK    OK  UNNEEDED, same version is already published
kjohnson1macOS 13.6.1 Ventura / arm64see weekly results here
Package 190/513HostnameOS / ArchINSTALLBUILDCHECKBUILD BIN
GenomicDataCommons 1.26.0  (landing page)
Sean Davis
git_last_commit: c8ad9dd
git_last_commit_date: 2023-10-24 10:56:33 -0400
nebbiolo2Linux (Ubuntu 22.04.3 LTS) / x86_64  OK    OK    OK  UNNEEDED, same version is already published
palomino4Windows Server 2022 Datacenter / x64  OK    OK    OK    OK  UNNEEDED, same version is already published
merida1macOS 12.7.1 Monterey / x86_64