Index of /checkResults/3.18/bioc-LATEST/HiCDCPlus/raw-results/merida1

[ICO]NameLast modifiedSizeDescription

[DIR]Parent Directory  -  
[TXT]buildbin-out.txt18-Apr-2024 00:37 4.4K 
[   ]buildbin-summary.dcf18-Apr-2024 00:37 543  
[TXT]buildsrc-out.txt18-Apr-2024 00:37 854  
[   ]buildsrc-summary.dcf18-Apr-2024 00:37 434  
[TXT]checksrc-out.txt18-Apr-2024 00:37 4.3K 
[   ]checksrc-summary.dcf18-Apr-2024 00:37 452  
[TXT]install-out.txt18-Apr-2024 00:37 2.1K 
[   ]install-summary.dcf18-Apr-2024 00:37 273