Index of /checkResults/3.18/bioc-LATEST/HiCDCPlus/raw-results/lconway

[ICO]NameLast modifiedSizeDescription

[DIR]Parent Directory  -  
[TXT]buildbin-out.txt05-Mar-2024 01:37 4.5K 
[   ]buildbin-summary.dcf05-Mar-2024 01:37 542  
[TXT]buildsrc-out.txt05-Mar-2024 01:37 854  
[   ]buildsrc-summary.dcf05-Mar-2024 01:37 434  
[TXT]checksrc-out.txt05-Mar-2024 01:37 4.2K 
[   ]checksrc-summary.dcf05-Mar-2024 01:37 452  
[TXT]install-out.txt05-Mar-2024 01:37 2.1K 
[   ]install-summary.dcf05-Mar-2024 01:37 273