Back to Multiple platform build/check report for BioC 3.18:   simplified   long
ABCD[E]FGHIJKLMNOPQRSTUVWXYZ

This page was generated on 2024-04-17 11:36:44 -0400 (Wed, 17 Apr 2024).

HostnameOSArch (*)R versionInstalled pkgs
nebbiolo2Linux (Ubuntu 22.04.3 LTS)x86_644.3.3 (2024-02-29) -- "Angel Food Cake" 4676
palomino4Windows Server 2022 Datacenterx644.3.3 (2024-02-29 ucrt) -- "Angel Food Cake" 4414
merida1macOS 12.7.1 Montereyx86_644.3.3 (2024-02-29) -- "Angel Food Cake" 4437
Click on any hostname to see more info about the system (e.g. compilers)      (*) as reported by 'uname -p', except on Windows and Mac OS X

Package 618/2266HostnameOS / ArchINSTALLBUILDCHECKBUILD BIN
EBImage 4.44.0  (landing page)
Andrzej OleĊ›
Snapshot Date: 2024-04-15 14:05:01 -0400 (Mon, 15 Apr 2024)
git_url: https://git.bioconductor.org/packages/EBImage
git_branch: RELEASE_3_18
git_last_commit: 768d8e8
git_last_commit_date: 2023-10-24 09:36:28 -0400 (Tue, 24 Oct 2023)
nebbiolo2Linux (Ubuntu 22.04.3 LTS) / x86_64  OK    OK    ERROR  
palomino4Windows Server 2022 Datacenter / x64  OK    OK    OK    OK  UNNEEDED, same version is already published
merida1macOS 12.7.1 Monterey / x86_64  OK    OK    OK    OK  UNNEEDED, same version is already published
kjohnson1macOS 13.6.1 Ventura / arm64see weekly results here

INSTALL results for EBImage on palomino4


To the developers/maintainers of the EBImage package:
- Allow up to 24 hours (and sometimes 48 hours) for your latest push to git@git.bioconductor.org:packages/EBImage.git to reflect on this report. See Troubleshooting Build Report for more information.
- Use the following Renviron settings to reproduce errors and warnings.
- If 'R CMD check' started to fail recently on the Linux builder(s) over a missing dependency, add the missing dependency to 'Suggests:' in your DESCRIPTION file. See Renviron.bioc for more information.

raw results


Summary

Package: EBImage
Version: 4.44.0
Command: F:\biocbuild\bbs-3.18-bioc\R\bin\R.exe CMD INSTALL EBImage
StartedAt: 2024-04-15 16:09:25 -0400 (Mon, 15 Apr 2024)
EndedAt: 2024-04-15 16:09:51 -0400 (Mon, 15 Apr 2024)
EllapsedTime: 26.5 seconds
RetCode: 0
Status:   OK  

Command output

##############################################################################
##############################################################################
###
### Running command:
###
###   F:\biocbuild\bbs-3.18-bioc\R\bin\R.exe CMD INSTALL EBImage
###
##############################################################################
##############################################################################


* installing to library 'F:/biocbuild/bbs-3.18-bioc/R/library'
* installing *source* package 'EBImage' ...
** using staged installation
** libs
using C compiler: 'gcc.exe (GCC) 12.3.0'
using C++ compiler: 'G__~1.EXE (GCC) 12.3.0'
gcc  -I"F:/biocbuild/bbs-3.18-bioc/R/include" -DNDEBUG     -I"C:/rtools43/x86_64-w64-mingw32.static.posix/include"     -O2 -Wall  -mfpmath=sse -msse2 -mstackrealign  -c EBImage.c -o EBImage.o
gcc  -I"F:/biocbuild/bbs-3.18-bioc/R/include" -DNDEBUG     -I"C:/rtools43/x86_64-w64-mingw32.static.posix/include"     -O2 -Wall  -mfpmath=sse -msse2 -mstackrealign  -c clahe.c -o clahe.o
clahe.c: In function 'CLAHE':
clahe.c:223:33: warning: suggest parentheses around '+' inside '>>' [-Wparentheses]
  223 |                 uiSubY = uiYSize+1 >> 1;        uiYU = uiNrY-1;  uiYB = uiYU;
      |                          ~~~~~~~^~
clahe.c:235:37: warning: suggest parentheses around '+' inside '>>' [-Wparentheses]
  235 |                     uiSubX = uiXSize+1 >> 1;  uiXL = uiNrX - 1; uiXR = uiXL;
      |                              ~~~~~~~^~
g++ -std=gnu++17  -I"F:/biocbuild/bbs-3.18-bioc/R/include" -DNDEBUG     -I"C:/rtools43/x86_64-w64-mingw32.static.posix/include"     -O2 -Wall  -mfpmath=sse -msse2 -mstackrealign  -c distmap.cpp -o distmap.o
gcc  -I"F:/biocbuild/bbs-3.18-bioc/R/include" -DNDEBUG     -I"C:/rtools43/x86_64-w64-mingw32.static.posix/include"     -O2 -Wall  -mfpmath=sse -msse2 -mstackrealign  -c drawCircle.c -o drawCircle.o
g++ -std=gnu++17  -I"F:/biocbuild/bbs-3.18-bioc/R/include" -DNDEBUG     -I"C:/rtools43/x86_64-w64-mingw32.static.posix/include"     -O2 -Wall  -mfpmath=sse -msse2 -mstackrealign  -c floodFill.cpp -o floodFill.o
gcc  -I"F:/biocbuild/bbs-3.18-bioc/R/include" -DNDEBUG     -I"C:/rtools43/x86_64-w64-mingw32.static.posix/include"     -O2 -Wall  -mfpmath=sse -msse2 -mstackrealign  -c getFrames.c -o getFrames.o
gcc  -I"F:/biocbuild/bbs-3.18-bioc/R/include" -DNDEBUG     -I"C:/rtools43/x86_64-w64-mingw32.static.posix/include"     -O2 -Wall  -mfpmath=sse -msse2 -mstackrealign  -c haralick.c -o haralick.o
gcc  -I"F:/biocbuild/bbs-3.18-bioc/R/include" -DNDEBUG     -I"C:/rtools43/x86_64-w64-mingw32.static.posix/include"     -O2 -Wall  -mfpmath=sse -msse2 -mstackrealign  -c medianFilter.c -o medianFilter.o
g++ -std=gnu++17  -I"F:/biocbuild/bbs-3.18-bioc/R/include" -DNDEBUG     -I"C:/rtools43/x86_64-w64-mingw32.static.posix/include"     -O2 -Wall  -mfpmath=sse -msse2 -mstackrealign  -c morphology.cpp -o morphology.o
morphology.cpp: In instantiation of 'void compute_lookup_table_for_line_erode(type***, type*, int, int, chordSet*, PointXY) [with type = int]':
morphology.cpp:253:41:   required from 'void erode_dilate(type*, type*, PointXY, int, int, chordSet*, type***) [with type = int]'
morphology.cpp:340:27:   required from 'void _morphology(type*, type*, PointXY, int, SEXP, int) [with type = int; SEXP = SEXPREC*]'
morphology.cpp:374:25:   required from here
morphology.cpp:196:14: warning: statement has no effect [-Wunused-value]
  196 |         for (i; i < 0; ++i) {
      |              ^
morphology.cpp:199:14: warning: statement has no effect [-Wunused-value]
  199 |         for (i; i < maxX; ++i) {
      |              ^
morphology.cpp:203:14: warning: statement has no effect [-Wunused-value]
  203 |         for (i; i < size.x + set->maxXoffset; ++i) {
      |              ^
morphology.cpp: In instantiation of 'void compute_lookup_table_for_line_dilate(type***, type*, int, int, chordSet*, PointXY) [with type = int]':
morphology.cpp:257:41:   required from 'void erode_dilate(type*, type*, PointXY, int, int, chordSet*, type***) [with type = int]'
morphology.cpp:340:27:   required from 'void _morphology(type*, type*, PointXY, int, SEXP, int) [with type = int; SEXP = SEXPREC*]'
morphology.cpp:374:25:   required from here
morphology.cpp:163:14: warning: statement has no effect [-Wunused-value]
  163 |         for (i; i < 0; ++i) {
      |              ^
morphology.cpp:166:14: warning: statement has no effect [-Wunused-value]
  166 |         for (i; i < maxX; ++i) {
      |              ^
morphology.cpp:170:14: warning: statement has no effect [-Wunused-value]
  170 |         for (i; i < size.x + set->maxXoffset; ++i) {
      |              ^
morphology.cpp: In instantiation of 'void compute_lookup_table_for_line_erode(type***, type*, int, int, chordSet*, PointXY) [with type = double]':
morphology.cpp:253:41:   required from 'void erode_dilate(type*, type*, PointXY, int, int, chordSet*, type***) [with type = double]'
morphology.cpp:340:27:   required from 'void _morphology(type*, type*, PointXY, int, SEXP, int) [with type = double; SEXP = SEXPREC*]'
morphology.cpp:377:28:   required from here
morphology.cpp:196:14: warning: statement has no effect [-Wunused-value]
  196 |         for (i; i < 0; ++i) {
      |              ^
morphology.cpp:199:14: warning: statement has no effect [-Wunused-value]
  199 |         for (i; i < maxX; ++i) {
      |              ^
morphology.cpp:203:14: warning: statement has no effect [-Wunused-value]
  203 |         for (i; i < size.x + set->maxXoffset; ++i) {
      |              ^
morphology.cpp: In instantiation of 'void compute_lookup_table_for_line_dilate(type***, type*, int, int, chordSet*, PointXY) [with type = double]':
morphology.cpp:257:41:   required from 'void erode_dilate(type*, type*, PointXY, int, int, chordSet*, type***) [with type = double]'
morphology.cpp:340:27:   required from 'void _morphology(type*, type*, PointXY, int, SEXP, int) [with type = double; SEXP = SEXPREC*]'
morphology.cpp:377:28:   required from here
morphology.cpp:163:14: warning: statement has no effect [-Wunused-value]
  163 |         for (i; i < 0; ++i) {
      |              ^
morphology.cpp:166:14: warning: statement has no effect [-Wunused-value]
  166 |         for (i; i < maxX; ++i) {
      |              ^
morphology.cpp:170:14: warning: statement has no effect [-Wunused-value]
  170 |         for (i; i < size.x + set->maxXoffset; ++i) {
      |              ^
gcc  -I"F:/biocbuild/bbs-3.18-bioc/R/include" -DNDEBUG     -I"C:/rtools43/x86_64-w64-mingw32.static.posix/include"     -O2 -Wall  -mfpmath=sse -msse2 -mstackrealign  -c nativeRaster.c -o nativeRaster.o
gcc  -I"F:/biocbuild/bbs-3.18-bioc/R/include" -DNDEBUG     -I"C:/rtools43/x86_64-w64-mingw32.static.posix/include"     -O2 -Wall  -mfpmath=sse -msse2 -mstackrealign  -c normalize.c -o normalize.o
gcc  -I"F:/biocbuild/bbs-3.18-bioc/R/include" -DNDEBUG     -I"C:/rtools43/x86_64-w64-mingw32.static.posix/include"     -O2 -Wall  -mfpmath=sse -msse2 -mstackrealign  -c objects.c -o objects.o
objects.c: In function 'paintObjects':
objects.c:21:30: warning: unused variable 'dp' [-Wunused-variable]
   21 |     double *obj, *src, *tgt, dp, val;
      |                              ^~
objects.c: In function 'stackObjects':
objects.c:295:10: warning: 'res' may be used uninitialized [-Wmaybe-uninitialized]
  295 |   return res;
      |          ^~~
objects.c:192:8: note: 'res' was declared here
  192 |   SEXP res, dim, xys, img;
      |        ^~~
In file included from objects.h:5,
                 from objects.c:1:
F:/biocbuild/bbs-3.18-bioc/R/include/Rdefines.h:143:33: warning: 'dim' may be used uninitialized [-Wmaybe-uninitialized]
  143 | #define SET_DIM(x, n)           Rf_setAttrib(x, R_DimSymbol, n)
      |                                 ^~~~~~~~~~~~
objects.c:192:13: note: 'dim' was declared here
  192 |   SEXP res, dim, xys, img;
      |             ^~~
gcc  -I"F:/biocbuild/bbs-3.18-bioc/R/include" -DNDEBUG     -I"C:/rtools43/x86_64-w64-mingw32.static.posix/include"     -O2 -Wall  -mfpmath=sse -msse2 -mstackrealign  -c ocontour.c -o ocontour.o
g++ -std=gnu++17  -I"F:/biocbuild/bbs-3.18-bioc/R/include" -DNDEBUG     -I"C:/rtools43/x86_64-w64-mingw32.static.posix/include"     -O2 -Wall  -mfpmath=sse -msse2 -mstackrealign  -c propagate.cpp -o propagate.o
In function 'void _propagate(int*, double*, int*, int*, double*, unsigned int, unsigned int, double)',
    inlined from 'SEXPREC* propagate(SEXP, SEXP, SEXP, SEXP)' at propagate.cpp:209:15:
propagate.cpp:174:31: warning: 'mask' may be used uninitialized [-Wmaybe-uninitialized]
  174 |     if (! mask_in[IJ(p.i, p.j)]) continue;
      |                               ^
propagate.cpp: In function 'SEXPREC* propagate(SEXP, SEXP, SEXP, SEXP)':
propagate.cpp:197:8: note: 'mask' was declared here
  197 |   int *mask;
      |        ^~~~
gcc  -I"F:/biocbuild/bbs-3.18-bioc/R/include" -DNDEBUG     -I"C:/rtools43/x86_64-w64-mingw32.static.posix/include"     -O2 -Wall  -mfpmath=sse -msse2 -mstackrealign  -c spatial.c -o spatial.o
g++ -std=gnu++17  -I"F:/biocbuild/bbs-3.18-bioc/R/include" -DNDEBUG     -I"C:/rtools43/x86_64-w64-mingw32.static.posix/include"     -O2 -Wall  -mfpmath=sse -msse2 -mstackrealign  -c thresh.cpp -o thresh.o
thresh.cpp: In instantiation of 'void _thresh(T*, int*, int, int, int, int, double) [with T = int]':
thresh.cpp:50:25:   required from here
thresh.cpp:64:42: warning: unused variable 'i' [-Wunused-variable]
   64 |     int xi, yi, u, k, l, ou, nu, ov, nv, i;
      |                                          ^
thresh.cpp: In instantiation of 'void _thresh(T*, int*, int, int, int, int, double) [with T = double]':
thresh.cpp:53:28:   required from here
thresh.cpp:64:42: warning: unused variable 'i' [-Wunused-variable]
g++ -std=gnu++17  -I"F:/biocbuild/bbs-3.18-bioc/R/include" -DNDEBUG     -I"C:/rtools43/x86_64-w64-mingw32.static.posix/include"     -O2 -Wall  -mfpmath=sse -msse2 -mstackrealign  -c tile.cpp -o tile.o
tile.cpp: In function 'SEXPREC* tile(SEXP, SEXP, SEXP)':
tile.cpp:24:17: warning: unused variable 'ims' [-Wunused-variable]
   24 |   SEXP res, dm, ims;
      |                 ^~~
tile.cpp: In function 'SEXPREC* untile(SEXP, SEXP, SEXP)':
tile.cpp:161:29: warning: unused variable 'y' [-Wunused-variable]
  161 |   int nprotect=0, i, j, im, y, iim;
      |                             ^
tile.cpp:162:18: warning: unused variable 'dat' [-Wunused-variable]
  162 |   SEXP res, dim, dat;
      |                  ^~~
tile.cpp:163:11: warning: unused variable 'src' [-Wunused-variable]
  163 |   double *src, *tgt;
      |           ^~~
tile.cpp:163:17: warning: unused variable 'tgt' [-Wunused-variable]
  163 |   double *src, *tgt;
      |                 ^~~
gcc  -I"F:/biocbuild/bbs-3.18-bioc/R/include" -DNDEBUG     -I"C:/rtools43/x86_64-w64-mingw32.static.posix/include"     -O2 -Wall  -mfpmath=sse -msse2 -mstackrealign  -c tools.c -o tools.o
g++ -std=gnu++17  -I"F:/biocbuild/bbs-3.18-bioc/R/include" -DNDEBUG     -I"C:/rtools43/x86_64-w64-mingw32.static.posix/include"     -O2 -Wall  -mfpmath=sse -msse2 -mstackrealign  -c transpose.cpp -o transpose.o
g++ -std=gnu++17  -I"F:/biocbuild/bbs-3.18-bioc/R/include" -DNDEBUG     -I"C:/rtools43/x86_64-w64-mingw32.static.posix/include"     -O2 -Wall  -mfpmath=sse -msse2 -mstackrealign  -c watershed.cpp -o watershed.o
g++ -std=gnu++17 -shared -s -static-libgcc -o EBImage.dll tmp.def EBImage.o clahe.o distmap.o drawCircle.o floodFill.o getFrames.o haralick.o medianFilter.o morphology.o nativeRaster.o normalize.o objects.o ocontour.o propagate.o spatial.o thresh.o tile.o tools.o transpose.o watershed.o -LC:/rtools43/x86_64-w64-mingw32.static.posix/lib/x64 -LC:/rtools43/x86_64-w64-mingw32.static.posix/lib -LF:/biocbuild/bbs-3.18-bioc/R/bin/x64 -lR
installing to F:/biocbuild/bbs-3.18-bioc/R/library/00LOCK-EBImage/00new/EBImage/libs/x64
** R
** inst
** byte-compile and prepare package for lazy loading
Creating a new generic function for 'abind' in package 'EBImage'
** help
*** installing help indices
** building package indices
** installing vignettes
** testing if installed package can be loaded from temporary location
** testing if installed package can be loaded from final location
** testing if installed package keeps a record of temporary installation path
* DONE (EBImage)