Back to Multiple platform build/check report for BioC 3.18:   simplified   long
ABCD[E]FGHIJKLMNOPQRSTUVWXYZ

This page was generated on 2024-04-17 11:36:44 -0400 (Wed, 17 Apr 2024).

HostnameOSArch (*)R versionInstalled pkgs
nebbiolo2Linux (Ubuntu 22.04.3 LTS)x86_644.3.3 (2024-02-29) -- "Angel Food Cake" 4676
palomino4Windows Server 2022 Datacenterx644.3.3 (2024-02-29 ucrt) -- "Angel Food Cake" 4414
merida1macOS 12.7.1 Montereyx86_644.3.3 (2024-02-29) -- "Angel Food Cake" 4437
Click on any hostname to see more info about the system (e.g. compilers)      (*) as reported by 'uname -p', except on Windows and Mac OS X

Package 618/2266HostnameOS / ArchINSTALLBUILDCHECKBUILD BIN
EBImage 4.44.0  (landing page)
Andrzej OleĊ›
Snapshot Date: 2024-04-15 14:05:01 -0400 (Mon, 15 Apr 2024)
git_url: https://git.bioconductor.org/packages/EBImage
git_branch: RELEASE_3_18
git_last_commit: 768d8e8
git_last_commit_date: 2023-10-24 09:36:28 -0400 (Tue, 24 Oct 2023)
nebbiolo2Linux (Ubuntu 22.04.3 LTS) / x86_64  OK    OK    ERROR  
palomino4Windows Server 2022 Datacenter / x64  OK    OK    OK    OK  UNNEEDED, same version is already published
merida1macOS 12.7.1 Monterey / x86_64  OK    OK    OK    OK  UNNEEDED, same version is already published
kjohnson1macOS 13.6.1 Ventura / arm64see weekly results here

BUILD results for EBImage on palomino4


To the developers/maintainers of the EBImage package:
- Allow up to 24 hours (and sometimes 48 hours) for your latest push to git@git.bioconductor.org:packages/EBImage.git to reflect on this report. See Troubleshooting Build Report for more information.
- Use the following Renviron settings to reproduce errors and warnings.
- If 'R CMD check' started to fail recently on the Linux builder(s) over a missing dependency, add the missing dependency to 'Suggests:' in your DESCRIPTION file. See Renviron.bioc for more information.

raw results


Summary

Package: EBImage
Version: 4.44.0
Command: chmod a+r EBImage -R && F:\biocbuild\bbs-3.18-bioc\R\bin\R.exe CMD build --keep-empty-dirs --no-resave-data EBImage
StartedAt: 2024-04-15 18:10:00 -0400 (Mon, 15 Apr 2024)
EndedAt: 2024-04-15 18:10:52 -0400 (Mon, 15 Apr 2024)
EllapsedTime: 52.5 seconds
RetCode: 0
Status:   OK  
PackageFile: EBImage_4.44.0.tar.gz
PackageFileSize: 5.205 MiB

Command output

##############################################################################
##############################################################################
###
### Running command:
###
###   chmod a+r EBImage -R && F:\biocbuild\bbs-3.18-bioc\R\bin\R.exe CMD build --keep-empty-dirs --no-resave-data EBImage
###
##############################################################################
##############################################################################


* checking for file 'EBImage/DESCRIPTION' ... OK
* preparing 'EBImage':
* checking DESCRIPTION meta-information ... OK
* cleaning src
* installing the package to build vignettes
* creating vignettes ... OK
* cleaning src
* checking for LF line-endings in source and make files and shell scripts
* checking for empty or unneeded directories
* building 'EBImage_4.44.0.tar.gz'