Index of /checkResults/3.18/bioc-LATEST/Dino/raw-results/nebbiolo2

[ICO]NameLast modifiedSizeDescription

[DIR]Parent Directory  -  
[TXT]buildsrc-out.txt18-Apr-2024 00:35 856  
[   ]buildsrc-summary.dcf18-Apr-2024 00:35 407  
[TXT]checksrc-out.txt18-Apr-2024 00:35 3.9K 
[   ]checksrc-summary.dcf18-Apr-2024 00:35 400  
[TXT]install-out.txt18-Apr-2024 00:35 951  
[   ]install-summary.dcf18-Apr-2024 00:35 252