Index of /checkResults/3.18/bioc-LATEST/ChIPsim/raw-results/kunpeng2

[ICO]NameLast modifiedSizeDescription

[DIR]Parent Directory  -  
[TXT]buildsrc-out.txt03-Nov-2023 00:40 800  
[   ]buildsrc-summary.dcf03-Nov-2023 00:40 411  
[TXT]checksrc-out.txt03-Nov-2023 00:40 3.5K 
[   ]checksrc-summary.dcf03-Nov-2023 00:40 417  
[TXT]install-out.txt03-Nov-2023 00:40 932  
[   ]install-summary.dcf03-Nov-2023 00:40 253