Index of /checkResults/3.18/bioc-LATEST/CGHcall/raw-results/lconway

[ICO]NameLast modifiedSizeDescription

[DIR]Parent Directory  -  
[TXT]buildbin-out.txt05-Mar-2024 01:37 1.2K 
[   ]buildbin-summary.dcf05-Mar-2024 01:37 530  
[TXT]buildsrc-out.txt05-Mar-2024 01:37 879  
[   ]buildsrc-summary.dcf05-Mar-2024 01:37 427  
[TXT]checksrc-out.txt05-Mar-2024 01:37 6.6K 
[   ]checksrc-summary.dcf05-Mar-2024 01:37 449  
[TXT]install-out.txt05-Mar-2024 01:37 1.0K 
[   ]install-summary.dcf05-Mar-2024 01:37 268