Index of /checkResults/3.18/bioc-LATEST/BrowserViz/raw-results/kunpeng2

[ICO]NameLast modifiedSizeDescription

[DIR]Parent Directory  -  
[TXT]buildsrc-out.txt03-Nov-2023 00:40 862  
[   ]buildsrc-summary.dcf03-Nov-2023 00:40 419  
[TXT]checksrc-out.txt03-Nov-2023 00:40 3.2K 
[   ]checksrc-summary.dcf03-Nov-2023 00:40 428  
[TXT]install-out.txt03-Nov-2023 00:40 949  
[   ]install-summary.dcf03-Nov-2023 00:40 259