Index of /checkResults/3.18/bioc-LATEST/BiocOncoTK/raw-results/lconway

[ICO]NameLast modifiedSizeDescription

[DIR]Parent Directory  -  
[   ]checksrc-summary.dcf24-Jan-2024 01:37 456  
[TXT]checksrc-out.txt24-Jan-2024 01:37 6.5K 
[   ]buildbin-summary.dcf24-Jan-2024 01:37 548  
[TXT]buildbin-out.txt24-Jan-2024 01:37 1.2K 
[TXT]install-out.txt05-Mar-2024 01:37 1.0K 
[   ]install-summary.dcf05-Mar-2024 01:37 278  
[TXT]buildsrc-out.txt05-Mar-2024 01:37 1.1K 
[   ]buildsrc-summary.dcf05-Mar-2024 01:37 349