Back to Multiple platform build/check report for BioC 3.18:   simplified   long
A[B]CDEFGHIJKLMNOPQRSTUVWXYZ

This page was generated on 2024-03-29 11:34:45 -0400 (Fri, 29 Mar 2024).

HostnameOSArch (*)R versionInstalled pkgs
nebbiolo2Linux (Ubuntu 22.04.3 LTS)x86_644.3.3 (2024-02-29) -- "Angel Food Cake" 4669
palomino4Windows Server 2022 Datacenterx644.3.3 (2024-02-29 ucrt) -- "Angel Food Cake" 4404
merida1macOS 12.7.1 Montereyx86_644.3.3 (2024-02-29) -- "Angel Food Cake" 4427
Click on any hostname to see more info about the system (e.g. compilers)      (*) as reported by 'uname -p', except on Windows and Mac OS X

All results for package Biobase


To the developers/maintainers of the Biobase package:
- Allow up to 24 hours (and sometimes 48 hours) for your latest push to git@git.bioconductor.org:packages/Biobase.git to reflect on this report. See Troubleshooting Build Report for more information.
- Use the following Renviron settings to reproduce errors and warnings.
- If 'R CMD check' started to fail recently on the Linux builder(s) over a missing dependency, add the missing dependency to 'Suggests:' in your DESCRIPTION file. See Renviron.bioc for more information.

raw results

Package 167/2266HostnameOS / ArchINSTALLBUILDCHECKBUILD BIN
Biobase 2.62.0  (landing page)
Bioconductor Package Maintainer
Snapshot Date: 2024-03-27 14:05:05 -0400 (Wed, 27 Mar 2024)
git_url: https://git.bioconductor.org/packages/Biobase
git_branch: RELEASE_3_18
git_last_commit: 8201fbb
git_last_commit_date: 2023-10-24 09:31:17 -0400 (Tue, 24 Oct 2023)
nebbiolo2Linux (Ubuntu 22.04.3 LTS) / x86_64  OK    OK    WARNINGS  UNNEEDED, same version is already published
palomino4Windows Server 2022 Datacenter / x64  OK    OK    OK    OK  UNNEEDED, same version is already published
merida1macOS 12.7.1 Monterey / x86_64  OK    OK    OK    OK  UNNEEDED, same version is already published
kjohnson1macOS 13.6.1 Ventura / arm64see weekly results here

Results for Bioconductor software packages that depend directly on package Biobase

QUICK STATSOS / ArchINSTALLBUILDCHECKBUILD BIN
nebbiolo2Linux (Ubuntu 22.04.3 LTS) / x86_64
05450
014441
310100328
palomino4Windows Server 2022 Datacenter / x64
05446
012439
0895336
00439
merida1macOS 12.7.1 Monterey / x86_64
06448
016438
05101332
00438
Package 1/455HostnameOS / ArchINSTALLBUILDCHECKBUILD BIN
a4Base 1.50.0  (landing page)
Laure Cougnaud
git_last_commit: 26439bb
git_last_commit_date: 2023-10-24 09:46:28 -0400
nebbiolo2Linux (Ubuntu 22.04.3 LTS) / x86_64  OK    OK    OK  UNNEEDED, same version is already published
palomino4Windows Server 2022 Datacenter / x64  OK    OK    OK    OK  UNNEEDED, same version is already published
merida1macOS 12.7.1 Monterey / x86_64  OK    OK    OK    OK  UNNEEDED, same version is already published
kjohnson1macOS 13.6.1 Ventura / arm64see weekly results here
Package 2/455HostnameOS / ArchINSTALLBUILDCHECKBUILD BIN
a4Classif 1.50.0  (landing page)
Laure Cougnaud
git_last_commit: 1a41653
git_last_commit_date: 2023-10-24 09:46:33 -0400
nebbiolo2Linux (Ubuntu 22.04.3 LTS) / x86_64  OK    OK    OK  UNNEEDED, same version is already published
palomino4Windows Server 2022 Datacenter / x64  OK    OK    OK    OK  UNNEEDED, same version is already published
merida1macOS 12.7.1 Monterey / x86_64  OK    OK    OK    OK  UNNEEDED, same version is already published
kjohnson1macOS 13.6.1 Ventura / arm64see weekly results here
Package 3/455HostnameOS / ArchINSTALLBUILDCHECKBUILD BIN
a4Core 1.50.0  (landing page)
Laure Cougnaud
git_last_commit: efe6621
git_last_commit_date: 2023-10-24 09:46:36 -0400
nebbiolo2Linux (Ubuntu 22.04.3 LTS) / x86_64  OK    OK    OK  UNNEEDED, same version is already published
palomino4Windows Server 2022 Datacenter / x64  OK    OK    OK    OK  UNNEEDED, same version is already published
merida1macOS 12.7.1 Monterey / x86_64  OK    OK    OK    OK  UNNEEDED, same version is already published
kjohnson1macOS 13.6.1 Ventura / arm64see weekly results here
Package 4/455HostnameOS / ArchINSTALLBUILDCHECKBUILD BIN
a4Preproc 1.50.0  (landing page)
Laure Cougnaud
git_last_commit: 7f02ff9
git_last_commit_date: 2023-10-24 09:46:31 -0400
nebbiolo2Linux (Ubuntu 22.04.3 LTS) / x86_64  OK    OK    OK  UNNEEDED, same version is already published
palomino4Windows Server 2022 Datacenter / x64  OK    OK    OK    OK  UNNEEDED, same version is already published
merida1macOS 12.7.1 Monterey / x86_64  OK    OK    OK    OK  UNNEEDED, same version is already published
kjohnson1macOS 13.6.1 Ventura / arm64see weekly results here
Package 5/455HostnameOS / ArchINSTALLBUILDCHECKBUILD BIN
ABarray 1.70.0  (landing page)
Yongming Andrew Sun
git_last_commit: fdda0b2
git_last_commit_date: 2023-10-24 09:36:57 -0400
nebbiolo2Linux (Ubuntu 22.04.3 LTS) / x86_64  OK    OK    OK  UNNEEDED, same version is already published
palomino4Windows Server 2022 Datacenter / x64  OK    OK    OK    OK  UNNEEDED, same version is already published
merida1macOS 12.7.1 Monterey / x86_64  OK    OK    OK    OK  UNNEEDED, same version is already published
kjohnson1macOS 13.6.1 Ventura / arm64see weekly results here
Package 6/455HostnameOS / ArchINSTALLBUILDCHECKBUILD BIN
ACE 1.20.0  (landing page)
Jos B Poell
git_last_commit: 1b2f96b
git_last_commit_date: 2023-10-24 11:06:37 -0400
nebbiolo2Linux (Ubuntu 22.04.3 LTS) / x86_64  OK    OK    OK  UNNEEDED, same version is already published
palomino4Windows Server 2022 Datacenter / x64  OK    OK    OK    OK  UNNEEDED, same version is already published
merida1macOS 12.7.1 Monterey / x86_64  OK    OK    OK    OK  UNNEEDED, same version is already published
kjohnson1macOS 13.6.1 Ventura / arm64see weekly results here
Package 7/455HostnameOS / ArchINSTALLBUILDCHECKBUILD BIN
aCGH 1.80.0  (landing page)
Peter Dimitrov
git_last_commit: 5ec9dd3
git_last_commit_date: 2023-10-24 09:33:39 -0400
nebbiolo2Linux (Ubuntu 22.04.3 LTS) / x86_64  OK    OK    OK  UNNEEDED, same version is already published
palomino4Windows Server 2022 Datacenter / x64  OK    OK    OK    OK  UNNEEDED, same version is already published
merida1macOS 12.7.1 Monterey / x86_64  OK    OK    OK    OK  UNNEEDED, same version is already published
kjohnson1macOS 13.6.1 Ventura / arm64see weekly results here
Package 8/455HostnameOS / ArchINSTALLBUILDCHECKBUILD BIN
ACME 2.58.0  (landing page)
Sean Davis
git_last_commit: 1b192d9
git_last_commit_date: 2023-10-24 09:38:13 -0400
nebbiolo2Linux (Ubuntu 22.04.3 LTS) / x86_64  OK    OK    WARNINGS  UNNEEDED, same version is already published
palomino4Windows Server 2022 Datacenter / x64  OK    OK    WARNINGS    OK  UNNEEDED, same version is already published
merida1macOS 12.7.1 Monterey / x86_64  OK    OK    OK    OK  UNNEEDED, same version is already published
kjohnson1macOS 13.6.1 Ventura / arm64see weekly results here
Package 9/455HostnameOS / ArchINSTALLBUILDCHECKBUILD BIN
adSplit 1.72.0  (landing page)
Claudio Lottaz
git_last_commit: 194ddb2
git_last_commit_date: 2023-10-24 09:36:20 -0400
nebbiolo2Linux (Ubuntu 22.04.3 LTS) / x86_64  OK    OK    OK  UNNEEDED, same version is already published
palomino4Windows Server 2022 Datacenter / x64  OK    OK    OK    OK  UNNEEDED, same version is already published
merida1macOS 12.7.1 Monterey / x86_64  OK    OK    OK    OK  UNNEEDED, same version is already published
kjohnson1macOS 13.6.1 Ventura / arm64see weekly results here
Package 10/455HostnameOS / ArchINSTALLBUILDCHECKBUILD BIN
affy 1.80.0  (landing page)
Robert D. Shear
git_last_commit: a0d64df
git_last_commit_date: 2023-10-24 09:31:50 -0400
nebbiolo2Linux (Ubuntu 22.04.3 LTS) / x86_64  OK    OK    WARNINGS  UNNEEDED, same version is already published
palomino4Windows Server 2022 Datacenter / x64  OK    OK    WARNINGS    OK  UNNEEDED, same version is already published
merida1macOS 12.7.1 Monterey / x86_64  OK    OK    WARNINGS    OK  UNNEEDED, same version is already published
kjohnson1macOS 13.6.1 Ventura / arm64see weekly results here
Package 11/455HostnameOS / ArchINSTALLBUILDCHECKBUILD BIN
affycomp 1.78.0  (landing page)
Robert D. Shear
git_last_commit: 65cc8f0
git_last_commit_date: 2023-10-24 09:32:08 -0400
nebbiolo2Linux (Ubuntu 22.04.3 LTS) / x86_64  OK    OK    OK  UNNEEDED, same version is already published
palomino4Windows Server 2022 Datacenter / x64  OK    OK    OK    OK  UNNEEDED, same version is already published
merida1macOS 12.7.1 Monterey / x86_64  OK    OK    OK    OK  UNNEEDED, same version is already published
kjohnson1macOS 13.6.1 Ventura / arm64see weekly results here
Package 12/455HostnameOS / ArchINSTALLBUILDCHECKBUILD BIN
affyContam 1.60.0  (landing page)
V. Carey
git_last_commit: f2e21b7
git_last_commit_date: 2023-10-24 09:40:56 -0400
nebbiolo2Linux (Ubuntu 22.04.3 LTS) / x86_64  OK    OK    OK  UNNEEDED, same version is already published
palomino4Windows Server 2022 Datacenter / x64  OK    OK    OK    OK  UNNEEDED, same version is already published
merida1macOS 12.7.1 Monterey / x86_64  OK    OK    OK    OK  UNNEEDED, same version is already published
kjohnson1macOS 13.6.1 Ventura / arm64see weekly results here
Package 13/455HostnameOS / ArchINSTALLBUILDCHECKBUILD BIN
affycoretools 1.74.0  (landing page)
James W. MacDonald
git_last_commit: c04ad6f
git_last_commit_date: 2023-10-24 09:35:49 -0400
nebbiolo2Linux (Ubuntu 22.04.3 LTS) / x86_64  OK    OK    OK  UNNEEDED, same version is already published
palomino4Windows Server 2022 Datacenter / x64  OK    OK    OK    OK  UNNEEDED, same version is already published
merida1macOS 12.7.1 Monterey / x86_64  OK    OK    OK    OK  UNNEEDED, same version is already published
kjohnson1macOS 13.6.1 Ventura / arm64see weekly results here
Package 14/455HostnameOS / ArchINSTALLBUILDCHECKBUILD BIN
affyILM 1.54.0  (landing page)
Myriam Kroll and Fabrice Berger
git_last_commit: 4586915
git_last_commit_date: 2023-10-24 09:44:11 -0400
nebbiolo2Linux (Ubuntu 22.04.3 LTS) / x86_64  OK    OK    OK  UNNEEDED, same version is already published
palomino4Windows Server 2022 Datacenter / x64  OK    OK    OK    OK  UNNEEDED, same version is already published
merida1macOS 12.7.1 Monterey / x86_64  OK    OK    OK    OK  UNNEEDED, same version is already published
kjohnson1macOS 13.6.1 Ventura / arm64see weekly results here
Package 15/455HostnameOS / ArchINSTALLBUILDCHECKBUILD BIN
affyPLM 1.78.0  (landing page)
Ben Bolstad
git_last_commit: 1fa54e2
git_last_commit_date: 2023-10-24 09:32:34 -0400
nebbiolo2Linux (Ubuntu 22.04.3 LTS) / x86_64  OK    OK    WARNINGS  UNNEEDED, same version is already published
palomino4Windows Server 2022 Datacenter / x64  OK    OK    WARNINGS    OK  UNNEEDED, same version is already published
merida1macOS 12.7.1 Monterey / x86_64  OK    OK    OK    OK  UNNEEDED, same version is already published
kjohnson1macOS 13.6.1 Ventura / arm64see weekly results here
Package 16/455HostnameOS / ArchINSTALLBUILDCHECKBUILD BIN
AGDEX 1.50.0  (landing page)
Cuilan lani Gao
git_last_commit: 5b2ecda
git_last_commit_date: 2023-10-24 09:48:05 -0400
nebbiolo2Linux (Ubuntu 22.04.3 LTS) / x86_64  OK    OK    OK  UNNEEDED, same version is already published
palomino4Windows Server 2022 Datacenter / x64  OK    OK    OK    OK  UNNEEDED, same version is already published
merida1macOS 12.7.1 Monterey / x86_64  OK    OK    OK    OK  UNNEEDED, same version is already published
kjohnson1macOS 13.6.1 Ventura / arm64see weekly results here
Package 17/455HostnameOS / ArchINSTALLBUILDCHECKBUILD BIN
AgiMicroRna 2.52.0  (landing page)
Pedro Lopez-Romero
git_last_commit: 73e65fb
git_last_commit_date: 2023-10-24 09:42:33 -0400
nebbiolo2Linux (Ubuntu 22.04.3 LTS) / x86_64  OK    OK    WARNINGS  UNNEEDED, same version is already published
palomino4Windows Server 2022 Datacenter / x64  OK    OK    WARNINGS    OK  UNNEEDED, same version is already published
merida1macOS 12.7.1 Monterey / x86_64  OK    OK    WARNINGS    OK  UNNEEDED, same version is already published
kjohnson1macOS 13.6.1 Ventura / arm64see weekly results here
Package 18/455HostnameOS / ArchINSTALLBUILDCHECKBUILD BIN
AIMS 1.34.0  (landing page)
Eric R Paquet
git_last_commit: 6191044
git_last_commit_date: 2023-10-24 10:40:30 -0400
nebbiolo2Linux (Ubuntu 22.04.3 LTS) / x86_64  OK    OK    OK  UNNEEDED, same version is already published
palomino4Windows Server 2022 Datacenter / x64  OK    OK    OK    OK  UNNEEDED, same version is already published
merida1macOS 12.7.1 Monterey / x86_64  OK    OK    OK    OK  UNNEEDED, same version is already published
kjohnson1macOS 13.6.1 Ventura / arm64see weekly results here
Package 19/455HostnameOS / ArchINSTALLBUILDCHECKBUILD BIN
altcdfenvs 2.64.0  (landing page)
Laurent Gautier
git_last_commit: 86cec42
git_last_commit_date: 2023-10-24 09:33:12 -0400
nebbiolo2Linux (Ubuntu 22.04.3 LTS) / x86_64  OK    OK    OK  UNNEEDED, same version is already published
palomino4Windows Server 2022 Datacenter / x64  OK    OK    OK    OK  UNNEEDED, same version is already published
merida1macOS 12.7.1 Monterey / x86_64  OK    OK    OK    OK  UNNEEDED, same version is already published
kjohnson1macOS 13.6.1 Ventura / arm64see weekly results here
Package 20/455HostnameOS / ArchINSTALLBUILDCHECKBUILD BIN
ANF 1.24.1  (landing page)
Tianle Ma
git_last_commit: 360f3cd
git_last_commit_date: 2024-02-16 17:37:15 -0400
nebbiolo2Linux (Ubuntu 22.04.3 LTS) / x86_64  OK    OK    TIMEOUT  
palomino4Windows Server 2022 Datacenter / x64  OK    OK    OK    OK  UNNEEDED, same version is already published
merida1macOS 12.7.1 Monterey / x86_64  OK    OK    OK    OK  UNNEEDED, same version is already published
kjohnson1macOS 13.6.1 Ventura / arm64see weekly results here
Package 21/455HostnameOS / ArchINSTALLBUILDCHECKBUILD BIN
annaffy 1.74.0  (landing page)
Colin A. Smith
git_last_commit: 15d4c6a
git_last_commit_date: 2023-10-24 09:32:19 -0400
nebbiolo2Linux (Ubuntu 22.04.3 LTS) / x86_64  OK    OK    WARNINGS  UNNEEDED, same version is already published
palomino4Windows Server 2022 Datacenter / x64  OK    OK    WARNINGS    OK  UNNEEDED, same version is already published
merida1macOS 12.7.1 Monterey / x86_64  OK    OK    WARNINGS    OK  UNNEEDED, same version is already published
kjohnson1macOS 13.6.1 Ventura / arm64see weekly results here
Package 22/455HostnameOS / ArchINSTALLBUILDCHECKBUILD BIN
annmap 1.44.0  (landing page)
Chris Wirth
git_last_commit: 039a9a2
git_last_commit_date: 2023-10-24 09:50:21 -0400
nebbiolo2Linux (Ubuntu 22.04.3 LTS) / x86_64  OK    OK    WARNINGS  UNNEEDED, same version is already published
palomino4Windows Server 2022 Datacenter / x64... NOT SUPPORTED ...
merida1macOS 12.7.1 Monterey / x86_64  OK    OK    WARNINGS    OK  UNNEEDED, same version is already published
kjohnson1macOS 13.6.1 Ventura / arm64see weekly results here
Package 23/455HostnameOS / ArchINSTALLBUILDCHECKBUILD BIN
annotate 1.80.0  (landing page)
Bioconductor Package Maintainer
git_last_commit: 45a42c3
git_last_commit_date: 2023-10-24 09:31:23 -0400
nebbiolo2Linux (Ubuntu 22.04.3 LTS) / x86_64  OK    OK    OK  UNNEEDED, same version is already published
palomino4Windows Server 2022 Datacenter / x64  OK    OK    ERROR    OK  
merida1macOS 12.7.1 Monterey / x86_64  OK    OK    OK    OK  UNNEEDED, same version is already published
kjohnson1macOS 13.6.1 Ventura / arm64see weekly results here
Package 24/455HostnameOS / ArchINSTALLBUILDCHECKBUILD BIN
AnnotationDbi 1.64.1  (landing page)
Bioconductor Package Maintainer
git_last_commit: e5b997e
git_last_commit_date: 2023-11-01 17:02:57 -0400
nebbiolo2Linux (Ubuntu 22.04.3 LTS) / x86_64  OK    OK    WARNINGS  UNNEEDED, same version is already published
palomino4Windows Server 2022 Datacenter / x64  OK    OK    WARNINGS    OK  UNNEEDED, same version is already published
merida1macOS 12.7.1 Monterey / x86_64  OK    OK    WARNINGS    OK  UNNEEDED, same version is already published
kjohnson1macOS 13.6.1 Ventura / arm64see weekly results here
Package 25/455HostnameOS / ArchINSTALLBUILDCHECKBUILD BIN
AnnotationForge 1.44.0  (landing page)
Bioconductor Package Maintainer
git_last_commit: 1a9bb5f
git_last_commit_date: 2023-10-24 09:50:31 -0400
nebbiolo2Linux (Ubuntu 22.04.3 LTS) / x86_64  OK    OK    OK  UNNEEDED, same version is already published
palomino4Windows Server 2022 Datacenter / x64  OK    OK    OK    OK  UNNEEDED, same version is already published
merida1macOS 12.7.1 Monterey / x86_64  OK    OK    OK    OK  UNNEEDED, same version is already published
kjohnson1macOS 13.6.1 Ventura / arm64see weekly results here
Package 26/455HostnameOS / ArchINSTALLBUILDCHECKBUILD BIN
AnnotationHubData 1.32.1  (landing page)
Bioconductor Package Maintainer
git_last_commit: 938caa2
git_last_commit_date: 2024-02-12 13:07:50 -0400
nebbiolo2Linux (Ubuntu 22.04.3 LTS) / x86_64  OK    OK    WARNINGS  UNNEEDED, same version is already published
palomino4Windows Server 2022 Datacenter / x64  OK    OK    WARNINGS    OK  UNNEEDED, same version is already published
merida1macOS 12.7.1 Monterey / x86_64  OK    OK    WARNINGS    OK  UNNEEDED, same version is already published
kjohnson1macOS 13.6.1 Ventura / arm64see weekly results here
Package 27/455HostnameOS / ArchINSTALLBUILDCHECKBUILD BIN
annotationTools 1.76.0  (landing page)
Alexandre Kuhn
git_last_commit: 2b6d42d
git_last_commit_date: 2023-10-24 09:38:01 -0400
nebbiolo2Linux (Ubuntu 22.04.3 LTS) / x86_64  OK    OK    OK  UNNEEDED, same version is already published
palomino4Windows Server 2022 Datacenter / x64  OK    OK    OK    OK  UNNEEDED, same version is already published
merida1macOS 12.7.1 Monterey / x86_64  OK    OK    OK    OK  UNNEEDED, same version is already published
kjohnson1macOS 13.6.1 Ventura / arm64see weekly results here
Package 28/455HostnameOS / ArchINSTALLBUILDCHECKBUILD BIN
ArrayExpress 1.62.0  (landing page)
Jose Marugan
git_last_commit: 52f3e7c
git_last_commit_date: 2023-10-24 09:40:42 -0400
nebbiolo2Linux (Ubuntu 22.04.3 LTS) / x86_64  OK    OK    OK  UNNEEDED, same version is already published
palomino4Windows Server 2022 Datacenter / x64  OK    OK    OK    OK  UNNEEDED, same version is already published
merida1macOS 12.7.1 Monterey / x86_64  OK    OK    OK    OK  UNNEEDED, same version is already published
kjohnson1macOS 13.6.1 Ventura / arm64see weekly results here
Package 29/455HostnameOS / ArchINSTALLBUILDCHECKBUILD BIN
arrayMvout 1.60.0  (landing page)
V. Carey
git_last_commit: f24566a
git_last_commit_date: 2023-10-24 09:40:59 -0400
nebbiolo2Linux (Ubuntu 22.04.3 LTS) / x86_64  OK    OK    OK  UNNEEDED, same version is already published
palomino4Windows Server 2022 Datacenter / x64  OK    OK    OK    OK  UNNEEDED, same version is already published
merida1macOS 12.7.1 Monterey / x86_64  OK    OK    OK    OK  UNNEEDED, same version is already published
kjohnson1macOS 13.6.1 Ventura / arm64see weekly results here
Package 30/455HostnameOS / ArchINSTALLBUILDCHECKBUILD BIN
arrayQualityMetrics 3.58.0  (landing page)
Mike Smith
git_last_commit: bfaad3b
git_last_commit_date: 2023-10-24 09:38:50 -0400
nebbiolo2Linux (Ubuntu 22.04.3 LTS) / x86_64  OK    OK    OK  UNNEEDED, same version is already published
palomino4Windows Server 2022 Datacenter / x64  OK    OK    OK    OK  UNNEEDED, same version is already published
merida1macOS 12.7.1 Monterey / x86_64  OK    OK    OK    OK  UNNEEDED, same version is already published
kjohnson1macOS 13.6.1 Ventura / arm64see weekly results here
Package 31/455HostnameOS / ArchINSTALLBUILDCHECKBUILD BIN
attract 1.54.0  (landing page)
Samuel Zimmerman
git_last_commit: 602c7c7
git_last_commit_date: 2023-10-24 09:44:13 -0400
nebbiolo2Linux (Ubuntu 22.04.3 LTS) / x86_64  OK    OK    OK  UNNEEDED, same version is already published
palomino4Windows Server 2022 Datacenter / x64  OK    OK    OK    OK  UNNEEDED, same version is already published
merida1macOS 12.7.1 Monterey / x86_64  OK    OK    OK    OK  UNNEEDED, same version is already published
kjohnson1macOS 13.6.1 Ventura / arm64see weekly results here
Package 32/455HostnameOS / ArchINSTALLBUILDCHECKBUILD BIN
BAGS 2.42.0  (landing page)
Alejandro Quiroz-Zarate
git_last_commit: 9342525
git_last_commit_date: 2023-10-24 09:49:13 -0400
nebbiolo2Linux (Ubuntu 22.04.3 LTS) / x86_64  OK    OK    OK  UNNEEDED, same version is already published
palomino4Windows Server 2022 Datacenter / x64  OK    OK    OK    OK  UNNEEDED, same version is already published
merida1macOS 12.7.1 Monterey / x86_64  OK    OK    OK    OK  UNNEEDED, same version is already published
kjohnson1macOS 13.6.1 Ventura / arm64see weekly results here
Package 33/455HostnameOS / ArchINSTALLBUILDCHECKBUILD BIN
ballgown 2.34.0  (landing page)
Jack Fu
git_last_commit: a7bfd55
git_last_commit_date: 2023-10-24 10:00:15 -0400
nebbiolo2Linux (Ubuntu 22.04.3 LTS) / x86_64  OK    OK    OK  UNNEEDED, same version is already published
palomino4Windows Server 2022 Datacenter / x64  OK    OK    OK    OK  UNNEEDED, same version is already published
merida1macOS 12.7.1 Monterey / x86_64  OK    OK    OK    OK  UNNEEDED, same version is already published
kjohnson1macOS 13.6.1 Ventura / arm64see weekly results here
Package 34/455HostnameOS / ArchINSTALLBUILDCHECKBUILD BIN
bandle 1.6.0  (landing page)
Oliver M. Crook
git_last_commit: 94e6ac6
git_last_commit_date: 2023-10-24 11:41:12 -0400
nebbiolo2Linux (Ubuntu 22.04.3 LTS) / x86_64  OK    OK    OK  UNNEEDED, same version is already published
palomino4Windows Server 2022 Datacenter / x64  OK    OK    OK    OK  UNNEEDED, same version is already published
merida1macOS 12.7.1 Monterey / x86_64  OK    OK    WARNINGS    OK  UNNEEDED, same version is already published
kjohnson1macOS 13.6.1 Ventura / arm64see weekly results here
Package 35/455HostnameOS / ArchINSTALLBUILDCHECKBUILD BIN
BASiCS 2.14.0  (landing page)
Catalina Vallejos
git_last_commit: 7b60c29
git_last_commit_date: 2024-03-11 13:42:52 -0400
nebbiolo2Linux (Ubuntu 22.04.3 LTS) / x86_64  OK    OK    TIMEOUT  
palomino4Windows Server 2022 Datacenter / x64  OK    OK    OK    OK  UNNEEDED, same version is already published
merida1macOS 12.7.1 Monterey / x86_64  OK    OK    OK    OK  UNNEEDED, same version is already published
kjohnson1macOS 13.6.1 Ventura / arm64see weekly results here
Package 36/455HostnameOS / ArchINSTALLBUILDCHECKBUILD BIN
BayesKnockdown 1.28.0  (landing page)
William Chad Young
git_last_commit: d7fa80d
git_last_commit_date: 2023-10-24 10:51:56 -0400
nebbiolo2Linux (Ubuntu 22.04.3 LTS) / x86_64  OK    OK    OK  UNNEEDED, same version is already published
palomino4Windows Server 2022 Datacenter / x64  OK    OK    OK    OK  UNNEEDED, same version is already published
merida1macOS 12.7.1 Monterey / x86_64  OK    OK    OK    OK  UNNEEDED, same version is already published
kjohnson1macOS 13.6.1 Ventura / arm64see weekly results here
Package 37/455HostnameOS / ArchINSTALLBUILDCHECKBUILD BIN
beadarray 2.52.0  (landing page)
Mark Dunning
git_last_commit: 3a4da33
git_last_commit_date: 2023-10-24 09:36:14 -0400
nebbiolo2Linux (Ubuntu 22.04.3 LTS) / x86_64  OK    OK    OK  UNNEEDED, same version is already published
palomino4Windows Server 2022 Datacenter / x64  OK    OK    OK    OK  UNNEEDED, same version is already published
merida1macOS 12.7.1 Monterey / x86_64  OK    OK    OK    OK  UNNEEDED, same version is already published
kjohnson1macOS 13.6.1 Ventura / arm64see weekly results here
Package 38/455HostnameOS / ArchINSTALLBUILDCHECKBUILD BIN
beadarraySNP 1.68.0  (landing page)
Jan Oosting
git_last_commit: 569504f
git_last_commit_date: 2023-10-24 09:37:17 -0400
nebbiolo2Linux (Ubuntu 22.04.3 LTS) / x86_64  OK    OK    OK  UNNEEDED, same version is already published
palomino4Windows Server 2022 Datacenter / x64  OK    OK    OK    OK  UNNEEDED, same version is already published
merida1macOS 12.7.1 Monterey / x86_64  OK    OK    OK    OK  UNNEEDED, same version is already published
kjohnson1macOS 13.6.1 Ventura / arm64see weekly results here
Package 39/455HostnameOS / ArchINSTALLBUILDCHECKBUILD BIN
BgeeDB 2.28.0  (landing page)
Julien Wollbrett , Julien Roux , Andrea Komljenovic , Frederic Bastian
git_last_commit: d331dd7
git_last_commit_date: 2023-10-24 10:49:39 -0400
nebbiolo2Linux (Ubuntu 22.04.3 LTS) / x86_64  OK    OK    TIMEOUT  
palomino4Windows Server 2022 Datacenter / x64  OK    OK    OK    OK  UNNEEDED, same version is already published
merida1macOS 12.7.1 Monterey / x86_64  OK    ERROR  skippedskipped
kjohnson1macOS 13.6.1 Ventura / arm64see weekly results here
Package 40/455HostnameOS / ArchINSTALLBUILDCHECKBUILD BIN
bgx 1.68.3  (landing page)
Ernest Turro
git_last_commit: a3843a5
git_last_commit_date: 2024-02-09 13:54:22 -0400
nebbiolo2Linux (Ubuntu 22.04.3 LTS) / x86_64  OK    OK    OK  UNNEEDED, same version is already published
palomino4Windows Server 2022 Datacenter / x64  OK    OK    OK    OK  UNNEEDED, same version is already published
merida1macOS 12.7.1 Monterey / x86_64  OK    OK    WARNINGS    OK  UNNEEDED, same version is already published
kjohnson1macOS 13.6.1 Ventura / arm64see weekly results here
Package 41/455HostnameOS / ArchINSTALLBUILDCHECKBUILD BIN
BicARE 1.60.0  (landing page)
Pierre Gestraud
git_last_commit: be7cb92
git_last_commit_date: 2023-10-24 09:41:02 -0400
nebbiolo2Linux (Ubuntu 22.04.3 LTS) / x86_64  OK    OK    OK  UNNEEDED, same version is already published
palomino4Windows Server 2022 Datacenter / x64  OK    OK    OK    OK  UNNEEDED, same version is already published
merida1macOS 12.7.1 Monterey / x86_64  OK    OK    OK    OK  UNNEEDED, same version is already published
kjohnson1macOS 13.6.1 Ventura / arm64see weekly results here
Package 42/455HostnameOS / ArchINSTALLBUILDCHECKBUILD BIN
bigmelon 1.28.0  (landing page)
Leonard C. Schalkwyk
git_last_commit: 80fe6d4
git_last_commit_date: 2023-10-24 10:52:46 -0400
nebbiolo2Linux (Ubuntu 22.04.3 LTS) / x86_64  OK    OK    WARNINGS  UNNEEDED, same version is already published
palomino4Windows Server 2022 Datacenter / x64  OK    OK    WARNINGS    OK  UNNEEDED, same version is already published
merida1macOS 12.7.1 Monterey / x86_64  OK    OK    WARNINGS    OK  UNNEEDED, same version is already published
kjohnson1macOS 13.6.1 Ventura / arm64see weekly results here
Package 43/455HostnameOS / ArchINSTALLBUILDCHECKBUILD BIN
biobroom 1.34.0  (landing page)
John D. Storey and Andrew J. Bass
git_last_commit: cd67b42
git_last_commit_date: 2023-10-24 10:46:07 -0400
nebbiolo2Linux (Ubuntu 22.04.3 LTS) / x86_64  OK    OK    WARNINGS  UNNEEDED, same version is already published
palomino4Windows Server 2022 Datacenter / x64  OK    OK    WARNINGS    OK  UNNEEDED, same version is already published
merida1macOS 12.7.1 Monterey / x86_64  OK    OK    WARNINGS    OK  UNNEEDED, same version is already published
kjohnson1macOS 13.6.1 Ventura / arm64see weekly results here
Package 44/455HostnameOS / ArchINSTALLBUILDCHECKBUILD BIN
bioCancer 1.30.8  (landing page)
Karim Mezhoud
git_last_commit: 94d43a0
git_last_commit_date: 2024-02-14 15:48:31 -0400
nebbiolo2Linux (Ubuntu 22.04.3 LTS) / x86_64  OK    OK    OK  UNNEEDED, same version is already published
palomino4Windows Server 2022 Datacenter / x64  OK    OK    OK    OK  UNNEEDED, same version is already published
merida1macOS 12.7.1 Monterey / x86_64  OK    OK    OK    OK  UNNEEDED, same version is already published
kjohnson1macOS 13.6.1 Ventura / arm64see weekly results here
Package 45/455HostnameOS / ArchINSTALLBUILDCHECKBUILD BIN
biocViews 1.70.0  (landing page)
Bioconductor Package Maintainer
git_last_commit: 9435aa4
git_last_commit_date: 2023-10-24 09:35:37 -0400
nebbiolo2Linux (Ubuntu 22.04.3 LTS) / x86_64  OK    OK    OK  UNNEEDED, same version is already published
palomino4Windows Server 2022 Datacenter / x64  OK    OK    OK    OK  UNNEEDED, same version is already published
merida1macOS 12.7.1 Monterey / x86_64  OK    OK    OK    OK  UNNEEDED, same version is already published
kjohnson1macOS 13.6.1 Ventura / arm64see weekly results here
Package 46/455HostnameOS / ArchINSTALLBUILDCHECKBUILD BIN
bioDist 1.74.0  (landing page)
Bioconductor Package Maintainer
git_last_commit: 89a00b0
git_last_commit_date: 2023-10-24 09:34:28 -0400
nebbiolo2Linux (Ubuntu 22.04.3 LTS) / x86_64  OK    OK    OK  UNNEEDED, same version is already published
palomino4Windows Server 2022 Datacenter / x64  OK    OK    OK    OK  UNNEEDED, same version is already published
merida1macOS 12.7.1 Monterey / x86_64  OK    OK    OK    OK  UNNEEDED, same version is already published
kjohnson1macOS 13.6.1 Ventura / arm64see weekly results here
Package 47/455HostnameOS / ArchINSTALLBUILDCHECKBUILD BIN
BioMVCClass 1.70.0  (landing page)
Elizabeth Whalen
git_last_commit: a96216b
git_last_commit_date: 2023-10-24 09:37:11 -0400
nebbiolo2Linux (Ubuntu 22.04.3 LTS) / x86_64  OK    OK    OK  UNNEEDED, same version is already published
palomino4Windows Server 2022 Datacenter / x64  OK    OK    OK    OK  UNNEEDED, same version is already published
merida1macOS 12.7.1 Monterey / x86_64  OK    OK    OK    OK  UNNEEDED, same version is already published
kjohnson1macOS 13.6.1 Ventura / arm64see weekly results here
Package 48/455HostnameOS / ArchINSTALLBUILDCHECKBUILD BIN
BioNet 1.62.0  (landing page)
Marcus Dittrich
git_last_commit: 760e83d
git_last_commit_date: 2023-10-24 09:44:29 -0400
nebbiolo2Linux (Ubuntu 22.04.3 LTS) / x86_64  OK    OK    OK  UNNEEDED, same version is already published
palomino4Windows Server 2022 Datacenter / x64  OK    OK    OK    OK  UNNEEDED, same version is already published
merida1macOS 12.7.1 Monterey / x86_64  OK    OK    OK    OK  UNNEEDED, same version is already published
kjohnson1macOS 13.6.1 Ventura / arm64see weekly results here
Package 49/455HostnameOS / ArchINSTALLBUILDCHECKBUILD BIN
BioQC 1.30.0  (landing page)
Jitao David Zhang
git_last_commit: e232c77
git_last_commit_date: 2023-10-24 10:46:32 -0400
nebbiolo2Linux (Ubuntu 22.04.3 LTS) / x86_64  OK    OK    OK  UNNEEDED, same version is already published
palomino4Windows Server 2022 Datacenter / x64  OK    OK    OK    OK  UNNEEDED, same version is already published
merida1macOS 12.7.1 Monterey / x86_64  OK    OK    OK    OK  UNNEEDED, same version is already published
kjohnson1macOS 13.6.1 Ventura / arm64see weekly results here
Package 50/455HostnameOS / ArchINSTALLBUILDCHECKBUILD BIN
biosigner 1.30.0  (landing page)
Etienne A. Thevenot
git_last_commit: 8e7b0e2
git_last_commit_date: 2023-10-24 10:48:11 -0400
nebbiolo2Linux (Ubuntu 22.04.3 LTS) / x86_64  OK    OK    OK  UNNEEDED, same version is already published
palomino4Windows Server 2022 Datacenter / x64  OK    OK    OK    OK  UNNEEDED, same version is already published
merida1macOS 12.7.1 Monterey / x86_64  OK    OK    OK    OK  UNNEEDED, same version is already published
kjohnson1macOS 13.6.1 Ventura / arm64see weekly results here
Package 51/455HostnameOS / ArchINSTALLBUILDCHECKBUILD BIN
biscuiteer 1.16.0  (landing page)
Jacob Morrison
git_last_commit: ebfa0bf
git_last_commit_date: 2023-10-24 11:17:31 -0400
nebbiolo2Linux (Ubuntu 22.04.3 LTS) / x86_64  OK    OK    WARNINGS  UNNEEDED, same version is already published
palomino4Windows Server 2022 Datacenter / x64  OK    OK    WARNINGS    OK  UNNEEDED, same version is already published
merida1macOS 12.7.1 Monterey / x86_64  OK    OK    WARNINGS    OK  UNNEEDED, same version is already published
kjohnson1macOS 13.6.1 Ventura / arm64see weekly results here
Package 52/455HostnameOS / ArchINSTALLBUILDCHECKBUILD BIN
BiSeq 1.42.0  (landing page)
Katja Hebestreit
git_last_commit: 7dce55a
git_last_commit_date: 2023-10-24 09:53:54 -0400
nebbiolo2Linux (Ubuntu 22.04.3 LTS) / x86_64  OK    OK    OK  UNNEEDED, same version is already published
palomino4Windows Server 2022 Datacenter / x64  OK    OK    OK    OK  UNNEEDED, same version is already published
merida1macOS 12.7.1 Monterey / x86_64  OK    OK    OK    OK  UNNEEDED, same version is already published
kjohnson1macOS 13.6.1 Ventura / arm64see weekly results here
Package 53/455HostnameOS / ArchINSTALLBUILDCHECKBUILD BIN
blima 1.36.0  (landing page)
Vojtěch Kulvait
git_last_commit: 21da661
git_last_commit_date: 2023-10-24 09:59:06 -0400
nebbiolo2Linux (Ubuntu 22.04.3 LTS) / x86_64  OK    OK    WARNINGS  UNNEEDED, same version is already published
palomino4Windows Server 2022 Datacenter / x64  OK    OK    WARNINGS    OK  UNNEEDED, same version is already published
merida1macOS 12.7.1 Monterey / x86_64  OK    OK    WARNINGS    OK  UNNEEDED, same version is already published
kjohnson1macOS 13.6.1 Ventura / arm64see weekly results here
Package 54/455HostnameOS / ArchINSTALLBUILDCHECKBUILD BIN
BLMA 1.26.0  (landing page)
Hung Nguyen
git_last_commit: c63d0ef
git_last_commit_date: 2023-10-24 10:57:02 -0400
nebbiolo2Linux (Ubuntu 22.04.3 LTS) / x86_64  OK    OK    OK  UNNEEDED, same version is already published
palomino4Windows Server 2022 Datacenter / x64  OK    OK    OK    OK  UNNEEDED, same version is already published
merida1macOS 12.7.1 Monterey / x86_64  OK    OK    OK    OK  UNNEEDED, same version is already published
kjohnson1macOS 13.6.1 Ventura / arm64see weekly results here
Package 55/455HostnameOS / ArchINSTALLBUILDCHECKBUILD BIN
bnem 1.10.0  (landing page)
Martin Pirkl
git_last_commit: ba0965c
git_last_commit_date: 2023-10-24 11:28:26 -0400
nebbiolo2Linux (Ubuntu 22.04.3 LTS) / x86_64  OK    OK    OK  UNNEEDED, same version is already published
palomino4Windows Server 2022 Datacenter / x64  OK    OK    OK    OK  UNNEEDED, same version is already published
merida1macOS 12.7.1 Monterey / x86_64  OK    OK    OK    OK  UNNEEDED, same version is already published
kjohnson1macOS 13.6.1 Ventura / arm64see weekly results here
Package 56/455HostnameOS / ArchINSTALLBUILDCHECKBUILD BIN
borealis 1.6.0  (landing page)
Garrett Jenkinson
git_last_commit: 701604e
git_last_commit_date: 2023-10-24 11:41:29 -0400
nebbiolo2Linux (Ubuntu 22.04.3 LTS) / x86_64  OK    OK    OK  UNNEEDED, same version is already published
palomino4Windows Server 2022 Datacenter / x64  OK    OK    OK    OK  UNNEEDED, same version is already published
merida1macOS 12.7.1 Monterey / x86_64  OK    OK    OK    OK  UNNEEDED, same version is already published
kjohnson1macOS 13.6.1 Ventura / arm64see weekly results here
Package 57/455HostnameOS / ArchINSTALLBUILDCHECKBUILD BIN
BSgenomeForge 1.2.3  (landing page)
Hervé Pagès
git_last_commit: f3664ad
git_last_commit_date: 2024-03-25 13:24:00 -0400
nebbiolo2Linux (Ubuntu 22.04.3 LTS) / x86_64  OK    OK    OK  UNNEEDED, same version is already published
palomino4Windows Server 2022 Datacenter / x64  OK    OK    ERROR    OK  
merida1macOS 12.7.1 Monterey / x86_64  OK    OK    OK    OK  UNNEEDED, same version is already published
kjohnson1macOS 13.6.1 Ventura / arm64see weekly results here
Package 58/455HostnameOS / ArchINSTALLBUILDCHECKBUILD BIN
bsseq 1.38.0  (landing page)
Kasper Daniel Hansen
git_last_commit: 392e22c
git_last_commit_date: 2023-10-24 09:50:39 -0400
nebbiolo2Linux (Ubuntu 22.04.3 LTS) / x86_64  OK    OK    OK  UNNEEDED, same version is already published
palomino4Windows Server 2022 Datacenter / x64  OK    OK    OK    OK  UNNEEDED, same version is already published
merida1macOS 12.7.1 Monterey / x86_64  OK    OK    OK    OK  UNNEEDED, same version is already published
kjohnson1macOS 13.6.1 Ventura / arm64see weekly results here
Package 59/455HostnameOS / ArchINSTALLBUILDCHECKBUILD BIN
BubbleTree 2.32.0  (landing page)
Todd Creasy , Wei Zhu
git_last_commit: eea5b5e
git_last_commit_date: 2023-10-24 10:41:33 -0400
nebbiolo2Linux (Ubuntu 22.04.3 LTS) / x86_64  OK    OK    OK  UNNEEDED, same version is already published
palomino4Windows Server 2022 Datacenter / x64  OK    OK    OK    OK  UNNEEDED, same version is already published
merida1macOS 12.7.1 Monterey / x86_64  OK    OK    OK    OK  UNNEEDED, same version is already published
kjohnson1macOS 13.6.1 Ventura / arm64see weekly results here
Package 60/455HostnameOS / ArchINSTALLBUILDCHECKBUILD BIN
CAFE 1.38.0  (landing page)
Sander Bollen
git_last_commit: ecba1e7
git_last_commit_date: 2023-10-24 09:57:47 -0400
nebbiolo2Linux (Ubuntu 22.04.3 LTS) / x86_64  OK    OK    WARNINGS  UNNEEDED, same version is already published
palomino4Windows Server 2022 Datacenter / x64  OK    OK    WARNINGS    OK  UNNEEDED, same version is already published
merida1macOS 12.7.1 Monterey / x86_64  OK    OK    WARNINGS    OK  UNNEEDED, same version is already published
kjohnson1macOS 13.6.1 Ventura / arm64see weekly results here
Package 61/455HostnameOS / ArchINSTALLBUILDCHECKBUILD BIN
CAMERA 1.58.0  (landing page)
Steffen Neumann
git_last_commit: 7d1d7f9
git_last_commit_date: 2023-10-24 09:41:31 -0400
nebbiolo2Linux (Ubuntu 22.04.3 LTS) / x86_64  OK    OK    OK  UNNEEDED, same version is already published
palomino4Windows Server 2022 Datacenter / x64  OK    OK    OK    OK  UNNEEDED, same version is already published
merida1macOS 12.7.1 Monterey / x86_64  OK    OK    OK    OK  UNNEEDED, same version is already published
kjohnson1macOS 13.6.1 Ventura / arm64see weekly results here
Package 62/455HostnameOS / ArchINSTALLBUILDCHECKBUILD BIN
canceR 1.36.7  (landing page)
Karim Mezhoud
git_last_commit: 2765f7f
git_last_commit_date: 2024-03-01 11:30:10 -0400
nebbiolo2Linux (Ubuntu 22.04.3 LTS) / x86_64  OK    OK    WARNINGS  UNNEEDED, same version is already published
palomino4Windows Server 2022 Datacenter / x64  OK    OK    WARNINGS    OK  UNNEEDED, same version is already published
merida1macOS 12.7.1 Monterey / x86_64  OK    OK    WARNINGS    OK  UNNEEDED, same version is already published
kjohnson1macOS 13.6.1 Ventura / arm64see weekly results here
Package 63/455HostnameOS / ArchINSTALLBUILDCHECKBUILD BIN
cancerclass 1.46.0  (landing page)
Daniel Kosztyla
git_last_commit: 5c43b30
git_last_commit_date: 2023-10-24 09:50:10 -0400
nebbiolo2Linux (Ubuntu 22.04.3 LTS) / x86_64  OK    OK    OK  UNNEEDED, same version is already published
palomino4Windows Server 2022 Datacenter / x64  OK    OK    OK    OK  UNNEEDED, same version is already published
merida1macOS 12.7.1 Monterey / x86_64  OK    OK    WARNINGS    OK  UNNEEDED, same version is already published
kjohnson1macOS 13.6.1 Ventura / arm64see weekly results here
Package 64/455HostnameOS / ArchINSTALLBUILDCHECKBUILD BIN
Cardinal 3.4.3  (landing page)
Kylie A. Bemis
git_last_commit: eacb164
git_last_commit_date: 2023-11-22 14:25:11 -0400
nebbiolo2Linux (Ubuntu 22.04.3 LTS) / x86_64  OK    OK    OK  UNNEEDED, same version is already published
palomino4Windows Server 2022 Datacenter / x64  OK    OK    OK    OK  UNNEEDED, same version is already published
merida1macOS 12.7.1 Monterey / x86_64  OK    OK    OK    OK  UNNEEDED, same version is already published
kjohnson1macOS 13.6.1 Ventura / arm64see weekly results here
Package 65/455HostnameOS / ArchINSTALLBUILDCHECKBUILD BIN
casper 2.36.0  (landing page)
David Rossell
git_last_commit: 10bb585
git_last_commit_date: 2023-10-24 09:52:32 -0400
nebbiolo2Linux (Ubuntu 22.04.3 LTS) / x86_64  OK    OK    OK  UNNEEDED, same version is already published
palomino4Windows Server 2022 Datacenter / x64  OK    OK    WARNINGS    OK  UNNEEDED, same version is already published
merida1macOS 12.7.1 Monterey / x86_64  OK    ERROR  skippedskipped
kjohnson1macOS 13.6.1 Ventura / arm64see weekly results here
Package 66/455HostnameOS / ArchINSTALLBUILDCHECKBUILD BIN
Category 2.68.0  (landing page)
Bioconductor Package Maintainer
git_last_commit: 17a23f8
git_last_commit_date: 2023-10-24 09:35:14 -0400
nebbiolo2Linux (Ubuntu 22.04.3 LTS) / x86_64  OK    OK    OK  UNNEEDED, same version is already published
palomino4Windows Server 2022 Datacenter / x64  OK    OK    OK    OK  UNNEEDED, same version is already published
merida1macOS 12.7.1 Monterey / x86_64  OK    OK    OK    OK  UNNEEDED, same version is already published
kjohnson1macOS 13.6.1 Ventura / arm64see weekly results here
Package 67/455HostnameOS / ArchINSTALLBUILDCHECKBUILD BIN
categoryCompare 1.46.0  (landing page)
Robert M. Flight
git_last_commit: 8d64d13
git_last_commit_date: 2023-10-24 09:50:05 -0400
nebbiolo2Linux (Ubuntu 22.04.3 LTS) / x86_64  OK    OK    OK  UNNEEDED, same version is already published
palomino4Windows Server 2022 Datacenter / x64  OK    OK    OK    OK  UNNEEDED, same version is already published
merida1macOS 12.7.1 Monterey / x86_64  OK    OK    OK    OK  UNNEEDED, same version is already published
kjohnson1macOS 13.6.1 Ventura / arm64see weekly results here
Package 68/455HostnameOS / ArchINSTALLBUILDCHECKBUILD BIN
CCPROMISE 1.28.0  (landing page)
Xueyuan Cao
git_last_commit: deb4e6e
git_last_commit_date: 2023-10-24 10:54:01 -0400
nebbiolo2Linux (Ubuntu 22.04.3 LTS) / x86_64  OK    OK    WARNINGS  UNNEEDED, same version is already published
palomino4Windows Server 2022 Datacenter / x64  OK    OK    WARNINGS    OK  UNNEEDED, same version is already published
merida1macOS 12.7.1 Monterey / x86_64  OK    OK    WARNINGS    OK  UNNEEDED, same version is already published
kjohnson1macOS 13.6.1 Ventura / arm64see weekly results here
Package 69/455HostnameOS / ArchINSTALLBUILDCHECKBUILD BIN
cellHTS2 2.66.0  (landing page)
Joseph Barry
git_last_commit: 3fe8e7d
git_last_commit_date: 2023-10-24 09:38:36 -0400
nebbiolo2Linux (Ubuntu 22.04.3 LTS) / x86_64  OK    OK    WARNINGS  UNNEEDED, same version is already published
palomino4Windows Server 2022 Datacenter / x64  OK    OK    OK    OK  UNNEEDED, same version is already published
merida1macOS 12.7.1 Monterey / x86_64  OK    OK    OK    OK  UNNEEDED, same version is already published
kjohnson1macOS 13.6.1 Ventura / arm64see weekly results here
Package 70/455HostnameOS / ArchINSTALLBUILDCHECKBUILD BIN
CellScore 1.22.0  (landing page)
Nancy Mah
git_last_commit: 4188452
git_last_commit_date: 2023-10-24 11:02:53 -0400
nebbiolo2Linux (Ubuntu 22.04.3 LTS) / x86_64  OK    OK    OK  UNNEEDED, same version is already published
palomino4Windows Server 2022 Datacenter / x64  OK    OK    OK    OK  UNNEEDED, same version is already published
merida1macOS 12.7.1 Monterey / x86_64  OK    OK    OK    OK  UNNEEDED, same version is already published
kjohnson1macOS 13.6.1 Ventura / arm64see weekly results here
Package 71/455HostnameOS / ArchINSTALLBUILDCHECKBUILD BIN
CellTrails 1.20.0  (landing page)
Daniel Ellwanger
git_last_commit: 3e1f87c
git_last_commit_date: 2023-10-24 11:06:14 -0400
nebbiolo2Linux (Ubuntu 22.04.3 LTS) / x86_64  OK    OK    OK  UNNEEDED, same version is already published
palomino4Windows Server 2022 Datacenter / x64  OK    OK    OK    OK  UNNEEDED, same version is already published
merida1macOS 12.7.1 Monterey / x86_64  OK    OK    OK    OK  UNNEEDED, same version is already published
kjohnson1macOS 13.6.1 Ventura / arm64see weekly results here
Package 72/455HostnameOS / ArchINSTALLBUILDCHECKBUILD BIN
cfdnakit 1.0.0  (landing page)
Pitithat Puranachot
git_last_commit: 68ca26c
git_last_commit_date: 2023-10-24 11:49:49 -0400
nebbiolo2Linux (Ubuntu 22.04.3 LTS) / x86_64  OK    OK    OK  UNNEEDED, same version is already published
palomino4Windows Server 2022 Datacenter / x64  OK    OK    OK    OK  UNNEEDED, same version is already published
merida1macOS 12.7.1 Monterey / x86_64  OK    OK    OK    OK  UNNEEDED, same version is already published
kjohnson1macOS 13.6.1 Ventura / arm64see weekly results here
Package 73/455HostnameOS / ArchINSTALLBUILDCHECKBUILD BIN
CGHbase 1.62.0  (landing page)
Mark van de Wiel
git_last_commit: 5363887
git_last_commit_date: 2023-10-24 09:39:54 -0400
nebbiolo2Linux (Ubuntu 22.04.3 LTS) / x86_64  OK    OK    OK  UNNEEDED, same version is already published
palomino4Windows Server 2022 Datacenter / x64  OK    OK    OK    OK  UNNEEDED, same version is already published
merida1macOS 12.7.1 Monterey / x86_64  OK    OK    OK    OK  UNNEEDED, same version is already published
kjohnson1macOS 13.6.1 Ventura / arm64see weekly results here
Package 74/455HostnameOS / ArchINSTALLBUILDCHECKBUILD BIN
CGHcall 2.64.0  (landing page)
Mark van de Wiel
git_last_commit: b735fbd
git_last_commit_date: 2023-10-24 09:38:53 -0400
nebbiolo2Linux (Ubuntu 22.04.3 LTS) / x86_64  OK    OK    WARNINGS  UNNEEDED, same version is already published
palomino4Windows Server 2022 Datacenter / x64  OK    OK    WARNINGS    OK  UNNEEDED, same version is already published
merida1macOS 12.7.1 Monterey / x86_64  OK    OK    WARNINGS    OK  UNNEEDED, same version is already published
kjohnson1macOS 13.6.1 Ventura / arm64see weekly results here
Package 75/455HostnameOS / ArchINSTALLBUILDCHECKBUILD BIN
CGHnormaliter 1.56.0  (landing page)
Bart P.P. van Houte
git_last_commit: 6764dff
git_last_commit_date: 2023-10-24 09:42:41 -0400
nebbiolo2Linux (Ubuntu 22.04.3 LTS) / x86_64  OK    OK    OK  UNNEEDED, same version is already published
palomino4Windows Server 2022 Datacenter / x64  OK    OK    OK    OK  UNNEEDED, same version is already published
merida1macOS 12.7.1 Monterey / x86_64  OK    OK    OK    OK  UNNEEDED, same version is already published
kjohnson1macOS 13.6.1 Ventura / arm64see weekly results here
Package 76/455HostnameOS / ArchINSTALLBUILDCHECKBUILD BIN
CGHregions 1.60.0  (landing page)
Sjoerd Vosse
git_last_commit: bab0f30
git_last_commit_date: 2023-10-24 09:39:57 -0400
nebbiolo2Linux (Ubuntu 22.04.3 LTS) / x86_64  OK    OK    OK  UNNEEDED, same version is already published
palomino4Windows Server 2022 Datacenter / x64  OK    OK    OK    OK  UNNEEDED, same version is already published
merida1macOS 12.7.1 Monterey / x86_64  OK    OK    OK    OK  UNNEEDED, same version is already published
kjohnson1macOS 13.6.1 Ventura / arm64see weekly results here
Package 77/455HostnameOS / ArchINSTALLBUILDCHECKBUILD BIN
ChIPQC 1.38.0  (landing page)
Tom Carroll , Rory Stark
git_last_commit: 850e458
git_last_commit_date: 2023-10-24 09:58:19 -0400
nebbiolo2Linux (Ubuntu 22.04.3 LTS) / x86_64  OK    OK    WARNINGS  UNNEEDED, same version is already published
palomino4Windows Server 2022 Datacenter / x64  OK    OK    WARNINGS    OK  UNNEEDED, same version is already published
merida1macOS 12.7.1 Monterey / x86_64  OK    OK    WARNINGS    OK  UNNEEDED, same version is already published
kjohnson1macOS 13.6.1 Ventura / arm64see weekly results here
Package 78/455HostnameOS / ArchINSTALLBUILDCHECKBUILD BIN
ChIPXpress 1.46.0  (landing page)
George Wu
git_last_commit: c6e8f13
git_last_commit_date: 2023-10-24 09:50:52 -0400
nebbiolo2Linux (Ubuntu 22.04.3 LTS) / x86_64  OK    OK    OK  UNNEEDED, same version is already published
palomino4Windows Server 2022 Datacenter / x64... NOT SUPPORTED ...
merida1macOS 12.7.1 Monterey / x86_64  OK    OK    OK    OK  UNNEEDED, same version is already published
kjohnson1macOS 13.6.1 Ventura / arm64see weekly results here
Package 79/455HostnameOS / ArchINSTALLBUILDCHECKBUILD BIN
ChromHeatMap 1.56.0  (landing page)
Tim F. Rayner
git_last_commit: 453e688
git_last_commit_date: 2023-10-24 09:42:48 -0400
nebbiolo2Linux (Ubuntu 22.04.3 LTS) / x86_64  OK    OK    OK  UNNEEDED, same version is already published
palomino4Windows Server 2022 Datacenter / x64  OK    OK    OK    OK  UNNEEDED, same version is already published
merida1macOS 12.7.1 Monterey / x86_64  OK    OK    OK    OK  UNNEEDED, same version is already published
kjohnson1macOS 13.6.1 Ventura / arm64see weekly results here
Package 80/455HostnameOS / ArchINSTALLBUILDCHECKBUILD BIN
cicero 1.20.0  (landing page)
Hannah Pliner
git_last_commit: 5f59985
git_last_commit_date: 2023-10-24 11:08:17 -0400
nebbiolo2Linux (Ubuntu 22.04.3 LTS) / x86_64  ERROR    ERROR  skipped
palomino4Windows Server 2022 Datacenter / x64  ERROR    ERROR  skippedskipped
merida1macOS 12.7.1 Monterey / x86_64  ERROR    ERROR  skippedskipped
kjohnson1macOS 13.6.1 Ventura / arm64see weekly results here
Package 81/455HostnameOS / ArchINSTALLBUILDCHECKBUILD BIN
clippda 1.52.0  (landing page)
Stephen Nyangoma
git_last_commit: 8f0ec8a
git_last_commit_date: 2023-10-24 09:42:30 -0400
nebbiolo2Linux (Ubuntu 22.04.3 LTS) / x86_64  OK    OK    OK  UNNEEDED, same version is already published
palomino4Windows Server 2022 Datacenter / x64  OK    OK    OK    OK  UNNEEDED, same version is already published
merida1macOS 12.7.1 Monterey / x86_64  OK    OK    OK    OK  UNNEEDED, same version is already published
kjohnson1macOS 13.6.1 Ventura / arm64see weekly results here
Package 82/455HostnameOS / ArchINSTALLBUILDCHECKBUILD BIN
clipper 1.42.0  (landing page)
Paolo Martini
git_last_commit: f54f1b2
git_last_commit_date: 2023-10-24 09:52:34 -0400
nebbiolo2Linux (Ubuntu 22.04.3 LTS) / x86_64  OK    OK    OK  UNNEEDED, same version is already published
palomino4Windows Server 2022 Datacenter / x64  OK    OK    OK    OK  UNNEEDED, same version is already published
merida1macOS 12.7.1 Monterey / x86_64  OK    OK    OK    OK  UNNEEDED, same version is already published
kjohnson1macOS 13.6.1 Ventura / arm64see weekly results here
Package 83/455HostnameOS / ArchINSTALLBUILDCHECKBUILD BIN
CluMSID 1.18.0  (landing page)
Tobias Depke
git_last_commit: ce1d21e
git_last_commit_date: 2023-10-24 11:10:10 -0400
nebbiolo2Linux (Ubuntu 22.04.3 LTS) / x86_64  OK    OK    WARNINGS  UNNEEDED, same version is already published
palomino4Windows Server 2022 Datacenter / x64  OK    OK    WARNINGS    OK  UNNEEDED, same version is already published
merida1macOS 12.7.1 Monterey / x86_64  OK    OK    WARNINGS    OK  UNNEEDED, same version is already published
kjohnson1macOS 13.6.1 Ventura / arm64see weekly results here
Package 84/455HostnameOS / ArchINSTALLBUILDCHECKBUILD BIN
clusterStab 1.74.0  (landing page)
James W. MacDonald
git_last_commit: 6bbc33b
git_last_commit_date: 2023-10-24 09:35:23 -0400
nebbiolo2Linux (Ubuntu 22.04.3 LTS) / x86_64  OK    OK    OK  UNNEEDED, same version is already published
palomino4Windows Server 2022 Datacenter / x64  OK    OK    OK    OK  UNNEEDED, same version is already published
merida1macOS 12.7.1 Monterey / x86_64  OK    OK    OK    OK  UNNEEDED, same version is already published
kjohnson1macOS 13.6.1 Ventura / arm64see weekly results here
Package 85/455HostnameOS / ArchINSTALLBUILDCHECKBUILD BIN
CMA 1.60.0  (landing page)
Roman Hornung
git_last_commit: 21f98b0
git_last_commit_date: 2023-10-24 09:40:00 -0400
nebbiolo2Linux (Ubuntu 22.04.3 LTS) / x86_64  OK    OK    OK  UNNEEDED, same version is already published
palomino4Windows Server 2022 Datacenter / x64  OK    OK    OK    OK  UNNEEDED, same version is already published
merida1macOS 12.7.1 Monterey / x86_64  OK    OK    OK    OK  UNNEEDED, same version is already published
kjohnson1macOS 13.6.1 Ventura / arm64see weekly results here
Package 86/455HostnameOS / ArchINSTALLBUILDCHECKBUILD BIN
cn.farms 1.50.0  (landing page)
Andreas Mitterecker
git_last_commit: 98df0d5
git_last_commit_date: 2023-10-24 09:46:12 -0400
nebbiolo2Linux (Ubuntu 22.04.3 LTS) / x86_64  OK    OK    OK  UNNEEDED, same version is already published
palomino4Windows Server 2022 Datacenter / x64  OK    OK    OK    OK  UNNEEDED, same version is already published
merida1macOS 12.7.1 Monterey / x86_64  OK    OK    OK    OK  UNNEEDED, same version is already published
kjohnson1macOS 13.6.1 Ventura / arm64see weekly results here
Package 87/455HostnameOS / ArchINSTALLBUILDCHECKBUILD BIN
cn.mops 1.48.0  (landing page)
Gundula Povysil
git_last_commit: f3cf243
git_last_commit_date: 2023-10-24 09:48:47 -0400
nebbiolo2Linux (Ubuntu 22.04.3 LTS) / x86_64  OK    OK    OK  UNNEEDED, same version is already published
palomino4Windows Server 2022 Datacenter / x64  OK    OK    OK    OK  UNNEEDED, same version is already published
merida1macOS 12.7.1 Monterey / x86_64  OK    OK    OK    OK  UNNEEDED, same version is already published
kjohnson1macOS 13.6.1 Ventura / arm64see weekly results here
Package 88/455HostnameOS / ArchINSTALLBUILDCHECKBUILD BIN
COCOA 2.16.0  (landing page)
John Lawson
git_last_commit: d18f2bc
git_last_commit_date: 2023-10-24 11:09:00 -0400
nebbiolo2Linux (Ubuntu 22.04.3 LTS) / x86_64  OK    OK    OK  UNNEEDED, same version is already published
palomino4Windows Server 2022 Datacenter / x64  OK    OK    OK    OK  UNNEEDED, same version is already published
merida1macOS 12.7.1 Monterey / x86_64  OK    OK    OK    OK  UNNEEDED, same version is already published
kjohnson1macOS 13.6.1 Ventura / arm64see weekly results here
Package 89/455HostnameOS / ArchINSTALLBUILDCHECKBUILD BIN
codelink 1.70.0  (landing page)
Diego Diez
git_last_commit: 2bef0c7
git_last_commit_date: 2023-10-24 09:36:06 -0400
nebbiolo2Linux (Ubuntu 22.04.3 LTS) / x86_64  OK    OK    OK  UNNEEDED, same version is already published
palomino4Windows Server 2022 Datacenter / x64  OK    OK    OK    OK  UNNEEDED, same version is already published
merida1macOS 12.7.1 Monterey / x86_64  OK    OK    OK    OK  UNNEEDED, same version is already published
kjohnson1macOS 13.6.1 Ventura / arm64see weekly results here
Package 90/455HostnameOS / ArchINSTALLBUILDCHECKBUILD BIN
cogena 1.36.0  (landing page)
Zhilong Jia
git_last_commit: 6989324
git_last_commit_date: 2023-10-24 10:42:53 -0400
nebbiolo2Linux (Ubuntu 22.04.3 LTS) / x86_64  OK    OK    WARNINGS  UNNEEDED, same version is already published
palomino4Windows Server 2022 Datacenter / x64  OK    OK    WARNINGS    OK  UNNEEDED, same version is already published
merida1macOS 12.7.1 Monterey / x86_64  OK    OK    WARNINGS    OK  UNNEEDED, same version is already published
kjohnson1macOS 13.6.1 Ventura / arm64see weekly results here
Package 91/455HostnameOS / ArchINSTALLBUILDCHECKBUILD BIN
combi 1.14.0  (landing page)
Stijn Hawinkel
git_last_commit: 79a4a97
git_last_commit_date: 2023-10-24 11:20:28 -0400
nebbiolo2Linux (Ubuntu 22.04.3 LTS) / x86_64  OK    OK    OK  UNNEEDED, same version is already published
palomino4Windows Server 2022 Datacenter / x64  OK    OK    OK    OK  UNNEEDED, same version is already published
merida1macOS 12.7.1 Monterey / x86_64  OK    OK    OK    OK  UNNEEDED, same version is already published
kjohnson1macOS 13.6.1 Ventura / arm64see weekly results here
Package 92/455HostnameOS / ArchINSTALLBUILDCHECKBUILD BIN
CompoundDb 1.6.0  (landing page)
Johannes Rainer
git_last_commit: 288e0ba
git_last_commit_date: 2023-10-24 11:39:19 -0400
nebbiolo2Linux (Ubuntu 22.04.3 LTS) / x86_64  OK    OK    OK  UNNEEDED, same version is already published
palomino4Windows Server 2022 Datacenter / x64  OK    OK    OK    OK  UNNEEDED, same version is already published
merida1macOS 12.7.1 Monterey / x86_64  OK    OK    OK    OK  UNNEEDED, same version is already published
kjohnson1macOS 13.6.1 Ventura / arm64see weekly results here
Package 93/455HostnameOS / ArchINSTALLBUILDCHECKBUILD BIN
ConsensusClusterPlus 1.66.0  (landing page)
Matt Wilkerson
git_last_commit: aa15b11
git_last_commit_date: 2023-10-24 09:43:14 -0400
nebbiolo2Linux (Ubuntu 22.04.3 LTS) / x86_64  OK    OK    OK  UNNEEDED, same version is already published
palomino4Windows Server 2022 Datacenter / x64  OK    OK    OK    OK  UNNEEDED, same version is already published
merida1macOS 12.7.1 Monterey / x86_64  OK    OK    OK    OK  UNNEEDED, same version is already published
kjohnson1macOS 13.6.1 Ventura / arm64see weekly results here
Package 94/455HostnameOS / ArchINSTALLBUILDCHECKBUILD BIN
consensusDE 1.20.0  (landing page)
Ashley J. Waardenberg
git_last_commit: 8cccaad
git_last_commit_date: 2023-10-24 11:09:05 -0400
nebbiolo2Linux (Ubuntu 22.04.3 LTS) / x86_64  OK    OK    OK  UNNEEDED, same version is already published
palomino4Windows Server 2022 Datacenter / x64  OK    OK    OK    OK  UNNEEDED, same version is already published
merida1macOS 12.7.1 Monterey / x86_64  OK    OK    OK    OK  UNNEEDED, same version is already published
kjohnson1macOS 13.6.1 Ventura / arm64see weekly results here
Package 95/455HostnameOS / ArchINSTALLBUILDCHECKBUILD BIN
consensusOV 1.24.0  (landing page)
Benjamin Haibe-Kains
git_last_commit: d805368
git_last_commit_date: 2023-10-24 10:58:16 -0400
nebbiolo2Linux (Ubuntu 22.04.3 LTS) / x86_64  OK    OK    OK  UNNEEDED, same version is already published
palomino4Windows Server 2022 Datacenter / x64  OK    OK    OK    OK  UNNEEDED, same version is already published
merida1macOS 12.7.1 Monterey / x86_64  OK    OK    OK    OK  UNNEEDED, same version is already published
kjohnson1macOS 13.6.1 Ventura / arm64see weekly results here
Package 96/455HostnameOS / ArchINSTALLBUILDCHECKBUILD BIN
convert 1.78.0  (landing page)
Yee Hwa (Jean) Yang
git_last_commit: 398d7e4
git_last_commit_date: 2023-10-24 09:33:30 -0400
nebbiolo2Linux (Ubuntu 22.04.3 LTS) / x86_64  OK    OK    OK  UNNEEDED, same version is already published
palomino4Windows Server 2022 Datacenter / x64  OK    OK    OK    OK  UNNEEDED, same version is already published
merida1macOS 12.7.1 Monterey / x86_64  OK    OK    OK    OK  UNNEEDED, same version is already published
kjohnson1macOS 13.6.1 Ventura / arm64see weekly results here
Package 97/455HostnameOS / ArchINSTALLBUILDCHECKBUILD BIN
copa 1.70.0  (landing page)
James W. MacDonald
git_last_commit: 03fcd66
git_last_commit_date: 2023-10-24 09:36:22 -0400
nebbiolo2Linux (Ubuntu 22.04.3 LTS) / x86_64  OK    OK    OK  UNNEEDED, same version is already published
palomino4Windows Server 2022 Datacenter / x64  OK    OK    OK    OK  UNNEEDED, same version is already published
merida1macOS 12.7.1 Monterey / x86_64  OK    OK    OK    OK  UNNEEDED, same version is already published
kjohnson1macOS 13.6.1 Ventura / arm64see weekly results here
Package 98/455HostnameOS / ArchINSTALLBUILDCHECKBUILD BIN
coRdon 1.20.0  (landing page)
Anamaria Elek
git_last_commit: cc84f24
git_last_commit_date: 2023-10-24 11:06:50 -0400
nebbiolo2Linux (Ubuntu 22.04.3 LTS) / x86_64  OK    OK    OK  UNNEEDED, same version is already published
palomino4Windows Server 2022 Datacenter / x64  OK    OK    OK    OK  UNNEEDED, same version is already published
merida1macOS 12.7.1 Monterey / x86_64  OK    OK    OK    OK  UNNEEDED, same version is already published
kjohnson1macOS 13.6.1 Ventura / arm64see weekly results here
Package 99/455HostnameOS / ArchINSTALLBUILDCHECKBUILD BIN
CoreGx 2.6.1  (landing page)
Benjamin Haibe-Kains
git_last_commit: a9b3365
git_last_commit_date: 2024-03-11 16:26:11 -0400
nebbiolo2Linux (Ubuntu 22.04.3 LTS) / x86_64  OK    OK    WARNINGS  UNNEEDED, same version is already published
palomino4Windows Server 2022 Datacenter / x64  OK    OK    WARNINGS    OK  UNNEEDED, same version is already published
merida1macOS 12.7.1 Monterey / x86_64  OK    OK    WARNINGS    OK  UNNEEDED, same version is already published
kjohnson1macOS 13.6.1 Ventura / arm64see weekly results here
Package 100/455HostnameOS / ArchINSTALLBUILDCHECKBUILD BIN
covEB 1.28.0  (landing page)
C. Pacini
git_last_commit: 61481b7
git_last_commit_date: 2023-10-24 10:50:45 -0400
nebbiolo2Linux (Ubuntu 22.04.3 LTS) / x86_64  OK    OK    OK  UNNEEDED, same version is already published
palomino4Windows Server 2022 Datacenter / x64  OK    OK    OK    OK  UNNEEDED, same version is already published
merida1macOS 12.7.1 Monterey / x86_64  OK    OK    OK    OK  UNNEEDED, same version is already published
kjohnson1macOS 13.6.1 Ventura / arm64see weekly results here
Package 101/455HostnameOS / ArchINSTALLBUILDCHECKBUILD BIN
covRNA 1.28.0  (landing page)
Lara Urban
git_last_commit: db3b68e
git_last_commit_date: 2023-10-24 10:50:25 -0400
nebbiolo2Linux (Ubuntu 22.04.3 LTS) / x86_64  OK    OK    OK  UNNEEDED, same version is already published
palomino4Windows Server 2022 Datacenter / x64  OK    OK    OK    OK  UNNEEDED, same version is already published
merida1macOS 12.7.1 Monterey / x86_64  OK    OK    OK    OK  UNNEEDED, same version is already published
kjohnson1macOS 13.6.1 Ventura / arm64see weekly results here
Package 102/455HostnameOS / ArchINSTALLBUILDCHECKBUILD BIN
crlmm 1.60.0  (landing page)
Benilton S Carvalho
git_last_commit: 1271399
git_last_commit_date: 2023-10-24 09:41:39 -0400
nebbiolo2Linux (Ubuntu 22.04.3 LTS) / x86_64  OK    OK    WARNINGS  UNNEEDED, same version is already published
palomino4Windows Server 2022 Datacenter / x64  OK    OK    WARNINGS    OK  UNNEEDED, same version is already published
merida1macOS 12.7.1 Monterey / x86_64  OK    OK    WARNINGS    OK  UNNEEDED, same version is already published
kjohnson1macOS 13.6.1 Ventura / arm64see weekly results here
Package 103/455HostnameOS / ArchINSTALLBUILDCHECKBUILD BIN
crossmeta 1.28.0  (landing page)
Alex Pickering
git_last_commit: 3ae7537
git_last_commit_date: 2023-10-24 10:50:52 -0400
nebbiolo2Linux (Ubuntu 22.04.3 LTS) / x86_64  OK    OK    OK  UNNEEDED, same version is already published
palomino4Windows Server 2022 Datacenter / x64  OK    OK    OK    OK  UNNEEDED, same version is already published
merida1macOS 12.7.1 Monterey / x86_64  OK    OK    OK    OK  UNNEEDED, same version is already published
kjohnson1macOS 13.6.1 Ventura / arm64see weekly results here
Package 104/455HostnameOS / ArchINSTALLBUILDCHECKBUILD BIN
cummeRbund 2.44.0  (landing page)
Loyal A. Goff
git_last_commit: c4179c6
git_last_commit_date: 2023-10-24 09:48:13 -0400
nebbiolo2Linux (Ubuntu 22.04.3 LTS) / x86_64  OK    OK    WARNINGS  UNNEEDED, same version is already published
palomino4Windows Server 2022 Datacenter / x64  OK    OK    WARNINGS    OK  UNNEEDED, same version is already published
merida1macOS 12.7.1 Monterey / x86_64  OK    OK    WARNINGS    OK  UNNEEDED, same version is already published
kjohnson1macOS 13.6.1 Ventura / arm64see weekly results here
Package 105/455HostnameOS / ArchINSTALLBUILDCHECKBUILD BIN
cyanoFilter 1.10.0  (landing page)
Oluwafemi Olusoji
git_last_commit: ccfe340
git_last_commit_date: 2023-10-24 11:31:46 -0400
nebbiolo2Linux (Ubuntu 22.04.3 LTS) / x86_64  OK    OK    OK  UNNEEDED, same version is already published
palomino4Windows Server 2022 Datacenter / x64  OK    OK    OK    OK  UNNEEDED, same version is already published
merida1macOS 12.7.1 Monterey / x86_64  OK    OK    OK    OK  UNNEEDED, same version is already published
kjohnson1macOS 13.6.1 Ventura / arm64see weekly results here
Package 106/455HostnameOS / ArchINSTALLBUILDCHECKBUILD BIN
cycle 1.56.0  (landing page)
Matthias Futschik
git_last_commit: 366b8d5
git_last_commit_date: 2023-10-24 09:42:43 -0400
nebbiolo2Linux (Ubuntu 22.04.3 LTS) / x86_64  OK    OK    OK  UNNEEDED, same version is already published
palomino4Windows Server 2022 Datacenter / x64  OK    OK    OK    OK  UNNEEDED, same version is already published
merida1macOS 12.7.1 Monterey / x86_64  OK    OK    OK    OK  UNNEEDED, same version is already published
kjohnson1macOS 13.6.1 Ventura / arm64see weekly results here
Package 107/455HostnameOS / ArchINSTALLBUILDCHECKBUILD BIN
cydar 1.26.0  (landing page)
Aaron Lun
git_last_commit: 0191ed4
git_last_commit_date: 2023-10-24 10:56:16 -0400
nebbiolo2Linux (Ubuntu 22.04.3 LTS) / x86_64  OK    OK    OK  UNNEEDED, same version is already published
palomino4Windows Server 2022 Datacenter / x64  OK    OK    OK    OK  UNNEEDED, same version is already published
merida1macOS 12.7.1 Monterey / x86_64  OK    OK    OK    OK  UNNEEDED, same version is already published
kjohnson1macOS 13.6.1 Ventura / arm64see weekly results here
Package 108/455HostnameOS / ArchINSTALLBUILDCHECKBUILD BIN
CytoML 2.14.0  (landing page)
Mike Jiang
git_last_commit: 4710056
git_last_commit_date: 2023-10-24 10:51:13 -0400
nebbiolo2Linux (Ubuntu 22.04.3 LTS) / x86_64  OK    OK    WARNINGS  UNNEEDED, same version is already published
palomino4Windows Server 2022 Datacenter / x64  OK    OK    WARNINGS    OK  UNNEEDED, same version is already published
merida1macOS 12.7.1 Monterey / x86_64  OK    OK    WARNINGS    OK  UNNEEDED, same version is already published
kjohnson1macOS 13.6.1 Ventura / arm64see weekly results here
Package 109/455HostnameOS / ArchINSTALLBUILDCHECKBUILD BIN
DAPAR 1.34.6  (landing page)
Samuel Wieczorek
git_last_commit: 829b5ff
git_last_commit_date: 2024-02-15 01:08:59 -0400
nebbiolo2Linux (Ubuntu 22.04.3 LTS) / x86_64  OK    OK    OK  UNNEEDED, same version is already published
palomino4Windows Server 2022 Datacenter / x64  OK    OK    OK    OK  UNNEEDED, same version is already published
merida1macOS 12.7.1 Monterey / x86_64  OK    OK    OK    OK  UNNEEDED, same version is already published
kjohnson1macOS 13.6.1 Ventura / arm64see weekly results here
Package 110/455HostnameOS / ArchINSTALLBUILDCHECKBUILD BIN
ddCt 1.58.0  (landing page)
Jitao David Zhang
git_last_commit: 33ff3d4
git_last_commit_date: 2023-10-24 09:42:16 -0400
nebbiolo2Linux (Ubuntu 22.04.3 LTS) / x86_64  OK    OK    WARNINGS  UNNEEDED, same version is already published
palomino4Windows Server 2022 Datacenter / x64  OK    OK    WARNINGS    OK  UNNEEDED, same version is already published
merida1macOS 12.7.1 Monterey / x86_64  OK    OK    WARNINGS    OK  UNNEEDED, same version is already published
kjohnson1macOS 13.6.1 Ventura / arm64see weekly results here
Package 111/455HostnameOS / ArchINSTALLBUILDCHECKBUILD BIN
debCAM 1.20.0  (landing page)
Lulu Chen
git_last_commit: 6ad0999
git_last_commit_date: 2023-10-24 11:16:25 -0400
nebbiolo2Linux (Ubuntu 22.04.3 LTS) / x86_64  OK    OK    OK  UNNEEDED, same version is already published
palomino4Windows Server 2022 Datacenter / x64  OK    OK    OK    OK  UNNEEDED, same version is already published
merida1macOS 12.7.1 Monterey / x86_64  OK    OK    OK    OK  UNNEEDED, same version is already published
kjohnson1macOS 13.6.1 Ventura / arm64see weekly results here
Package 112/455HostnameOS / ArchINSTALLBUILDCHECKBUILD BIN
deco 1.18.0  (landing page)
Francisco Jose Campos Laborie
git_last_commit: e2f2dad
git_last_commit_date: 2023-10-24 11:10:03 -0400
nebbiolo2Linux (Ubuntu 22.04.3 LTS) / x86_64  OK    ERROR  skipped
palomino4Windows Server 2022 Datacenter / x64  OK    ERROR  skippedskipped
merida1macOS 12.7.1 Monterey / x86_64  OK    ERROR  skippedskipped
kjohnson1macOS 13.6.1 Ventura / arm64see weekly results here
Package 113/455HostnameOS / ArchINSTALLBUILDCHECKBUILD BIN
DEGreport 1.38.5  (landing page)
Lorena Pantano
git_last_commit: 672d8e5
git_last_commit_date: 2023-12-06 13:39:58 -0400
nebbiolo2Linux (Ubuntu 22.04.3 LTS) / x86_64  OK    OK    OK  UNNEEDED, same version is already published
palomino4Windows Server 2022 Datacenter / x64  OK    OK    OK    OK  UNNEEDED, same version is already published
merida1macOS 12.7.1 Monterey / x86_64  OK    OK    OK    OK  UNNEEDED, same version is already published
kjohnson1macOS 13.6.1 Ventura / arm64see weekly results here
Package 114/455HostnameOS / ArchINSTALLBUILDCHECKBUILD BIN
DESeq2 1.42.1  (landing page)
Michael Love
git_last_commit: 1c1c928
git_last_commit_date: 2024-03-06 10:49:39 -0400
nebbiolo2Linux (Ubuntu 22.04.3 LTS) / x86_64  OK    OK    OK  UNNEEDED, same version is already published
palomino4Windows Server 2022 Datacenter / x64  OK    OK    OK    OK  UNNEEDED, same version is already published
merida1macOS 12.7.1 Monterey / x86_64  OK    OK    OK    OK  UNNEEDED, same version is already published
kjohnson1macOS 13.6.1 Ventura / arm64see weekly results here
Package 115/455HostnameOS / ArchINSTALLBUILDCHECKBUILD BIN
destiny 3.16.0  (landing page)
Philipp Angerer
git_last_commit: 300eb29
git_last_commit_date: 2023-12-28 07:36:24 -0400
nebbiolo2Linux (Ubuntu 22.04.3 LTS) / x86_64  OK    OK    OK  UNNEEDED, same version is already published
palomino4Windows Server 2022 Datacenter / x64  OK    OK    OK    OK  UNNEEDED, same version is already published
merida1macOS 12.7.1 Monterey / x86_64  OK    OK    OK    OK  UNNEEDED, same version is already published
kjohnson1macOS 13.6.1 Ventura / arm64see weekly results here
Package 116/455HostnameOS / ArchINSTALLBUILDCHECKBUILD BIN
DExMA 1.10.7  (landing page)
Juan Antonio Villatoro-García
git_last_commit: dd6da1e
git_last_commit_date: 2023-12-05 03:55:46 -0400
nebbiolo2Linux (Ubuntu 22.04.3 LTS) / x86_64  OK    OK    OK  UNNEEDED, same version is already published
palomino4Windows Server 2022 Datacenter / x64  OK    OK    OK    OK  UNNEEDED, same version is already published
merida1macOS 12.7.1 Monterey / x86_64  OK    OK    OK    OK  UNNEEDED, same version is already published
kjohnson1macOS 13.6.1 Ventura / arm64see weekly results here
Package 117/455HostnameOS / ArchINSTALLBUILDCHECKBUILD BIN
DEXSeq 1.48.0  (landing page)
Alejandro Reyes
git_last_commit: 40ec7ae
git_last_commit_date: 2023-10-24 09:47:02 -0400
nebbiolo2Linux (Ubuntu 22.04.3 LTS) / x86_64  OK    OK    OK  UNNEEDED, same version is already published
palomino4Windows Server 2022 Datacenter / x64  OK    OK    OK    OK  UNNEEDED, same version is already published
merida1macOS 12.7.1 Monterey / x86_64  OK    OK    OK    OK  UNNEEDED, same version is already published
kjohnson1macOS 13.6.1 Ventura / arm64see weekly results here
Package 118/455HostnameOS / ArchINSTALLBUILDCHECKBUILD BIN
DFP 1.60.0  (landing page)
Rodrigo Alvarez-Glez
git_last_commit: 850ddad
git_last_commit_date: 2023-10-24 09:40:25 -0400
nebbiolo2Linux (Ubuntu 22.04.3 LTS) / x86_64  OK    OK    OK  UNNEEDED, same version is already published
palomino4Windows Server 2022 Datacenter / x64  OK    OK    OK    OK  UNNEEDED, same version is already published
merida1macOS 12.7.1 Monterey / x86_64  OK    OK    OK    OK  UNNEEDED, same version is already published
kjohnson1macOS 13.6.1 Ventura / arm64see weekly results here
Package 119/455HostnameOS / ArchINSTALLBUILDCHECKBUILD BIN
diggit 1.34.0  (landing page)
Mariano J Alvarez
git_last_commit: ad57507
git_last_commit_date: 2023-10-24 10:41:57 -0400
nebbiolo2Linux (Ubuntu 22.04.3 LTS) / x86_64  OK    OK    WARNINGS  UNNEEDED, same version is already published
palomino4Windows Server 2022 Datacenter / x64  OK    OK    WARNINGS    OK  UNNEEDED, same version is already published
merida1macOS 12.7.1 Monterey / x86_64  OK    OK    WARNINGS    OK  UNNEEDED, same version is already published
kjohnson1macOS 13.6.1 Ventura / arm64see weekly results here
Package 120/455HostnameOS / ArchINSTALLBUILDCHECKBUILD BIN
discordant 1.26.0  (landing page)
McGrath Max
git_last_commit: d10110d
git_last_commit_date: 2023-10-24 10:55:18 -0400
nebbiolo2Linux (Ubuntu 22.04.3 LTS) / x86_64  OK    OK    OK  UNNEEDED, same version is already published
palomino4Windows Server 2022 Datacenter / x64  OK    OK    OK    OK  UNNEEDED, same version is already published
merida1macOS 12.7.1 Monterey / x86_64  OK    OK    OK    OK  UNNEEDED, same version is already published
kjohnson1macOS 13.6.1 Ventura / arm64see weekly results here
Package 121/455HostnameOS / ArchINSTALLBUILDCHECKBUILD BIN
doppelgangR 1.30.0  (landing page)
Levi Waldron
git_last_commit: 2f9209e
git_last_commit_date: 2023-10-24 10:48:24 -0400
nebbiolo2Linux (Ubuntu 22.04.3 LTS) / x86_64  OK    OK    OK  UNNEEDED, same version is already published
palomino4Windows Server 2022 Datacenter / x64  OK    OK    OK    OK  UNNEEDED, same version is already published
merida1macOS 12.7.1 Monterey / x86_64  OK    OK    OK    OK  UNNEEDED, same version is already published
kjohnson1macOS 13.6.1 Ventura / arm64see weekly results here
Package 122/455HostnameOS / ArchINSTALLBUILDCHECKBUILD BIN
DSS 2.50.1  (landing page)
Hao Wu , Hao Feng
git_last_commit: 57860ca
git_last_commit_date: 2024-01-10 22:20:17 -0400
nebbiolo2Linux (Ubuntu 22.04.3 LTS) / x86_64  OK    OK    WARNINGS  UNNEEDED, same version is already published
palomino4Windows Server 2022 Datacenter / x64  OK    OK    WARNINGS    OK  UNNEEDED, same version is already published
merida1macOS 12.7.1 Monterey / x86_64  OK    OK    WARNINGS    OK  UNNEEDED, same version is already published
kjohnson1macOS 13.6.1 Ventura / arm64see weekly results here
Package 123/455HostnameOS / ArchINSTALLBUILDCHECKBUILD BIN
dyebias 1.62.0  (landing page)
Philip Lijnzaad
git_last_commit: 37a7100
git_last_commit_date: 2023-10-24 09:41:42 -0400
nebbiolo2Linux (Ubuntu 22.04.3 LTS) / x86_64  OK    OK    OK  UNNEEDED, same version is already published
palomino4Windows Server 2022 Datacenter / x64  OK    OK    OK    OK  UNNEEDED, same version is already published
merida1macOS 12.7.1 Monterey / x86_64  OK    OK    OK    OK  UNNEEDED, same version is already published
kjohnson1macOS 13.6.1 Ventura / arm64see weekly results here
Package 124/455HostnameOS / ArchINSTALLBUILDCHECKBUILD BIN
easyRNASeq 2.38.0  (landing page)
Nicolas Delhomme
git_last_commit: e7d99c2
git_last_commit_date: 2023-10-24 09:49:08 -0400
nebbiolo2Linux (Ubuntu 22.04.3 LTS) / x86_64  OK    OK    OK  UNNEEDED, same version is already published
palomino4Windows Server 2022 Datacenter / x64  OK    OK    OK    OK  UNNEEDED, same version is already published
merida1macOS 12.7.1 Monterey / x86_64  OK    OK    OK    OK  UNNEEDED, same version is already published
kjohnson1macOS 13.6.1 Ventura / arm64see weekly results here
Package 125/455HostnameOS / ArchINSTALLBUILDCHECKBUILD BIN
EBarrays 2.66.0  (landing page)
Ming Yuan
git_last_commit: 8f2e6be
git_last_commit_date: 2023-10-24 09:33:06 -0400
nebbiolo2Linux (Ubuntu 22.04.3 LTS) / x86_64  OK    OK    OK  UNNEEDED, same version is already published
palomino4Windows Server 2022 Datacenter / x64  OK    OK    OK    OK  UNNEEDED, same version is already published
merida1macOS 12.7.1 Monterey / x86_64  OK    OK    OK    OK  UNNEEDED, same version is already published
kjohnson1macOS 13.6.1 Ventura / arm64see weekly results here
Package 126/455HostnameOS / ArchINSTALLBUILDCHECKBUILD BIN
ecolitk 1.74.0  (landing page)
Laurent Gautier
git_last_commit: acc3029
git_last_commit_date: 2023-10-24 09:32:42 -0400
nebbiolo2Linux (Ubuntu 22.04.3 LTS) / x86_64  OK    OK    WARNINGS  UNNEEDED, same version is already published
palomino4Windows Server 2022 Datacenter / x64  OK    OK    WARNINGS    OK  UNNEEDED, same version is already published
merida1macOS 12.7.1 Monterey / x86_64  OK    OK    WARNINGS    OK  UNNEEDED, same version is already published
kjohnson1macOS 13.6.1 Ventura / arm64see weekly results here
Package 127/455HostnameOS / ArchINSTALLBUILDCHECKBUILD BIN
EDASeq 2.36.0  (landing page)
Davide Risso
git_last_commit: af70dab
git_last_commit_date: 2023-10-24 09:47:57 -0400
nebbiolo2Linux (Ubuntu 22.04.3 LTS) / x86_64  OK    OK    OK  UNNEEDED, same version is already published
palomino4Windows Server 2022 Datacenter / x64  OK    OK    OK    OK  UNNEEDED, same version is already published
merida1macOS 12.7.1 Monterey / x86_64  OK    OK    OK    OK  UNNEEDED, same version is already published
kjohnson1macOS 13.6.1 Ventura / arm64see weekly results here
Package 128/455HostnameOS / ArchINSTALLBUILDCHECKBUILD BIN
edge 2.34.0  (landing page)
John D. Storey , Andrew J. Bass
git_last_commit: 07c69be
git_last_commit_date: 2023-10-24 10:43:31 -0400
nebbiolo2Linux (Ubuntu 22.04.3 LTS) / x86_64  OK    OK    WARNINGS  UNNEEDED, same version is already published
palomino4Windows Server 2022 Datacenter / x64  OK    OK    WARNINGS    OK  UNNEEDED, same version is already published
merida1macOS 12.7.1 Monterey / x86_64  OK    OK    WARNINGS    OK  UNNEEDED, same version is already published
kjohnson1macOS 13.6.1 Ventura / arm64see weekly results here
Package 129/455HostnameOS / ArchINSTALLBUILDCHECKBUILD BIN
EGAD 1.30.0  (landing page)
Sara Ballouz
git_last_commit: d529277
git_last_commit_date: 2023-10-24 10:50:17 -0400
nebbiolo2Linux (Ubuntu 22.04.3 LTS) / x86_64  OK    OK    WARNINGS  UNNEEDED, same version is already published
palomino4Windows Server 2022 Datacenter / x64  OK    OK    WARNINGS    OK  UNNEEDED, same version is already published
merida1macOS 12.7.1 Monterey / x86_64  OK    OK    WARNINGS    OK  UNNEEDED, same version is already published
kjohnson1macOS 13.6.1 Ventura / arm64see weekly results here
Package 130/455HostnameOS / ArchINSTALLBUILDCHECKBUILD BIN
EGSEA 1.30.1  (landing page)
Monther Alhamdoosh
git_last_commit: 8e57e03
git_last_commit_date: 2024-01-14 07:13:13 -0400
nebbiolo2Linux (Ubuntu 22.04.3 LTS) / x86_64  OK    OK    OK  UNNEEDED, same version is already published
palomino4Windows Server 2022 Datacenter / x64  OK    OK    OK    OK  UNNEEDED, same version is already published
merida1macOS 12.7.1 Monterey / x86_64  OK    OK    OK    OK  UNNEEDED, same version is already published
kjohnson1macOS 13.6.1 Ventura / arm64see weekly results here
Package 131/455HostnameOS / ArchINSTALLBUILDCHECKBUILD BIN
ENmix 1.38.01  (landing page)
Zongli Xu
git_last_commit: 0a1ee50
git_last_commit_date: 2023-10-25 08:27:48 -0400
nebbiolo2Linux (Ubuntu 22.04.3 LTS) / x86_64  OK    OK    OK  UNNEEDED, same version is already published
palomino4Windows Server 2022 Datacenter / x64  OK    OK    OK    OK  UNNEEDED, same version is already published
merida1macOS 12.7.1 Monterey / x86_64  OK    OK    OK    OK  UNNEEDED, same version is already published
kjohnson1macOS 13.6.1 Ventura / arm64see weekly results here
Package 132/455HostnameOS / ArchINSTALLBUILDCHECKBUILD BIN
ensembldb 2.26.0  (landing page)
Johannes Rainer
git_last_commit: 7046d99
git_last_commit_date: 2023-10-24 10:42:20 -0400
nebbiolo2Linux (Ubuntu 22.04.3 LTS) / x86_64  OK    OK    OK  UNNEEDED, same version is already published
palomino4Windows Server 2022 Datacenter / x64  OK    OK    OK    OK  UNNEEDED, same version is already published
merida1macOS 12.7.1 Monterey / x86_64  OK    OK    OK    OK  UNNEEDED, same version is already published
kjohnson1macOS 13.6.1 Ventura / arm64see weekly results here
Package 133/455HostnameOS / ArchINSTALLBUILDCHECKBUILD BIN
epigenomix 1.42.0  (landing page)
Hans-Ulrich Klein
git_last_commit: 060951e
git_last_commit_date: 2023-10-24 09:53:11 -0400
nebbiolo2Linux (Ubuntu 22.04.3 LTS) / x86_64  OK    OK    OK  UNNEEDED, same version is already published
palomino4Windows Server 2022 Datacenter / x64  OK    OK    OK    OK  UNNEEDED, same version is already published
merida1macOS 12.7.1 Monterey / x86_64  OK    OK    OK    OK  UNNEEDED, same version is already published
kjohnson1macOS 13.6.1 Ventura / arm64see weekly results here
Package 134/455HostnameOS / ArchINSTALLBUILDCHECKBUILD BIN
EpiMix 1.4.0  (landing page)
Yuanning Zheng
git_last_commit: dd3578d
git_last_commit_date: 2023-10-24 11:43:01 -0400
nebbiolo2Linux (Ubuntu 22.04.3 LTS) / x86_64  OK    OK    OK  UNNEEDED, same version is already published
palomino4Windows Server 2022 Datacenter / x64  OK    OK    OK    OK  UNNEEDED, same version is already published
merida1macOS 12.7.1 Monterey / x86_64  OK    OK    OK    OK  UNNEEDED, same version is already published
kjohnson1macOS 13.6.1 Ventura / arm64see weekly results here
Package 135/455HostnameOS / ArchINSTALLBUILDCHECKBUILD BIN
epivizrData 1.30.0  (landing page)
Hector Corrada Bravo
git_last_commit: 83031e5
git_last_commit_date: 2023-10-24 10:50:04 -0400
nebbiolo2Linux (Ubuntu 22.04.3 LTS) / x86_64  OK    OK    OK  UNNEEDED, same version is already published
palomino4Windows Server 2022 Datacenter / x64  OK    OK    OK    OK  UNNEEDED, same version is already published
merida1macOS 12.7.1 Monterey / x86_64  OK    OK    OK    OK  UNNEEDED, same version is already published
kjohnson1macOS 13.6.1 Ventura / arm64see weekly results here
Package 136/455HostnameOS / ArchINSTALLBUILDCHECKBUILD BIN
erma 1.18.0  (landing page)
VJ Carey
git_last_commit: bed2908
git_last_commit_date: 2023-10-24 10:43:59 -0400
nebbiolo2Linux (Ubuntu 22.04.3 LTS) / x86_64  OK    OK    OK  UNNEEDED, same version is already published
palomino4Windows Server 2022 Datacenter / x64  OK    OK    OK    OK  UNNEEDED, same version is already published
merida1macOS 12.7.1 Monterey / x86_64  OK    OK    OK    OK  UNNEEDED, same version is already published
kjohnson1macOS 13.6.1 Ventura / arm64see weekly results here
Package 137/455HostnameOS / ArchINSTALLBUILDCHECKBUILD BIN
esetVis 1.28.2  (landing page)
Laure Cougnaud
git_last_commit: 35524e8
git_last_commit_date: 2024-01-04 12:44:49 -0400
nebbiolo2Linux (Ubuntu 22.04.3 LTS) / x86_64  OK    OK    OK  UNNEEDED, same version is already published
palomino4Windows Server 2022 Datacenter / x64  OK    OK    OK    OK  UNNEEDED, same version is already published
merida1macOS 12.7.1 Monterey / x86_64  OK    OK    OK    OK  UNNEEDED, same version is already published
kjohnson1macOS 13.6.1 Ventura / arm64see weekly results here
Package 138/455HostnameOS / ArchINSTALLBUILDCHECKBUILD BIN
ExiMiR 2.44.0  (landing page)
Sylvain Gubian
git_last_commit: 45c5a7f
git_last_commit_date: 2023-10-24 09:45:39 -0400
nebbiolo2Linux (Ubuntu 22.04.3 LTS) / x86_64  OK    OK    OK  UNNEEDED, same version is already published
palomino4Windows Server 2022 Datacenter / x64  OK    OK    OK    OK  UNNEEDED, same version is already published
merida1macOS 12.7.1 Monterey / x86_64  OK    OK    OK    OK  UNNEEDED, same version is already published
kjohnson1macOS 13.6.1 Ventura / arm64see weekly results here
Package 139/455HostnameOS / ArchINSTALLBUILDCHECKBUILD BIN
ExpressionAtlas 1.30.0  (landing page)
Pedro Madrigal
git_last_commit: 62d01ee
git_last_commit_date: 2023-10-24 10:47:44 -0400
nebbiolo2Linux (Ubuntu 22.04.3 LTS) / x86_64  OK    OK    OK  UNNEEDED, same version is already published
palomino4Windows Server 2022 Datacenter / x64  OK    OK    OK    OK  UNNEEDED, same version is already published
merida1macOS 12.7.1 Monterey / x86_64  OK    OK    OK    OK  UNNEEDED, same version is already published
kjohnson1macOS 13.6.1 Ventura / arm64see weekly results here
Package 140/455HostnameOS / ArchINSTALLBUILDCHECKBUILD BIN
fabia 2.48.0  (landing page)
Andreas Mitterecker
git_last_commit: 162c211
git_last_commit_date: 2023-10-24 09:44:16 -0400
nebbiolo2Linux (Ubuntu 22.04.3 LTS) / x86_64  OK    OK    WARNINGS  UNNEEDED, same version is already published
palomino4Windows Server 2022 Datacenter / x64  OK    OK    WARNINGS    OK  UNNEEDED, same version is already published
merida1macOS 12.7.1 Monterey / x86_64  OK    OK    WARNINGS    OK  UNNEEDED, same version is already published
kjohnson1macOS 13.6.1 Ventura / arm64see weekly results here
Package 141/455HostnameOS / ArchINSTALLBUILDCHECKBUILD BIN
factDesign 1.78.0  (landing page)
Denise Scholtens
git_last_commit: ca661fa
git_last_commit_date: 2023-10-24 09:32:31 -0400
nebbiolo2Linux (Ubuntu 22.04.3 LTS) / x86_64  OK    OK    OK  UNNEEDED, same version is already published
palomino4Windows Server 2022 Datacenter / x64  OK    OK    OK    OK  UNNEEDED, same version is already published
merida1macOS 12.7.1 Monterey / x86_64  OK    OK    OK    OK  UNNEEDED, same version is already published
kjohnson1macOS 13.6.1 Ventura / arm64see weekly results here
Package 142/455HostnameOS / ArchINSTALLBUILDCHECKBUILD BIN
farms 1.54.0  (landing page)
Djork-Arne Clevert
git_last_commit: 90b6bd5
git_last_commit_date: 2023-10-24 09:44:41 -0400
nebbiolo2Linux (Ubuntu 22.04.3 LTS) / x86_64  OK    OK    ERROR  
palomino4Windows Server 2022 Datacenter / x64  OK    OK    OK    OK  UNNEEDED, same version is already published
merida1macOS 12.7.1 Monterey / x86_64  OK    OK    OK    OK  UNNEEDED, same version is already published
kjohnson1macOS 13.6.1 Ventura / arm64see weekly results here
Package 143/455HostnameOS / ArchINSTALLBUILDCHECKBUILD BIN
fastseg 1.48.0  (landing page)
Alexander Blume
git_last_commit: fc54ac5
git_last_commit_date: 2023-10-24 09:48:50 -0400
nebbiolo2Linux (Ubuntu 22.04.3 LTS) / x86_64  OK    OK    OK  UNNEEDED, same version is already published
palomino4Windows Server 2022 Datacenter / x64  OK    OK    OK    OK  UNNEEDED, same version is already published
merida1macOS 12.7.1 Monterey / x86_64  OK    OK    OK    OK  UNNEEDED, same version is already published
kjohnson1macOS 13.6.1 Ventura / arm64see weekly results here
Package 144/455HostnameOS / ArchINSTALLBUILDCHECKBUILD BIN
ffpe 1.46.0  (landing page)
Levi Waldron
git_last_commit: 1c71bd5
git_last_commit_date: 2023-10-24 09:49:37 -0400
nebbiolo2Linux (Ubuntu 22.04.3 LTS) / x86_64  OK    OK    OK  UNNEEDED, same version is already published
palomino4Windows Server 2022 Datacenter / x64  OK    OK    OK    OK  UNNEEDED, same version is already published
merida1macOS 12.7.1 Monterey / x86_64  OK    OK    OK    OK  UNNEEDED, same version is already published
kjohnson1macOS 13.6.1 Ventura / arm64see weekly results here
Package 145/455HostnameOS / ArchINSTALLBUILDCHECKBUILD BIN
flowBeads 1.40.0  (landing page)
Nikolas Pontikos
git_last_commit: 9631ea0
git_last_commit_date: 2023-10-24 09:54:15 -0400
nebbiolo2Linux (Ubuntu 22.04.3 LTS) / x86_64  OK    OK    WARNINGS  UNNEEDED, same version is already published
palomino4Windows Server 2022 Datacenter / x64  OK    OK    WARNINGS    OK  UNNEEDED, same version is already published
merida1macOS 12.7.1 Monterey / x86_64  OK    OK    WARNINGS    OK  UNNEEDED, same version is already published
kjohnson1macOS 13.6.1 Ventura / arm64see weekly results here
Package 146/455HostnameOS / ArchINSTALLBUILDCHECKBUILD BIN
flowClust 3.40.0  (landing page)
Greg Finak , Mike Jiang
git_last_commit: 4acf935
git_last_commit_date: 2023-10-24 09:39:35 -0400
nebbiolo2Linux (Ubuntu 22.04.3 LTS) / x86_64  OK    OK    WARNINGS  UNNEEDED, same version is already published
palomino4Windows Server 2022 Datacenter / x64  OK    OK    WARNINGS    OK  UNNEEDED, same version is already published
merida1macOS 12.7.1 Monterey / x86_64  OK    OK    WARNINGS    OK  UNNEEDED, same version is already published
kjohnson1macOS 13.6.1 Ventura / arm64see weekly results here
Package 147/455HostnameOS / ArchINSTALLBUILDCHECKBUILD BIN
flowCore 2.14.2  (landing page)
Mike Jiang
git_last_commit: 45da1bc
git_last_commit_date: 2024-03-16 19:28:23 -0400
nebbiolo2Linux (Ubuntu 22.04.3 LTS) / x86_64  OK    OK    WARNINGS  UNNEEDED, same version is already published
palomino4Windows Server 2022 Datacenter / x64  OK    OK    WARNINGS    OK  UNNEEDED, same version is already published
merida1macOS 12.7.1 Monterey / x86_64  OK    OK    WARNINGS    OK  UNNEEDED, same version is already published
kjohnson1macOS 13.6.1 Ventura / arm64see weekly results here
Package 148/455HostnameOS / ArchINSTALLBUILDCHECKBUILD BIN
flowFP 1.60.0  (landing page)
Herb Holyst , Wade Rogers
git_last_commit: 5e8bb56
git_last_commit_date: 2023-10-24 09:42:09 -0400
nebbiolo2Linux (Ubuntu 22.04.3 LTS) / x86_64  OK    OK    OK  UNNEEDED, same version is already published
palomino4Windows Server 2022 Datacenter / x64  OK    OK    OK    OK  UNNEEDED, same version is already published
merida1macOS 12.7.1 Monterey / x86_64  OK    OK    OK    OK  UNNEEDED, same version is already published
kjohnson1macOS 13.6.1 Ventura / arm64see weekly results here
Package 149/455HostnameOS / ArchINSTALLBUILDCHECKBUILD BIN
flowMatch 1.38.0  (landing page)
Ariful Azad
git_last_commit: abd0beb
git_last_commit_date: 2023-10-24 09:56:54 -0400
nebbiolo2Linux (Ubuntu 22.04.3 LTS) / x86_64  OK    OK    OK  UNNEEDED, same version is already published
palomino4Windows Server 2022 Datacenter / x64  OK    OK    OK    OK  UNNEEDED, same version is already published
merida1macOS 12.7.1 Monterey / x86_64  OK    OK    OK    OK  UNNEEDED, same version is already published
kjohnson1macOS 13.6.1 Ventura / arm64see weekly results here
Package 150/455HostnameOS / ArchINSTALLBUILDCHECKBUILD BIN
flowMeans 1.62.0  (landing page)
Nima Aghaeepour
git_last_commit: 93d34a9
git_last_commit_date: 2023-10-24 09:43:55 -0400
nebbiolo2Linux (Ubuntu 22.04.3 LTS) / x86_64  OK    OK    OK  UNNEEDED, same version is already published
palomino4Windows Server 2022 Datacenter / x64  OK    OK    OK    OK  UNNEEDED, same version is already published
merida1macOS 12.7.1 Monterey / x86_64  OK    OK    OK    OK  UNNEEDED, same version is already published
kjohnson1macOS 13.6.1 Ventura / arm64see weekly results here
Package 151/455HostnameOS / ArchINSTALLBUILDCHECKBUILD BIN
flowSpecs 1.16.0  (landing page)
Jakob Theorell
git_last_commit: 3ebbbb3
git_last_commit_date: 2023-10-24 11:16:32 -0400
nebbiolo2Linux (Ubuntu 22.04.3 LTS) / x86_64  OK    OK    OK  UNNEEDED, same version is already published
palomino4Windows Server 2022 Datacenter / x64  OK    OK    OK    OK  UNNEEDED, same version is already published
merida1macOS 12.7.1 Monterey / x86_64  OK    OK    OK    OK  UNNEEDED, same version is already published
kjohnson1macOS 13.6.1 Ventura / arm64see weekly results here
Package 152/455HostnameOS / ArchINSTALLBUILDCHECKBUILD BIN
flowStats 4.14.1  (landing page)
Greg Finak , Mike Jiang
git_last_commit: 3dc62da
git_last_commit_date: 2024-01-17 20:15:02 -0400
nebbiolo2Linux (Ubuntu 22.04.3 LTS) / x86_64  OK    OK    WARNINGS  UNNEEDED, same version is already published
palomino4Windows Server 2022 Datacenter / x64  OK    OK    WARNINGS    OK  UNNEEDED, same version is already published
merida1macOS 12.7.1 Monterey / x86_64  OK    OK    WARNINGS    OK  UNNEEDED, same version is already published
kjohnson1macOS 13.6.1 Ventura / arm64see weekly results here
Package 153/455HostnameOS / ArchINSTALLBUILDCHECKBUILD BIN
flowViz 1.66.0  (landing page)
Mike Jiang
git_last_commit: a2a15f6
git_last_commit_date: 2023-10-24 09:37:33 -0400
nebbiolo2Linux (Ubuntu 22.04.3 LTS) / x86_64  OK    OK    OK  UNNEEDED, same version is already published
palomino4Windows Server 2022 Datacenter / x64  OK    OK    OK    OK  UNNEEDED, same version is already published
merida1macOS 12.7.1 Monterey / x86_64  OK    OK    OK    OK  UNNEEDED, same version is already published
kjohnson1macOS 13.6.1 Ventura / arm64see weekly results here
Package 154/455HostnameOS / ArchINSTALLBUILDCHECKBUILD BIN
flowWorkspace 4.14.3  (landing page)
Greg Finak , Mike Jiang
git_last_commit: 7447e9e
git_last_commit_date: 2024-03-16 19:34:59 -0400
nebbiolo2Linux (Ubuntu 22.04.3 LTS) / x86_64  OK    OK    WARNINGS  UNNEEDED, same version is already published
palomino4Windows Server 2022 Datacenter / x64  OK    OK    WARNINGS    OK  UNNEEDED, same version is already published
merida1macOS 12.7.1 Monterey / x86_64  OK    OK    WARNINGS    OK  UNNEEDED, same version is already published
kjohnson1macOS 13.6.1 Ventura / arm64see weekly results here
Package 155/455HostnameOS / ArchINSTALLBUILDCHECKBUILD BIN
FRASER 1.14.1  (landing page)
Christian Mertes
git_last_commit: 0a7204b
git_last_commit_date: 2024-02-11 14:03:18 -0400
nebbiolo2Linux (Ubuntu 22.04.3 LTS) / x86_64  OK    OK    OK  UNNEEDED, same version is already published
palomino4Windows Server 2022 Datacenter / x64  OK    OK    OK    OK  UNNEEDED, same version is already published
merida1macOS 12.7.1 Monterey / x86_64  OK    OK    OK    OK  UNNEEDED, same version is already published
kjohnson1macOS 13.6.1 Ventura / arm64see weekly results here
Package 156/455HostnameOS / ArchINSTALLBUILDCHECKBUILD BIN
frma 1.54.0  (landing page)
Matthew N. McCall
git_last_commit: 6bdb804
git_last_commit_date: 2023-10-24 09:43:06 -0400
nebbiolo2Linux (Ubuntu 22.04.3 LTS) / x86_64  OK    OK    OK  UNNEEDED, same version is already published
palomino4Windows Server 2022 Datacenter / x64  OK    OK    OK    OK  UNNEEDED, same version is already published
merida1macOS 12.7.1 Monterey / x86_64  OK    OK    OK    OK  UNNEEDED, same version is already published
kjohnson1macOS 13.6.1 Ventura / arm64see weekly results here
Package 157/455HostnameOS / ArchINSTALLBUILDCHECKBUILD BIN
frmaTools 1.54.0  (landing page)
Matthew N. McCall
git_last_commit: ef06a14
git_last_commit_date: 2023-10-24 09:43:09 -0400
nebbiolo2Linux (Ubuntu 22.04.3 LTS) / x86_64  OK    OK    OK  UNNEEDED, same version is already published
palomino4Windows Server 2022 Datacenter / x64  OK    OK    OK    OK  UNNEEDED, same version is already published
merida1macOS 12.7.1 Monterey / x86_64  OK    OK    OK    OK  UNNEEDED, same version is already published
kjohnson1macOS 13.6.1 Ventura / arm64see weekly results here
Package 158/455HostnameOS / ArchINSTALLBUILDCHECKBUILD BIN
gaga 2.48.0  (landing page)
David Rossell
git_last_commit: b7dc29e
git_last_commit_date: 2023-10-24 09:39:16 -0400
nebbiolo2Linux (Ubuntu 22.04.3 LTS) / x86_64  OK    OK    OK  UNNEEDED, same version is already published
palomino4Windows Server 2022 Datacenter / x64  OK    OK    WARNINGS    OK  UNNEEDED, same version is already published
merida1macOS 12.7.1 Monterey / x86_64  OK    OK    WARNINGS    OK  UNNEEDED, same version is already published
kjohnson1macOS 13.6.1 Ventura / arm64see weekly results here
Package 159/455HostnameOS / ArchINSTALLBUILDCHECKBUILD BIN
gCrisprTools 2.8.0  (landing page)
Russell Bainer
git_last_commit: b31fbe6
git_last_commit_date: 2023-10-24 10:52:32 -0400
nebbiolo2Linux (Ubuntu 22.04.3 LTS) / x86_64  OK    OK    OK  UNNEEDED, same version is already published
palomino4Windows Server 2022 Datacenter / x64  OK    OK    OK    OK  UNNEEDED, same version is already published
merida1macOS 12.7.1 Monterey / x86_64  OK    OK    OK    OK  UNNEEDED, same version is already published
kjohnson1macOS 13.6.1 Ventura / arm64see weekly results here
Package 160/455HostnameOS / ArchINSTALLBUILDCHECKBUILD BIN
gcrma 2.74.0  (landing page)
Z. Wu
git_last_commit: 1ceeafe
git_last_commit_date: 2023-10-24 09:32:13 -0400
nebbiolo2Linux (Ubuntu 22.04.3 LTS) / x86_64  OK    OK    OK  UNNEEDED, same version is already published
palomino4Windows Server 2022 Datacenter / x64  OK    OK    OK    OK  UNNEEDED, same version is already published
merida1macOS 12.7.1 Monterey / x86_64  OK    OK    OK    OK  UNNEEDED, same version is already published
kjohnson1macOS 13.6.1 Ventura / arm64see weekly results here
Package 161/455HostnameOS / ArchINSTALLBUILDCHECKBUILD BIN
GCSscore 1.16.0  (landing page)
Guy M. Harris
git_last_commit: 531fc1b
git_last_commit_date: 2023-10-24 11:17:54 -0400
nebbiolo2Linux (Ubuntu 22.04.3 LTS) / x86_64  OK    OK    ERROR  
palomino4Windows Server 2022 Datacenter / x64  OK    OK    WARNINGS    OK  UNNEEDED, same version is already published
merida1macOS 12.7.1 Monterey / x86_64  OK    OK    WARNINGS    OK  UNNEEDED, same version is already published
kjohnson1macOS 13.6.1 Ventura / arm64see weekly results here
Package 162/455HostnameOS / ArchINSTALLBUILDCHECKBUILD BIN
gemma.R 2.0.0  (landing page)
Ogan Mancarci
git_last_commit: 1f19014
git_last_commit_date: 2023-10-24 11:44:18 -0400
nebbiolo2Linux (Ubuntu 22.04.3 LTS) / x86_64  OK    ERROR  skipped
palomino4Windows Server 2022 Datacenter / x64  OK    ERROR  skippedskipped
merida1macOS 12.7.1 Monterey / x86_64  OK    ERROR  skippedskipped
kjohnson1macOS 13.6.1 Ventura / arm64see weekly results here
Package 163/455HostnameOS / ArchINSTALLBUILDCHECKBUILD BIN
genbankr 1.30.0  (landing page)
Gabriel Becker
git_last_commit: 900ea05
git_last_commit_date: 2023-10-24 10:49:41 -0400
nebbiolo2Linux (Ubuntu 22.04.3 LTS) / x86_64  OK    ERROR  skipped
palomino4Windows Server 2022 Datacenter / x64  OK    ERROR  skippedskipped
merida1macOS 12.7.1 Monterey / x86_64  OK    ERROR  skippedskipped
kjohnson1macOS 13.6.1 Ventura / arm64see weekly results here
Package 164/455HostnameOS / ArchINSTALLBUILDCHECKBUILD BIN
geneClassifiers 1.26.0  (landing page)
R Kuiper
git_last_commit: b3a557d
git_last_commit_date: 2023-10-24 10:55:26 -0400
nebbiolo2Linux (Ubuntu 22.04.3 LTS) / x86_64  OK    OK    OK  UNNEEDED, same version is already published
palomino4Windows Server 2022 Datacenter / x64  OK    OK    OK    OK  UNNEEDED, same version is already published
merida1macOS 12.7.1 Monterey / x86_64  OK    OK    OK    OK  UNNEEDED, same version is already published
kjohnson1macOS 13.6.1 Ventura / arm64see weekly results here
Package 165/455HostnameOS / ArchINSTALLBUILDCHECKBUILD BIN
GeneExpressionSignature 1.48.0  (landing page)
Yang Cao
git_last_commit: 7c09f09
git_last_commit_date: 2023-10-24 09:47:42 -0400
nebbiolo2Linux (Ubuntu 22.04.3 LTS) / x86_64  OK    OK    OK  UNNEEDED, same version is already published
palomino4Windows Server 2022 Datacenter / x64  OK    OK    OK    OK  UNNEEDED, same version is already published
merida1macOS 12.7.1 Monterey / x86_64  OK    OK    OK    OK  UNNEEDED, same version is already published
kjohnson1macOS 13.6.1 Ventura / arm64see weekly results here
Package 166/455HostnameOS / ArchINSTALLBUILDCHECKBUILD BIN
genefilter 1.84.0  (landing page)
Bioconductor Package Maintainer
git_last_commit: 94eca03
git_last_commit_date: 2023-10-24 09:31:26 -0400
nebbiolo2Linux (Ubuntu 22.04.3 LTS) / x86_64  OK    OK    WARNINGS  UNNEEDED, same version is already published
palomino4Windows Server 2022 Datacenter / x64  OK    OK    WARNINGS    OK  UNNEEDED, same version is already published
merida1macOS 12.7.1 Monterey / x86_64  OK    OK    WARNINGS    OK  UNNEEDED, same version is already published
kjohnson1macOS 13.6.1 Ventura / arm64see weekly results here
Package 167/455HostnameOS / ArchINSTALLBUILDCHECKBUILD BIN
GeneMeta 1.74.0  (landing page)
Bioconductor Package Maintainer
git_last_commit: 476eb5e
git_last_commit_date: 2023-10-24 09:35:17 -0400
nebbiolo2Linux (Ubuntu 22.04.3 LTS) / x86_64  OK    OK    OK  UNNEEDED, same version is already published
palomino4Windows Server 2022 Datacenter / x64  OK    OK    OK    OK  UNNEEDED, same version is already published
merida1macOS 12.7.1 Monterey / x86_64  OK    OK    OK    OK  UNNEEDED, same version is already published
kjohnson1macOS 13.6.1 Ventura / arm64see weekly results here
Package 168/455HostnameOS / ArchINSTALLBUILDCHECKBUILD BIN
geneplotter 1.80.0  (landing page)
Bioconductor Package Maintainer
git_last_commit: e304c8a
git_last_commit_date: 2023-10-24 09:31:30 -0400
nebbiolo2Linux (Ubuntu 22.04.3 LTS) / x86_64  OK    OK    OK  UNNEEDED, same version is already published
palomino4Windows Server 2022 Datacenter / x64  OK    OK    OK    OK  UNNEEDED, same version is already published
merida1macOS 12.7.1 Monterey / x86_64  OK    OK    OK    OK  UNNEEDED, same version is already published
kjohnson1macOS 13.6.1 Ventura / arm64see weekly results here
Package 169/455HostnameOS / ArchINSTALLBUILDCHECKBUILD BIN
geneRecommender 1.74.0  (landing page)
Greg Hather
git_last_commit: 33c4600
git_last_commit_date: 2023-10-24 09:35:05 -0400
nebbiolo2Linux (Ubuntu 22.04.3 LTS) / x86_64  OK    OK    OK  UNNEEDED, same version is already published
palomino4Windows Server 2022 Datacenter / x64  OK    OK    OK    OK  UNNEEDED, same version is already published
merida1macOS 12.7.1 Monterey / x86_64  OK    OK    OK    OK  UNNEEDED, same version is already published
kjohnson1macOS 13.6.1 Ventura / arm64see weekly results here
Package 170/455HostnameOS / ArchINSTALLBUILDCHECKBUILD BIN
GeneRegionScan 1.58.0  (landing page)
Lasse Folkersen
git_last_commit: e25ed80
git_last_commit_date: 2023-10-24 09:41:47 -0400
nebbiolo2Linux (Ubuntu 22.04.3 LTS) / x86_64  OK    OK    OK  UNNEEDED, same version is already published
palomino4Windows Server 2022 Datacenter / x64  OK    OK    OK    OK  UNNEEDED, same version is already published
merida1macOS 12.7.1 Monterey / x86_64  OK    OK    OK    OK  UNNEEDED, same version is already published
kjohnson1macOS 13.6.1 Ventura / arm64see weekly results here
Package 171/455HostnameOS / ArchINSTALLBUILDCHECKBUILD BIN
GeneSelectMMD 2.46.0  (landing page)
Weiliang Qiu
git_last_commit: 1000d0f
git_last_commit_date: 2023-10-24 09:41:36 -0400
nebbiolo2Linux (Ubuntu 22.04.3 LTS) / x86_64  OK    OK    WARNINGS  UNNEEDED, same version is already published
palomino4Windows Server 2022 Datacenter / x64  OK    OK    OK    OK  UNNEEDED, same version is already published
merida1macOS 12.7.1 Monterey / x86_64  OK    OK    WARNINGS    OK  UNNEEDED, same version is already published
kjohnson1macOS 13.6.1 Ventura / arm64see weekly results here
Package 172/455HostnameOS / ArchINSTALLBUILDCHECKBUILD BIN
GENESIS 2.32.0  (landing page)
Stephanie M. Gogarten
git_last_commit: 81fe6b1
git_last_commit_date: 2023-10-24 10:42:12 -0400
nebbiolo2Linux (Ubuntu 22.04.3 LTS) / x86_64  OK    OK    OK  UNNEEDED, same version is already published
palomino4Windows Server 2022 Datacenter / x64  OK    OK    OK    OK  UNNEEDED, same version is already published
merida1macOS 12.7.1 Monterey / x86_64  OK    OK    OK    OK  UNNEEDED, same version is already published
kjohnson1macOS 13.6.1 Ventura / arm64see weekly results here
Package 173/455HostnameOS / ArchINSTALLBUILDCHECKBUILD BIN
geNetClassifier 1.42.0  (landing page)
Sara Aibar
git_last_commit: d1bee03
git_last_commit_date: 2023-10-24 09:53:42 -0400
nebbiolo2Linux (Ubuntu 22.04.3 LTS) / x86_64  OK    OK    OK  UNNEEDED, same version is already published
palomino4Windows Server 2022 Datacenter / x64  OK    OK    OK    OK  UNNEEDED, same version is already published
merida1macOS 12.7.1 Monterey / x86_64  OK    OK    OK    OK  UNNEEDED, same version is already published
kjohnson1macOS 13.6.1 Ventura / arm64see weekly results here
Package 174/455HostnameOS / ArchINSTALLBUILDCHECKBUILD BIN
GenomicFeatures 1.54.4  (landing page)
H. Pagès
git_last_commit: 0d0ab32
git_last_commit_date: 2024-03-12 13:06:10 -0400
nebbiolo2Linux (Ubuntu 22.04.3 LTS) / x86_64  OK    OK    OK  UNNEEDED, same version is already published
palomino4Windows Server 2022 Datacenter / x64  OK    OK    OK    OK  UNNEEDED, same version is already published
merida1macOS 12.7.1 Monterey / x86_64  OK    OK    OK    OK  UNNEEDED, same version is already published
kjohnson1macOS 13.6.1 Ventura / arm64see weekly results here
Package 175/455HostnameOS / ArchINSTALLBUILDCHECKBUILD BIN
GenomicInteractions 1.36.0  (landing page)
Liz Ing-Simmons
git_last_commit: 879441e
git_last_commit_date: 2023-10-24 10:38:45 -0400
nebbiolo2Linux (Ubuntu 22.04.3 LTS) / x86_64  OK    OK    OK  UNNEEDED, same version is already published
palomino4Windows Server 2022 Datacenter / x64  OK    OK    OK    OK  UNNEEDED, same version is already published
merida1macOS 12.7.1 Monterey / x86_64  OK    OK    OK    OK  UNNEEDED, same version is already published
kjohnson1macOS 13.6.1 Ventura / arm64see weekly results here
Package 176/455HostnameOS / ArchINSTALLBUILDCHECKBUILD BIN
GenomicScores 2.14.3  (landing page)
Robert Castelo
git_last_commit: fba5ae0
git_last_commit_date: 2023-12-21 10:38:29 -0400
nebbiolo2Linux (Ubuntu 22.04.3 LTS) / x86_64  OK    OK    OK  UNNEEDED, same version is already published
palomino4Windows Server 2022 Datacenter / x64  OK    OK    OK    OK  UNNEEDED, same version is already published
merida1macOS 12.7.1 Monterey / x86_64  OK    OK    OK    OK  UNNEEDED, same version is already published
kjohnson1macOS 13.6.1 Ventura / arm64see weekly results here
Package 177/455HostnameOS / ArchINSTALLBUILDCHECKBUILD BIN
GenomicSuperSignature 1.10.0  (landing page)
Sehyun Oh
git_last_commit: 4f4ff12
git_last_commit_date: 2023-10-24 11:34:04 -0400
nebbiolo2Linux (Ubuntu 22.04.3 LTS) / x86_64  OK    OK    WARNINGS  UNNEEDED, same version is already published
palomino4Windows Server 2022 Datacenter / x64  OK    OK    WARNINGS    OK  UNNEEDED, same version is already published
merida1macOS 12.7.1 Monterey / x86_64  OK    OK    WARNINGS    OK  UNNEEDED, same version is already published
kjohnson1macOS 13.6.1 Ventura / arm64see weekly results here
Package 178/455HostnameOS / ArchINSTALLBUILDCHECKBUILD BIN
GeoDiff 1.8.0  (landing page)
Nicole Ortogero
git_last_commit: 924bdcc
git_last_commit_date: 2023-10-24 11:37:56 -0400
nebbiolo2Linux (Ubuntu 22.04.3 LTS) / x86_64  OK    OK    OK  UNNEEDED, same version is already published
palomino4Windows Server 2022 Datacenter / x64  OK    OK    OK    OK  UNNEEDED, same version is already published
merida1macOS 12.7.1 Monterey / x86_64  OK    OK    OK    OK  UNNEEDED, same version is already published
kjohnson1macOS 13.6.1 Ventura / arm64see weekly results here
Package 179/455HostnameOS / ArchINSTALLBUILDCHECKBUILD BIN
GEOexplorer 1.8.0  (landing page)
Guy Hunt
git_last_commit: b53ee6c
git_last_commit_date: 2023-10-24 11:35:27 -0400
nebbiolo2Linux (Ubuntu 22.04.3 LTS) / x86_64  OK    OK    WARNINGS  UNNEEDED, same version is already published
palomino4Windows Server 2022 Datacenter / x64  OK    OK    WARNINGS    OK  UNNEEDED, same version is already published
merida1macOS 12.7.1 Monterey / x86_64  OK    OK    WARNINGS    OK  UNNEEDED, same version is already published
kjohnson1macOS 13.6.1 Ventura / arm64see weekly results here
Package 180/455HostnameOS / ArchINSTALLBUILDCHECKBUILD BIN
GeomxTools 3.6.2  (landing page)
Maddy Griswold
git_last_commit: fb59586
git_last_commit_date: 2024-02-09 13:23:59 -0400
nebbiolo2Linux (Ubuntu 22.04.3 LTS) / x86_64  OK    OK    OK  UNNEEDED, same version is already published
palomino4Windows Server 2022 Datacenter / x64  OK    OK    OK    OK  UNNEEDED, same version is already published
merida1macOS 12.7.1 Monterey / x86_64  OK    ERROR  skippedskipped
kjohnson1macOS 13.6.1 Ventura / arm64see weekly results here
Package 181/455HostnameOS / ArchINSTALLBUILDCHECKBUILD BIN
GEOquery 2.70.0  (landing page)
Sean Davis
git_last_commit: 3f46879
git_last_commit_date: 2023-10-24 09:36:03 -0400
nebbiolo2Linux (Ubuntu 22.04.3 LTS) / x86_64  OK    OK    OK  UNNEEDED, same version is already published
palomino4Windows Server 2022 Datacenter / x64  OK    OK    OK    OK  UNNEEDED, same version is already published
merida1macOS 12.7.1 Monterey / x86_64  OK    OK    ERROR    OK  
kjohnson1macOS 13.6.1 Ventura / arm64see weekly results here
Package 182/455HostnameOS / ArchINSTALLBUILDCHECKBUILD BIN
GEOsubmission 1.54.0  (landing page)
Alexandre Kuhn
git_last_commit: 29171b7
git_last_commit_date: 2023-10-24 09:44:00 -0400
nebbiolo2Linux (Ubuntu 22.04.3 LTS) / x86_64  OK    OK    OK  UNNEEDED, same version is already published
palomino4Windows Server 2022 Datacenter / x64  OK    OK    OK    OK  UNNEEDED, same version is already published
merida1macOS 12.7.1 Monterey / x86_64  OK    OK    OK    OK  UNNEEDED, same version is already published
kjohnson1macOS 13.6.1 Ventura / arm64see weekly results here
Package 183/455HostnameOS / ArchINSTALLBUILDCHECKBUILD BIN
gep2pep 1.22.0  (landing page)
Francesco Napolitano
git_last_commit: 417bb03
git_last_commit_date: 2023-10-24 11:01:30 -0400
nebbiolo2Linux (Ubuntu 22.04.3 LTS) / x86_64  OK    OK    OK  UNNEEDED, same version is already published
palomino4Windows Server 2022 Datacenter / x64  OK    OK    OK    OK  UNNEEDED, same version is already published
merida1macOS 12.7.1 Monterey / x86_64  OK    OK    OK    OK  UNNEEDED, same version is already published
kjohnson1macOS 13.6.1 Ventura / arm64see weekly results here
Package 184/455HostnameOS / ArchINSTALLBUILDCHECKBUILD BIN
gespeR 1.34.0  (landing page)
Fabian Schmich
git_last_commit: 35e6043
git_last_commit_date: 2023-10-24 10:40:56 -0400
nebbiolo2Linux (Ubuntu 22.04.3 LTS) / x86_64  OK    OK    WARNINGS  UNNEEDED, same version is already published
palomino4Windows Server 2022 Datacenter / x64  OK    OK    WARNINGS    OK  UNNEEDED, same version is already published
merida1macOS 12.7.1 Monterey / x86_64  OK    OK    WARNINGS    OK  UNNEEDED, same version is already published
kjohnson1macOS 13.6.1 Ventura / arm64see weekly results here
Package 185/455HostnameOS / ArchINSTALLBUILDCHECKBUILD BIN
ggbio 1.50.0  (landing page)
Michael Lawrence
git_last_commit: ec89905
git_last_commit_date: 2023-10-24 09:48:30 -0400
nebbiolo2Linux (Ubuntu 22.04.3 LTS) / x86_64  OK    OK    WARNINGS  UNNEEDED, same version is already published
palomino4Windows Server 2022 Datacenter / x64  OK    OK    WARNINGS    OK  UNNEEDED, same version is already published
merida1macOS 12.7.1 Monterey / x86_64  OK    OK    WARNINGS    OK  UNNEEDED, same version is already published
kjohnson1macOS 13.6.1 Ventura / arm64see weekly results here
Package 186/455HostnameOS / ArchINSTALLBUILDCHECKBUILD BIN
girafe 1.54.0  (landing page)
J. Toedling
git_last_commit: 15a7530
git_last_commit_date: 2023-10-24 09:43:38 -0400
nebbiolo2Linux (Ubuntu 22.04.3 LTS) / x86_64  OK    OK    OK  UNNEEDED, same version is already published
palomino4Windows Server 2022 Datacenter / x64  OK    OK    OK    OK  UNNEEDED, same version is already published
merida1macOS 12.7.1 Monterey / x86_64  OK    OK    OK    OK  UNNEEDED, same version is already published
kjohnson1macOS 13.6.1 Ventura / arm64see weekly results here
Package 187/455HostnameOS / ArchINSTALLBUILDCHECKBUILD BIN
GISPA 1.26.0  (landing page)
Bhakti Dwivedi
git_last_commit: f8dceaf
git_last_commit_date: 2023-10-24 10:55:52 -0400
nebbiolo2Linux (Ubuntu 22.04.3 LTS) / x86_64  OK    OK    WARNINGS  UNNEEDED, same version is already published
palomino4Windows Server 2022 Datacenter / x64  OK    OK    WARNINGS    OK  UNNEEDED, same version is already published
merida1macOS 12.7.1 Monterey / x86_64  OK    OK    WARNINGS    OK  UNNEEDED, same version is already published
kjohnson1macOS 13.6.1 Ventura / arm64see weekly results here
Package 188/455HostnameOS / ArchINSTALLBUILDCHECKBUILD BIN
GlobalAncova 4.20.0  (landing page)
Manuela Hummel
git_last_commit: 062ee73
git_last_commit_date: 2023-10-24 09:35:40 -0400
nebbiolo2Linux (Ubuntu 22.04.3 LTS) / x86_64  OK    OK    OK  UNNEEDED, same version is already published
palomino4Windows Server 2022 Datacenter / x64  OK    OK    OK    OK  UNNEEDED, same version is already published
merida1macOS 12.7.1 Monterey / x86_64  OK    OK    OK    OK  UNNEEDED, same version is already published
kjohnson1macOS 13.6.1 Ventura / arm64see weekly results here
Package 189/455HostnameOS / ArchINSTALLBUILDCHECKBUILD BIN
globaltest 5.56.0  (landing page)
Jelle Goeman
git_last_commit: 7286ebb
git_last_commit_date: 2023-10-24 09:33:48 -0400
nebbiolo2Linux (Ubuntu 22.04.3 LTS) / x86_64  OK    OK    OK  UNNEEDED, same version is already published
palomino4Windows Server 2022 Datacenter / x64  OK    OK    OK    OK  UNNEEDED, same version is already published
merida1macOS 12.7.1 Monterey / x86_64  OK    OK    OK    OK  UNNEEDED, same version is already published
kjohnson1macOS 13.6.1 Ventura / arm64see weekly results here
Package 190/455HostnameOS / ArchINSTALLBUILDCHECKBUILD BIN
gmapR 1.44.0  (landing page)
Michael Lawrence
git_last_commit: 5a7a726
git_last_commit_date: 2024-01-18 16:27:39 -0400
nebbiolo2Linux (Ubuntu 22.04.3 LTS) / x86_64  OK