Index of /checkResults/3.18/bioc-LATEST/AHMassBank/raw-results/merida1

[ICO]NameLast modifiedSizeDescription

[DIR]Parent Directory  -  
[TXT]buildbin-out.txt18-Apr-2024 00:37 1.2K 
[   ]buildbin-summary.dcf18-Apr-2024 00:37 543  
[TXT]buildsrc-out.txt18-Apr-2024 00:37 827  
[   ]buildsrc-summary.dcf18-Apr-2024 00:37 435  
[TXT]checksrc-out.txt18-Apr-2024 00:37 3.1K 
[   ]checksrc-summary.dcf18-Apr-2024 00:37 454  
[TXT]install-out.txt18-Apr-2024 00:37 1.0K 
[   ]install-summary.dcf18-Apr-2024 00:37 274