Back to Build/check report for BioC 3.14 experimental data
ABCDEFGHIJKLMNOPQRSTUVWXY[Z]

This page was generated on 2021-10-16 15:51:46 -0400 (Sat, 16 Oct 2021).

BUILD results for zebrafishRNASeq on nebbiolo2

To the developers/maintainers of the zebrafishRNASeq package:
Make sure to use the following settings in order to reproduce any error or warning you see on this page.

raw results

Package 404/404HostnameOS / ArchINSTALLBUILDCHECK
zebrafishRNASeq 1.13.0  (landing page)
Davide Risso
Snapshot Date: 2021-10-16 09:30:02 -0400 (Sat, 16 Oct 2021)
git_url: https://git.bioconductor.org/packages/zebrafishRNASeq
git_branch: master
git_last_commit: 2115c5c
git_last_commit_date: 2021-05-19 11:47:25 -0400 (Wed, 19 May 2021)
nebbiolo2Linux (Ubuntu 20.04.2 LTS) / x86_64  OK    OK    OK  UNNEEDED, same version is already published

Summary

Package: zebrafishRNASeq
Version: 1.13.0
Command: /home/biocbuild/bbs-3.14-bioc/R/bin/R CMD build --keep-empty-dirs --no-resave-data zebrafishRNASeq
StartedAt: 2021-10-16 11:38:21 -0400 (Sat, 16 Oct 2021)
EndedAt: 2021-10-16 11:38:24 -0400 (Sat, 16 Oct 2021)
EllapsedTime: 3.4 seconds
RetCode: 0
Status:   OK  
PackageFile: zebrafishRNASeq_1.13.0.tar.gz
PackageFileSize: 353.5 KiB

Command output

##############################################################################
##############################################################################
###
### Running command:
###
###   /home/biocbuild/bbs-3.14-bioc/R/bin/R CMD build --keep-empty-dirs --no-resave-data zebrafishRNASeq
###
##############################################################################
##############################################################################


* checking for file ‘zebrafishRNASeq/DESCRIPTION’ ... OK
* preparing ‘zebrafishRNASeq’:
* checking DESCRIPTION meta-information ... OK
* installing the package to build vignettes
* creating vignettes ... OK
* checking for LF line-endings in source and make files and shell scripts
* checking for empty or unneeded directories
* looking to see if a ‘data/datalist’ file should be added
* building ‘zebrafishRNASeq_1.13.0.tar.gz’