Back to Build/check report for BioC 3.14 experimental data
ABCDEFGHIJKLMNOPQRSTUVWX[Y]Z

This page was generated on 2021-12-01 18:35:25 -0500 (Wed, 01 Dec 2021).

BUILD results for yeastRNASeq on nebbiolo2

To the developers/maintainers of the yeastRNASeq package:
Make sure to use the following settings in order to reproduce any error or warning you see on this page.

raw results

Package 407/408HostnameOS / ArchINSTALLBUILDCHECK
yeastRNASeq 0.32.0  (landing page)
J. Bullard
Snapshot Date: 2021-12-01 08:30:01 -0500 (Wed, 01 Dec 2021)
git_url: https://git.bioconductor.org/packages/yeastRNASeq
git_branch: RELEASE_3_14
git_last_commit: a54082c
git_last_commit_date: 2021-10-26 11:45:03 -0500 (Tue, 26 Oct 2021)
nebbiolo2Linux (Ubuntu 20.04.3 LTS) / x86_64  OK    OK    WARNINGS  UNNEEDED, same version is already published

Summary

Package: yeastRNASeq
Version: 0.32.0
Command: /home/biocbuild/bbs-3.14-bioc/R/bin/R CMD build --keep-empty-dirs --no-resave-data yeastRNASeq
StartedAt: 2021-12-01 14:39:48 -0500 (Wed, 01 Dec 2021)
EndedAt: 2021-12-01 14:40:23 -0500 (Wed, 01 Dec 2021)
EllapsedTime: 34.8 seconds
RetCode: 0
Status:   OK  
PackageFile: yeastRNASeq_0.32.0.tar.gz
PackageFileSize: 306.9 MiB

Command output

##############################################################################
##############################################################################
###
### Running command:
###
###   /home/biocbuild/bbs-3.14-bioc/R/bin/R CMD build --keep-empty-dirs --no-resave-data yeastRNASeq
###
##############################################################################
##############################################################################


* checking for file ‘yeastRNASeq/DESCRIPTION’ ... OK
* preparing ‘yeastRNASeq’:
* checking DESCRIPTION meta-information ... OK
* installing the package to build vignettes
* creating vignettes ... OK
* checking for LF line-endings in source and make files and shell scripts
* checking for empty or unneeded directories
* looking to see if a ‘data/datalist’ file should be added
* building ‘yeastRNASeq_0.32.0.tar.gz’