Back to Build/check report for BioC 3.14 experimental data
ABCDEFGHIJKLMNOPQRSTU[V]WXYZ

This page was generated on 2021-10-23 15:51:47 -0400 (Sat, 23 Oct 2021).

BUILD results for vulcandata on nebbiolo2

To the developers/maintainers of the vulcandata package:
Make sure to use the following settings in order to reproduce any error or warning you see on this page.

raw results

Package 399/408HostnameOS / ArchINSTALLBUILDCHECK
vulcandata 1.15.0  (landing page)
Federico M. Giorgi
Snapshot Date: 2021-10-23 09:30:01 -0400 (Sat, 23 Oct 2021)
git_url: https://git.bioconductor.org/packages/vulcandata
git_branch: master
git_last_commit: 88bc580
git_last_commit_date: 2021-05-19 12:01:27 -0400 (Wed, 19 May 2021)
nebbiolo2Linux (Ubuntu 20.04.2 LTS) / x86_64  OK    OK    OK  UNNEEDED, same version is already published

Summary

Package: vulcandata
Version: 1.15.0
Command: /home/biocbuild/bbs-3.14-bioc/R/bin/R CMD build --keep-empty-dirs --no-resave-data vulcandata
StartedAt: 2021-10-23 11:40:10 -0400 (Sat, 23 Oct 2021)
EndedAt: 2021-10-23 11:40:18 -0400 (Sat, 23 Oct 2021)
EllapsedTime: 7.9 seconds
RetCode: 0
Status:   OK  
PackageFile: vulcandata_1.15.0.tar.gz
PackageFileSize: 44.7 MiB

Command output

##############################################################################
##############################################################################
###
### Running command:
###
###   /home/biocbuild/bbs-3.14-bioc/R/bin/R CMD build --keep-empty-dirs --no-resave-data vulcandata
###
##############################################################################
##############################################################################


* checking for file ‘vulcandata/DESCRIPTION’ ... OK
* preparing ‘vulcandata’:
* checking DESCRIPTION meta-information ... OK
* installing the package to build vignettes
* creating vignettes ... OK
* checking for LF line-endings in source and make files and shell scripts
* checking for empty or unneeded directories
Omitted ‘LazyData’ from DESCRIPTION
* building ‘vulcandata_1.15.0.tar.gz’