Back to Build/check report for BioC 3.14 experimental data
ABCDEFGHIJKLMNOPQRS[T]UVWXYZ

This page was generated on 2021-10-21 15:52:04 -0400 (Thu, 21 Oct 2021).

BUILD results for tximportData on nebbiolo2

To the developers/maintainers of the tximportData package:
Make sure to use the following settings in order to reproduce any error or warning you see on this page.

raw results

Package 395/406HostnameOS / ArchINSTALLBUILDCHECK
tximportData 1.21.0  (landing page)
Michael Love
Snapshot Date: 2021-10-21 09:30:01 -0400 (Thu, 21 Oct 2021)
git_url: https://git.bioconductor.org/packages/tximportData
git_branch: master
git_last_commit: 0a02a70
git_last_commit_date: 2021-05-19 11:55:19 -0400 (Wed, 19 May 2021)
nebbiolo2Linux (Ubuntu 20.04.2 LTS) / x86_64  OK    OK    OK  UNNEEDED, same version is already published

Summary

Package: tximportData
Version: 1.21.0
Command: /home/biocbuild/bbs-3.14-bioc/R/bin/R CMD build --keep-empty-dirs --no-resave-data tximportData
StartedAt: 2021-10-21 11:39:15 -0400 (Thu, 21 Oct 2021)
EndedAt: 2021-10-21 11:40:05 -0400 (Thu, 21 Oct 2021)
EllapsedTime: 49.6 seconds
RetCode: 0
Status:   OK  
PackageFile: tximportData_1.21.0.tar.gz
PackageFileSize: 407 MiB

Command output

##############################################################################
##############################################################################
###
### Running command:
###
###   /home/biocbuild/bbs-3.14-bioc/R/bin/R CMD build --keep-empty-dirs --no-resave-data tximportData
###
##############################################################################
##############################################################################


* checking for file ‘tximportData/DESCRIPTION’ ... OK
* preparing ‘tximportData’:
* checking DESCRIPTION meta-information ... OK
* installing the package to build vignettes
* creating vignettes ... OK
* checking for LF line-endings in source and make files and shell scripts
* checking for empty or unneeded directories
* building ‘tximportData_1.21.0.tar.gz’