Back to Build/check report for BioC 3.14 experimental data
ABCDEFGHIJKLMNOPQRS[T]UVWXYZ

This page was generated on 2021-12-01 18:35:25 -0500 (Wed, 01 Dec 2021).

BUILD results for tweeDEseqCountData on nebbiolo2

To the developers/maintainers of the tweeDEseqCountData package:
Make sure to use the following settings in order to reproduce any error or warning you see on this page.

raw results

Package 396/408HostnameOS / ArchINSTALLBUILDCHECK
tweeDEseqCountData 1.32.0  (landing page)
Juan R Gonzalez
Snapshot Date: 2021-12-01 08:30:01 -0500 (Wed, 01 Dec 2021)
git_url: https://git.bioconductor.org/packages/tweeDEseqCountData
git_branch: RELEASE_3_14
git_last_commit: 3aa598f
git_last_commit_date: 2021-10-26 11:47:40 -0500 (Tue, 26 Oct 2021)
nebbiolo2Linux (Ubuntu 20.04.3 LTS) / x86_64  OK    OK    OK  UNNEEDED, same version is already published

Summary

Package: tweeDEseqCountData
Version: 1.32.0
Command: /home/biocbuild/bbs-3.14-bioc/R/bin/R CMD build --keep-empty-dirs --no-resave-data tweeDEseqCountData
StartedAt: 2021-12-01 14:39:09 -0500 (Wed, 01 Dec 2021)
EndedAt: 2021-12-01 14:39:12 -0500 (Wed, 01 Dec 2021)
EllapsedTime: 2.8 seconds
RetCode: 0
Status:   OK  
PackageFile: tweeDEseqCountData_1.32.0.tar.gz
PackageFileSize: 40.62 MiB

Command output

##############################################################################
##############################################################################
###
### Running command:
###
###   /home/biocbuild/bbs-3.14-bioc/R/bin/R CMD build --keep-empty-dirs --no-resave-data tweeDEseqCountData
###
##############################################################################
##############################################################################


* checking for file ‘tweeDEseqCountData/DESCRIPTION’ ... OK
* preparing ‘tweeDEseqCountData’:
* checking DESCRIPTION meta-information ... OK
* checking for LF line-endings in source and make files and shell scripts
* checking for empty or unneeded directories
* looking to see if a ‘data/datalist’ file should be added
* building ‘tweeDEseqCountData_1.32.0.tar.gz’