Index of /checkResults/3.14/data-experiment-LATEST/tinesath1probe/raw-results

[ICO]NameLast modifiedSizeDescription

[DIR]Parent Directory  -  
[   ]info.dcf25-Nov-2021 08:35 279  
[DIR]nebbiolo2/25-Nov-2021 08:35 -