Back to Build/check report for BioC 3.14 experimental data
ABCDEFGHIJKLMNOPQRS[T]UVWXYZ

This page was generated on 2021-10-26 15:52:19 -0400 (Tue, 26 Oct 2021).

BUILD results for tinesath1probe on nebbiolo2

To the developers/maintainers of the tinesath1probe package:
Make sure to use the following settings in order to reproduce any error or warning you see on this page.

raw results

Package 390/408HostnameOS / ArchINSTALLBUILDCHECK
tinesath1probe 1.31.0  (landing page)
Tine Casneuf
Snapshot Date: 2021-10-26 09:30:02 -0400 (Tue, 26 Oct 2021)
git_url: https://git.bioconductor.org/packages/tinesath1probe
git_branch: master
git_last_commit: e305115
git_last_commit_date: 2021-05-19 11:27:24 -0400 (Wed, 19 May 2021)
nebbiolo2Linux (Ubuntu 20.04.2 LTS) / x86_64  OK    OK    WARNINGS  UNNEEDED, same version is already published

Summary

Package: tinesath1probe
Version: 1.31.0
Command: /home/biocbuild/bbs-3.14-bioc/R/bin/R CMD build --keep-empty-dirs --no-resave-data tinesath1probe
StartedAt: 2021-10-26 11:41:04 -0400 (Tue, 26 Oct 2021)
EndedAt: 2021-10-26 11:41:05 -0400 (Tue, 26 Oct 2021)
EllapsedTime: 1.2 seconds
RetCode: 0
Status:   OK  
PackageFile: tinesath1probe_1.31.0.tar.gz
PackageFileSize: 3.037 MiB

Command output

##############################################################################
##############################################################################
###
### Running command:
###
###   /home/biocbuild/bbs-3.14-bioc/R/bin/R CMD build --keep-empty-dirs --no-resave-data tinesath1probe
###
##############################################################################
##############################################################################


* checking for file ‘tinesath1probe/DESCRIPTION’ ... OK
* preparing ‘tinesath1probe’:
* checking DESCRIPTION meta-information ... OK
* checking for LF line-endings in source and make files and shell scripts
* checking for empty or unneeded directories
* looking to see if a ‘data/datalist’ file should be added
* building ‘tinesath1probe_1.31.0.tar.gz’