Back to Build/check report for BioC 3.14 experimental data
ABCDEFGHIJKLMNOPQRS[T]UVWXYZ

This page was generated on 2021-10-16 15:51:46 -0400 (Sat, 16 Oct 2021).

INSTALL results for timecoursedata on nebbiolo2

To the developers/maintainers of the timecoursedata package:
Make sure to use the following settings in order to reproduce any error or warning you see on this page.

raw results

Package 383/404HostnameOS / ArchINSTALLBUILDCHECK
timecoursedata 1.3.2  (landing page)
Nelle Varoquaux
Snapshot Date: 2021-10-16 09:30:02 -0400 (Sat, 16 Oct 2021)
git_url: https://git.bioconductor.org/packages/timecoursedata
git_branch: master
git_last_commit: aadaf64
git_last_commit_date: 2021-06-30 08:20:13 -0400 (Wed, 30 Jun 2021)
nebbiolo2Linux (Ubuntu 20.04.2 LTS) / x86_64  OK    OK    OK  UNNEEDED, same version is already published

Summary

Package: timecoursedata
Version: 1.3.2
Command: /home/biocbuild/bbs-3.14-bioc/R/bin/R CMD INSTALL timecoursedata
StartedAt: 2021-10-16 11:01:39 -0400 (Sat, 16 Oct 2021)
EndedAt: 2021-10-16 11:01:57 -0400 (Sat, 16 Oct 2021)
EllapsedTime: 17.5 seconds
RetCode: 0
Status:   OK  

Command output

##############################################################################
##############################################################################
###
### Running command:
###
###   /home/biocbuild/bbs-3.14-bioc/R/bin/R CMD INSTALL timecoursedata
###
##############################################################################
##############################################################################


* installing to library ‘/home/biocbuild/bbs-3.14-bioc/R/library’
* installing *source* package ‘timecoursedata’ ...
** using staged installation
** R
** data
** byte-compile and prepare package for lazy loading
** help
*** installing help indices
** building package indices
** installing vignettes
** testing if installed package can be loaded from temporary location
** testing if installed package can be loaded from final location
** testing if installed package keeps a record of temporary installation path
* DONE (timecoursedata)