Back to Build/check report for BioC 3.14 experimental data
ABCDEFGHIJKLMNOPQRS[T]UVWXYZ

This page was generated on 2021-10-16 15:51:46 -0400 (Sat, 16 Oct 2021).

BUILD results for timecoursedata on nebbiolo2

To the developers/maintainers of the timecoursedata package:
Make sure to use the following settings in order to reproduce any error or warning you see on this page.

raw results

Package 383/404HostnameOS / ArchINSTALLBUILDCHECK
timecoursedata 1.3.2  (landing page)
Nelle Varoquaux
Snapshot Date: 2021-10-16 09:30:02 -0400 (Sat, 16 Oct 2021)
git_url: https://git.bioconductor.org/packages/timecoursedata
git_branch: master
git_last_commit: aadaf64
git_last_commit_date: 2021-06-30 08:20:13 -0400 (Wed, 30 Jun 2021)
nebbiolo2Linux (Ubuntu 20.04.2 LTS) / x86_64  OK    OK    OK  UNNEEDED, same version is already published

Summary

Package: timecoursedata
Version: 1.3.2
Command: /home/biocbuild/bbs-3.14-bioc/R/bin/R CMD build --keep-empty-dirs --no-resave-data timecoursedata
StartedAt: 2021-10-16 11:37:06 -0400 (Sat, 16 Oct 2021)
EndedAt: 2021-10-16 11:37:36 -0400 (Sat, 16 Oct 2021)
EllapsedTime: 30.3 seconds
RetCode: 0
Status:   OK  
PackageFile: timecoursedata_1.3.2.tar.gz
PackageFileSize: 44.87 MiB

Command output

##############################################################################
##############################################################################
###
### Running command:
###
###   /home/biocbuild/bbs-3.14-bioc/R/bin/R CMD build --keep-empty-dirs --no-resave-data timecoursedata
###
##############################################################################
##############################################################################


* checking for file ‘timecoursedata/DESCRIPTION’ ... OK
* preparing ‘timecoursedata’:
* checking DESCRIPTION meta-information ... OK
* installing the package to build vignettes
* creating vignettes ... OK
* checking for LF line-endings in source and make files and shell scripts
* checking for empty or unneeded directories
* looking to see if a ‘data/datalist’ file should be added
* building ‘timecoursedata_1.3.2.tar.gz’