Back to Build/check report for BioC 3.14 experimental data
ABCDEFGHIJKLMNOPQRS[T]UVWXYZ

This page was generated on 2021-10-19 15:52:17 -0400 (Tue, 19 Oct 2021).

All results for package timecoursedata

To the developers/maintainers of the timecoursedata package:
Make sure to use the following settings in order to reproduce any error or warning you see on this page.

raw results

Package 383/404HostnameOS / ArchINSTALLBUILDCHECK
timecoursedata 1.3.2  (landing page)
Nelle Varoquaux
Snapshot Date: 2021-10-19 09:30:02 -0400 (Tue, 19 Oct 2021)
git_url: https://git.bioconductor.org/packages/timecoursedata
git_branch: master
git_last_commit: aadaf64
git_last_commit_date: 2021-06-30 08:20:13 -0400 (Wed, 30 Jun 2021)
nebbiolo2Linux (Ubuntu 20.04.2 LTS) / x86_64  OK    OK    OK  UNNEEDED, same version is already published