Back to Build/check report for BioC 3.14 experimental data
ABCDEFGHIJKLMNOPQRS[T]UVWXYZ

This page was generated on 2021-10-16 15:51:46 -0400 (Sat, 16 Oct 2021).

INSTALL results for tcgaWGBSData.hg19 on nebbiolo2

To the developers/maintainers of the tcgaWGBSData.hg19 package:
Make sure to use the following settings in order to reproduce any error or warning you see on this page.

raw results

Package 377/404HostnameOS / ArchINSTALLBUILDCHECK
tcgaWGBSData.hg19 1.11.1  (landing page)
Divy Kangeyan
Snapshot Date: 2021-10-16 09:30:02 -0400 (Sat, 16 Oct 2021)
git_url: https://git.bioconductor.org/packages/tcgaWGBSData.hg19
git_branch: master
git_last_commit: 4d5f0e4
git_last_commit_date: 2021-08-11 10:46:51 -0400 (Wed, 11 Aug 2021)
nebbiolo2Linux (Ubuntu 20.04.2 LTS) / x86_64  OK    OK    WARNINGS  UNNEEDED, same version is already published

Summary

Package: tcgaWGBSData.hg19
Version: 1.11.1
Command: /home/biocbuild/bbs-3.14-bioc/R/bin/R CMD INSTALL tcgaWGBSData.hg19
StartedAt: 2021-10-16 11:05:08 -0400 (Sat, 16 Oct 2021)
EndedAt: 2021-10-16 11:05:38 -0400 (Sat, 16 Oct 2021)
EllapsedTime: 29.6 seconds
RetCode: 0
Status:   OK  

Command output

##############################################################################
##############################################################################
###
### Running command:
###
###   /home/biocbuild/bbs-3.14-bioc/R/bin/R CMD INSTALL tcgaWGBSData.hg19
###
##############################################################################
##############################################################################


* installing to library ‘/home/biocbuild/bbs-3.14-bioc/R/library’
* installing *source* package ‘tcgaWGBSData.hg19’ ...
** using staged installation
** R
** inst
** byte-compile and prepare package for lazy loading
** help
*** installing help indices
** building package indices
** installing vignettes
** testing if installed package can be loaded from temporary location
Warning: Package 'tcgaWGBSData.hg19' is deprecated and will be removed from
  Bioconductor version 3.15
** testing if installed package can be loaded from final location
Warning: Package 'tcgaWGBSData.hg19' is deprecated and will be removed from
  Bioconductor version 3.15
** testing if installed package keeps a record of temporary installation path
* DONE (tcgaWGBSData.hg19)