Back to Build/check report for BioC 3.14 experimental data
ABCDEFGHIJKLMNOPQR[S]TUVWXYZ

This page was generated on 2021-10-16 15:51:46 -0400 (Sat, 16 Oct 2021).

INSTALL results for systemPipeRdata on nebbiolo2

To the developers/maintainers of the systemPipeRdata package:
Make sure to use the following settings in order to reproduce any error or warning you see on this page.

raw results

Package 366/404HostnameOS / ArchINSTALLBUILDCHECK
systemPipeRdata 1.21.4  (landing page)
Thomas Girke
Snapshot Date: 2021-10-16 09:30:02 -0400 (Sat, 16 Oct 2021)
git_url: https://git.bioconductor.org/packages/systemPipeRdata
git_branch: master
git_last_commit: 93fe6c5
git_last_commit_date: 2021-09-30 16:15:07 -0400 (Thu, 30 Sep 2021)
nebbiolo2Linux (Ubuntu 20.04.2 LTS) / x86_64  OK    OK    OK  UNNEEDED, same version is already published

Summary

Package: systemPipeRdata
Version: 1.21.4
Command: /home/biocbuild/bbs-3.14-bioc/R/bin/R CMD INSTALL systemPipeRdata
StartedAt: 2021-10-16 11:02:16 -0400 (Sat, 16 Oct 2021)
EndedAt: 2021-10-16 11:02:18 -0400 (Sat, 16 Oct 2021)
EllapsedTime: 2.4 seconds
RetCode: 0
Status:   OK  

Command output

##############################################################################
##############################################################################
###
### Running command:
###
###   /home/biocbuild/bbs-3.14-bioc/R/bin/R CMD INSTALL systemPipeRdata
###
##############################################################################
##############################################################################


* installing to library ‘/home/biocbuild/bbs-3.14-bioc/R/library’
* installing *source* package ‘systemPipeRdata’ ...
** using staged installation
** R
** inst
** byte-compile and prepare package for lazy loading
** help
*** installing help indices
** building package indices
** installing vignettes
** testing if installed package can be loaded from temporary location
** testing if installed package can be loaded from final location
** testing if installed package keeps a record of temporary installation path
* DONE (systemPipeRdata)