Back to Build/check report for BioC 3.14 experimental data
ABCDEFGHIJKLMNOPQR[S]TUVWXYZ

This page was generated on 2021-10-26 15:52:19 -0400 (Tue, 26 Oct 2021).

BUILD results for systemPipeRdata on nebbiolo2

To the developers/maintainers of the systemPipeRdata package:
Make sure to use the following settings in order to reproduce any error or warning you see on this page.

raw results

Package 370/408HostnameOS / ArchINSTALLBUILDCHECK
systemPipeRdata 1.21.4  (landing page)
Thomas Girke
Snapshot Date: 2021-10-26 09:30:02 -0400 (Tue, 26 Oct 2021)
git_url: https://git.bioconductor.org/packages/systemPipeRdata
git_branch: master
git_last_commit: 93fe6c5
git_last_commit_date: 2021-09-30 16:15:07 -0400 (Thu, 30 Sep 2021)
nebbiolo2Linux (Ubuntu 20.04.2 LTS) / x86_64  OK    OK    OK  UNNEEDED, same version is already published

Summary

Package: systemPipeRdata
Version: 1.21.4
Command: /home/biocbuild/bbs-3.14-bioc/R/bin/R CMD build --keep-empty-dirs --no-resave-data systemPipeRdata
StartedAt: 2021-10-26 11:38:56 -0400 (Tue, 26 Oct 2021)
EndedAt: 2021-10-26 11:39:36 -0400 (Tue, 26 Oct 2021)
EllapsedTime: 40.3 seconds
RetCode: 0
Status:   OK  
PackageFile: systemPipeRdata_1.21.4.tar.gz
PackageFileSize: 258.3 MiB

Command output

##############################################################################
##############################################################################
###
### Running command:
###
###   /home/biocbuild/bbs-3.14-bioc/R/bin/R CMD build --keep-empty-dirs --no-resave-data systemPipeRdata
###
##############################################################################
##############################################################################


* checking for file ‘systemPipeRdata/DESCRIPTION’ ... OK
* preparing ‘systemPipeRdata’:
* checking DESCRIPTION meta-information ... OK
* installing the package to build vignettes
* creating vignettes ... OK
* checking for LF line-endings in source and make files and shell scripts
* checking for empty or unneeded directories
* building ‘systemPipeRdata_1.21.4.tar.gz’