Back to Build/check report for BioC 3.14 experimental data
ABCDEFGHIJKLMNOPQR[S]TUVWXYZ

This page was generated on 2021-10-16 15:51:45 -0400 (Sat, 16 Oct 2021).

All results for package synapterdata

To the developers/maintainers of the synapterdata package:
Make sure to use the following settings in order to reproduce any error or warning you see on this page.

raw results

Package 365/404HostnameOS / ArchINSTALLBUILDCHECK
synapterdata 1.31.0  (landing page)
Laurent Gatto
Snapshot Date: 2021-10-16 09:30:02 -0400 (Sat, 16 Oct 2021)
git_url: https://git.bioconductor.org/packages/synapterdata
git_branch: master
git_last_commit: df411c3
git_last_commit_date: 2021-05-19 11:34:23 -0400 (Wed, 19 May 2021)
nebbiolo2Linux (Ubuntu 20.04.2 LTS) / x86_64  OK    OK    OK  UNNEEDED, same version is already published