Back to Build/check report for BioC 3.14 experimental data
ABCDEFGHIJKLMNOPQR[S]TUVWXYZ

This page was generated on 2021-10-26 15:52:18 -0400 (Tue, 26 Oct 2021).

All results for package spatialDmelxsim

To the developers/maintainers of the spatialDmelxsim package:
Make sure to use the following settings in order to reproduce any error or warning you see on this page.

raw results

Package 360/408HostnameOS / ArchINSTALLBUILDCHECK
spatialDmelxsim 0.99.11  (landing page)
Michael Love
Snapshot Date: 2021-10-26 09:30:02 -0400 (Tue, 26 Oct 2021)
git_url: https://git.bioconductor.org/packages/spatialDmelxsim
git_branch: master
git_last_commit: 1a5ad11
git_last_commit_date: 2021-08-01 01:57:48 -0400 (Sun, 01 Aug 2021)
nebbiolo2Linux (Ubuntu 20.04.2 LTS) / x86_64  OK    OK    OK  UNNEEDED, same version is already published