Back to Build/check report for BioC 3.14 experimental data
ABCDEFGHIJKLMNOPQR[S]TUVWXYZ

This page was generated on 2021-10-16 15:51:46 -0400 (Sat, 16 Oct 2021).

BUILD results for shinyMethylData on nebbiolo2

To the developers/maintainers of the shinyMethylData package:
Make sure to use the following settings in order to reproduce any error or warning you see on this page.

raw results

Package 344/404HostnameOS / ArchINSTALLBUILDCHECK
shinyMethylData 1.13.0  (landing page)
Jean-Philippe Fortin
Snapshot Date: 2021-10-16 09:30:02 -0400 (Sat, 16 Oct 2021)
git_url: https://git.bioconductor.org/packages/shinyMethylData
git_branch: master
git_last_commit: 839c7b2
git_last_commit_date: 2021-05-19 11:47:42 -0400 (Wed, 19 May 2021)
nebbiolo2Linux (Ubuntu 20.04.2 LTS) / x86_64  OK    OK    WARNINGS  UNNEEDED, same version is already published

Summary

Package: shinyMethylData
Version: 1.13.0
Command: /home/biocbuild/bbs-3.14-bioc/R/bin/R CMD build --keep-empty-dirs --no-resave-data shinyMethylData
StartedAt: 2021-10-16 11:33:43 -0400 (Sat, 16 Oct 2021)
EndedAt: 2021-10-16 11:33:45 -0400 (Sat, 16 Oct 2021)
EllapsedTime: 2.2 seconds
RetCode: 0
Status:   OK  
PackageFile: shinyMethylData_1.13.0.tar.gz
PackageFileSize: 35.58 MiB

Command output

##############################################################################
##############################################################################
###
### Running command:
###
###   /home/biocbuild/bbs-3.14-bioc/R/bin/R CMD build --keep-empty-dirs --no-resave-data shinyMethylData
###
##############################################################################
##############################################################################


* checking for file ‘shinyMethylData/DESCRIPTION’ ... OK
* preparing ‘shinyMethylData’:
* checking DESCRIPTION meta-information ... OK
* checking for LF line-endings in source and make files and shell scripts
* checking for empty or unneeded directories
* building ‘shinyMethylData_1.13.0.tar.gz’