Back to Build/check report for BioC 3.14 experimental data
ABCDEFGHIJKLMNOPQR[S]TUVWXYZ

This page was generated on 2021-10-26 15:52:18 -0400 (Tue, 26 Oct 2021).

All results for package serumStimulation

To the developers/maintainers of the serumStimulation package:
Make sure to use the following settings in order to reproduce any error or warning you see on this page.

raw results

Package 345/408HostnameOS / ArchINSTALLBUILDCHECK
serumStimulation 1.29.0  (landing page)
Morten Hansen,
Snapshot Date: 2021-10-26 09:30:02 -0400 (Tue, 26 Oct 2021)
git_url: https://git.bioconductor.org/packages/serumStimulation
git_branch: master
git_last_commit: f1587da
git_last_commit_date: 2021-05-19 11:33:17 -0400 (Wed, 19 May 2021)
nebbiolo2Linux (Ubuntu 20.04.2 LTS) / x86_64  OK    OK    OK  UNNEEDED, same version is already published