Back to Build/check report for BioC 3.14 experimental data
ABCDEFGHIJKLMNOPQR[S]TUVWXYZ

This page was generated on 2021-10-23 15:51:46 -0400 (Sat, 23 Oct 2021).

All results for package seqc

To the developers/maintainers of the seqc package:
Make sure to use the following settings in order to reproduce any error or warning you see on this page.

raw results

Package 343/408HostnameOS / ArchINSTALLBUILDCHECK
seqc 1.27.0  (landing page)
Yang Liao and Wei Shi
Snapshot Date: 2021-10-23 09:30:01 -0400 (Sat, 23 Oct 2021)
git_url: https://git.bioconductor.org/packages/seqc
git_branch: master
git_last_commit: 19190e2
git_last_commit_date: 2021-05-19 11:49:03 -0400 (Wed, 19 May 2021)
nebbiolo2Linux (Ubuntu 20.04.2 LTS) / x86_64  OK    OK    WARNINGS  UNNEEDED, same version is already published